BEGIN:VCALENDAR
VERSION:2.0
PRODID:icalendar-ruby
CALSCALE:GREGORIAN
BEGIN:VTIMEZONE
TZID:America/New_York
BEGIN:DAYLIGHT
DTSTART:20260308T030000
TZOFFSETFROM:-0500
TZOFFSETTO:-0400
RRULE:FREQ=YEARLY;BYDAY=2SU;BYMONTH=3
TZNAME:EDT
END:DAYLIGHT
BEGIN:STANDARD
DTSTART:20261101T010000
TZOFFSETFROM:-0400
TZOFFSETTO:-0500
RRULE:FREQ=YEARLY;BYDAY=1SU;BYMONTH=11
TZNAME:EST
END:STANDARD
END:VTIMEZONE
BEGIN:VEVENT
DTSTAMP:20260421T163501Z
UID:0251e39b-e3da-4ff6-a40e-435df139cdf4
DTSTART;VALUE=DATE:20260420
DTEND;VALUE=DATE:20260428
DESCRIPTION:
LOCATION:
SUMMARY:Student Gov't Campaigns
END:VEVENT
BEGIN:VEVENT
DTSTAMP:20260421T163501Z
UID:c6c1b0b2-8bfb-4db1-89bd-ba5557c2b987
DTSTART;VALUE=DATE:20260420
DTEND;VALUE=DATE:20260422
DESCRIPTION:
LOCATION:
SUMMARY:Varsity Boys Golf @ the Hurricane Invitational (Southern Pines GC)
END:VEVENT
BEGIN:VEVENT
DTSTAMP:20260421T163501Z
UID:c1bd2a76-f958-4d40-bb19-15f01b4ae13f
DTSTART:20260421T173000
DTEND:20260421T213000
DESCRIPTION:
LOCATION:
SUMMARY:C-Team/Varsity Girls Soccer vs. York
END:VEVENT
BEGIN:VEVENT
DTSTAMP:20260421T163501Z
UID:b32ba159-05c4-4a11-b61e-38ed98ebf94b
DTSTART:20260421T173000
DTEND:20260421T193000
DESCRIPTION:
LOCATION:
SUMMARY:JV Softball vs. Chesnee
END:VEVENT
BEGIN:VEVENT
DTSTAMP:20260421T163501Z
UID:46e5fae7-d1fe-45cc-b424-78a73f2349f4
DTSTART:20260421T180000
DTEND:20260421T203000
DESCRIPTION:
LOCATION:
SUMMARY:C-Team Baseball vs. Boiling Springs Middle
END:VEVENT
BEGIN:VEVENT
DTSTAMP:20260421T163501Z
UID:2c8db6b0-9b1d-4104-b565-41444243d0c7
DTSTART:20260421T180000
DTEND:20260421T203000
DESCRIPTION:
LOCATION:
SUMMARY:Varsity Baseball @ Boiling Springs
END:VEVENT
BEGIN:VEVENT
DTSTAMP:20260421T163501Z
UID:be4aaa35-9131-4260-b1dc-caf19a316842
DTSTART:20260421T183000
DTEND:20260421T210000
DESCRIPTION:
LOCATION:
SUMMARY:Varsity Softball @ Riverside
END:VEVENT
BEGIN:VEVENT
DTSTAMP:20260421T163501Z
UID:d279bfd2-c17e-4b3c-bb2a-861ebe066136
DTSTART:20260421T190000
DTEND:20260421T210000
DESCRIPTION:
LOCATION:
SUMMARY:Varsity Girls Soccer vs. York
END:VEVENT
BEGIN:VEVENT
DTSTAMP:20260421T163501Z
UID:3eb209df-6f4f-479f-b925-45808cec38b5
DTSTART:20260422T083000
DTEND:20260422T103000
DESCRIPTION:
LOCATION:
SUMMARY:Motivational Speaker
END:VEVENT
BEGIN:VEVENT
DTSTAMP:20260421T163501Z
UID:be120062-9748-4cb2-b689-4c3306638975
DTSTART:20260422T160000
DTEND:20260422T190000
DESCRIPTION:
LOCATION:
SUMMARY:JV Golf @ Dorman (Three Pines)
END:VEVENT
BEGIN:VEVENT
DTSTAMP:20260421T163501Z
UID:4780092b-c033-4a4c-b057-8ed8d87778ca
DTSTART:20260422T183000
DTEND:20260422T210000
DESCRIPTION:
LOCATION:
SUMMARY:Varsity Baseball vs. Clinton
END:VEVENT
BEGIN:VEVENT
DTSTAMP:20260421T163501Z
UID:43391461-8f2e-4fbb-bfbb-20de52669cda
DTSTART;VALUE=DATE:20260423
DTEND;VALUE=DATE:20260424
DESCRIPTION:
LOCATION:
SUMMARY:Varsity Boys Golf @ TC Ezell Invitational (Meadowbrook GC)
END:VEVENT
BEGIN:VEVENT
DTSTAMP:20260421T163501Z
UID:a86a6b76-621e-4bbf-b273-733d8d8eb6e2
DTSTART:20260423T073000
DTEND:20260423T080000
DESCRIPTION:
LOCATION:
SUMMARY:Principal's Advisory/Hope Squad Meeting in Library
END:VEVENT
BEGIN:VEVENT
DTSTAMP:20260421T163501Z
UID:0cea5113-cec1-4a5c-b727-ca2ec6b81449
DTSTART:20260423T164500
DTEND:20260423T210000
DESCRIPTION:
LOCATION:
SUMMARY:Track & Field  @ Home (Senior Night)
END:VEVENT
BEGIN:VEVENT
DTSTAMP:20260421T163501Z
UID:c112dd1c-54f9-4e48-ad55-0988b0aa0c73
DTSTART:20260423T170000
DTEND:20260423T193000
DESCRIPTION:
LOCATION:
SUMMARY:Boys Tennis @ Chapman
END:VEVENT
BEGIN:VEVENT
DTSTAMP:20260421T163501Z
UID:c6452670-30a1-41fb-905f-c33bb624df68
DTSTART:20260423T170000
DTEND:20260423T213000
DESCRIPTION:
LOCATION:
SUMMARY:C-Team/JV Baseball @ Boiling Springs
END:VEVENT
BEGIN:VEVENT
DTSTAMP:20260421T163501Z
UID:748e87c1-329a-4501-9ed8-7516ec9c40bd
DTSTART:20260423T170000
DTEND:20260423T180000
DESCRIPTION:
LOCATION:
SUMMARY:Mandatory Parent Meeting for Football Players - cafeteria
END:VEVENT
BEGIN:VEVENT
DTSTAMP:20260421T163501Z
UID:27e4e8f8-b806-4c56-82d2-404194648612
DTSTART:20260423T173000
DTEND:20260423T213000
DESCRIPTION:
LOCATION:
SUMMARY:JV/Varsity Boys Soccer @ Riverside
END:VEVENT
BEGIN:VEVENT
DTSTAMP:20260421T163501Z
UID:4b38734c-f8ec-4ca7-a4da-0e746b7b79a9
DTSTART:20260423T180000
DTEND:20260423T200000
DESCRIPTION:
LOCATION:
SUMMARY:Varsity Girls Soccer vs. Riverside
END:VEVENT
BEGIN:VEVENT
DTSTAMP:20260421T163501Z
UID:ba7b1976-c289-4d3a-80e4-450ab267feb1
DTSTART:20260423T183000
DTEND:20260423T203000
DESCRIPTION:
LOCATION:
SUMMARY:Varsity Softball @ Spartanburg
END:VEVENT
BEGIN:VEVENT
DTSTAMP:20260421T163501Z
UID:5e775b75-dd96-437d-bead-005f65d15c5a
DTSTART:20260424T080000
DTEND:20260424T140000
DESCRIPTION:
LOCATION:
SUMMARY:Special Olympics  
END:VEVENT
BEGIN:VEVENT
DTSTAMP:20260421T163501Z
UID:39eae4bd-ac09-4d46-a03f-dea33eaea558
DTSTART:20260424T130000
DTEND:20260424T193000
DESCRIPTION:
LOCATION:
SUMMARY:Varsity Boys Golf @ Tom Fleischer Invitational (Rock Hill CC)
END:VEVENT
BEGIN:VEVENT
DTSTAMP:20260421T163501Z
UID:3e2d7ec0-c17f-4598-9999-e03e86c168e3
DTSTART:20260424T180000
DTEND:20260424T200000
DESCRIPTION:
LOCATION:
SUMMARY:Varsity Boys Soccer vs. Oakbrook Prep
END:VEVENT
BEGIN:VEVENT
DTSTAMP:20260421T163501Z
UID:d23a0db2-107b-48f4-922e-fbc03853a034
DTSTART:20260424T183000
DTEND:20260424T210000
DESCRIPTION:
LOCATION:
SUMMARY:Varsity Baseball vs. Boiling Springs
END:VEVENT
BEGIN:VEVENT
DTSTAMP:20260421T163501Z
UID:0942d5fe-fe12-48fc-90bc-46c41282a89e
DTSTART:20260424T183000
DTEND:20260424T203000
DESCRIPTION:
LOCATION:
SUMMARY:Varsity Girls Soccer vs. Dorman
END:VEVENT
BEGIN:VEVENT
DTSTAMP:20260421T163501Z
UID:817c4c0d-d641-458c-ae11-6134a3fe1f31
DTSTART:20260424T183000
DTEND:20260424T213000
DESCRIPTION:
LOCATION:
SUMMARY:Varsity Softball vs. Dorman
END:VEVENT
BEGIN:VEVENT
DTSTAMP:20260421T163501Z
UID:65010f63-435d-4c56-9aab-198934774733
DTSTART:20260425T190000
DTEND:20260425T230000
DESCRIPTION:
LOCATION:
SUMMARY:ROTC Military Ball
END:VEVENT
BEGIN:VEVENT
DTSTAMP:20260421T163501Z
UID:80f01cd1-4363-47b1-8782-ad48053b8fa9
DTSTART;VALUE=DATE:20260427
DTEND;VALUE=DATE:20260428
DESCRIPTION:
LOCATION:
SUMMARY:Varsity Boys Golf @ Region 2 5A Tournament
END:VEVENT
BEGIN:VEVENT
DTSTAMP:20260421T163501Z
UID:48c09860-c23f-4311-a166-c76f04a6fc5d
DTSTART:20260427T180000
DTEND:20260427T200000
DESCRIPTION:
LOCATION:
SUMMARY:C-Team Boys Soccer @ Oakbrook Prep
END:VEVENT
BEGIN:VEVENT
DTSTAMP:20260421T163501Z
UID:ab000054-a7f6-430f-abe6-2d1d8f04c095
DTSTART:20260427T183000
DTEND:20260427T213000
DESCRIPTION:
LOCATION:
SUMMARY:Varsity Baseball vs. South Pointe
END:VEVENT
BEGIN:VEVENT
DTSTAMP:20260421T163501Z
UID:121528a6-e23e-4b5d-be77-0377a0c55d7b
DTSTART;VALUE=DATE:20260428
DTEND;VALUE=DATE:20260429
DESCRIPTION:
LOCATION:
SUMMARY:Student Gov't Elections
END:VEVENT
BEGIN:VEVENT
DTSTAMP:20260421T163501Z
UID:90bd7fee-450a-44a4-b4fa-33f643be5e35
DTSTART:20260428T170000
DTEND:20260428T210000
DESCRIPTION:
LOCATION:
SUMMARY:Track & Field - Regional Meet @ Dorman
END:VEVENT
BEGIN:VEVENT
DTSTAMP:20260421T163501Z
UID:19dd9b41-ff6d-48d8-8941-b3e03f50f711
DTSTART:20260428T173000
DTEND:20260428T210000
DESCRIPTION:
LOCATION:
SUMMARY:JV/Varsity Boys Soccer @ Wade Hampton
END:VEVENT
BEGIN:VEVENT
DTSTAMP:20260421T163501Z
UID:2e3c977b-93f5-4d00-8732-c1463e8208e6
DTSTART:20260428T180000
DTEND:20260428T200000
DESCRIPTION:
LOCATION:
SUMMARY:Varsity Girls Soccer vs. Wade Hampton
END:VEVENT
BEGIN:VEVENT
DTSTAMP:20260421T163501Z
UID:db4ced61-aa58-4210-9d73-0e3cd9d036a3
DTSTART:20260428T183000
DTEND:20260428T213000
DESCRIPTION:
LOCATION:
SUMMARY:Varsity Baseball vs. Riverside
END:VEVENT
BEGIN:VEVENT
DTSTAMP:20260421T163501Z
UID:06b15e3a-37ae-4d1f-b022-46b7801b972a
DTSTART:20260428T183000
DTEND:20260428T203000
DESCRIPTION:
LOCATION:
SUMMARY:Varsity Softball @ Wade Hampton
END:VEVENT
BEGIN:VEVENT
DTSTAMP:20260421T163501Z
UID:91f47c04-57e4-474c-85d6-5b2afc5a487b
DTSTART:20260429T170000
DTEND:20260429T210000
DESCRIPTION:
LOCATION:
SUMMARY:Track & Field - Regional Meet @ Dorman
END:VEVENT
BEGIN:VEVENT
DTSTAMP:20260421T163501Z
UID:c71e70db-0d62-4f0c-b6e8-8276ae5fca60
DTSTART:20260429T183000
DTEND:20260429T213000
DESCRIPTION:
LOCATION:
SUMMARY:Varsity Baseball @ Clinton
END:VEVENT
BEGIN:VEVENT
DTSTAMP:20260421T163501Z
UID:3a8c8d0a-0ea2-49f1-a4cf-ca37784a4ee4
DTSTART:20260430T080000
DTEND:20260430T110000
DESCRIPTION:
LOCATION:
SUMMARY:Yearbook Day
END:VEVENT
BEGIN:VEVENT
DTSTAMP:20260421T163501Z
UID:5176c8d6-96ae-4c4f-b501-1cb543c1ce9f
DTSTART:20260430T111500
DTEND:20260430T134500
DESCRIPTION:
LOCATION:
SUMMARY:ROTC Cookout
END:VEVENT
BEGIN:VEVENT
DTSTAMP:20260421T163501Z
UID:09fb4596-0c43-4c9b-9250-58229d8b568d
DTSTART:20260430T140000
DTEND:20260430T153000
DESCRIPTION:
LOCATION:
SUMMARY:Faculty vs. Staff Basketball Game
END:VEVENT
BEGIN:VEVENT
DTSTAMP:20260421T163501Z
UID:8265cd78-441e-4172-89ad-cca6b20b83d4
DTSTART:20260430T173000
DTEND:20260430T213000
DESCRIPTION:
LOCATION:
SUMMARY:JV Baseball vs. Riverside
END:VEVENT
BEGIN:VEVENT
DTSTAMP:20260421T163501Z
UID:14add51f-7fe1-4cd6-ba69-578941f7a99c
DTSTART:20260430T180000
DTEND:20260430T213000
DESCRIPTION:
LOCATION:
SUMMARY:Varsity Softball vs. Northwestern (Senior Night)
END:VEVENT
BEGIN:VEVENT
DTSTAMP:20260421T163501Z
UID:b31b9180-86c0-42f0-85f0-ffe15e591a95
DTSTART;VALUE=DATE:20260501
DTEND;VALUE=DATE:20260502
DESCRIPTION:
LOCATION:
SUMMARY:Varsity Boys Golf @ Southern Cross (Palmetto GC)
END:VEVENT
BEGIN:VEVENT
DTSTAMP:20260421T163501Z
UID:7f2574ec-7d8e-46f0-90c6-7a75a1e091f4
DTSTART:20260501T080000
DTEND:20260501T134500
DESCRIPTION:
LOCATION:
SUMMARY:Prom Bash - 11th & 12th graders
END:VEVENT
BEGIN:VEVENT
DTSTAMP:20260421T163501Z
UID:b66bed8a-6758-452b-a1c1-4a4ec2ff29a4
DTSTART:20260501T111500
DTEND:20260501T134500
DESCRIPTION:
LOCATION:
SUMMARY:Food Truck Friday - during both lunch shifts
END:VEVENT
BEGIN:VEVENT
DTSTAMP:20260421T163501Z
UID:fcf5cf68-df71-4733-a5c2-4d9fe5cb4607
DTSTART:20260501T173000
DTEND:20260501T193000
DESCRIPTION:
LOCATION:
SUMMARY:Varsity Girls Soccer vs. Chesnee
END:VEVENT
BEGIN:VEVENT
DTSTAMP:20260421T163501Z
UID:a42b124a-0a42-4489-87b2-5ac2a7203a7f
DTSTART:20260501T183000
DTEND:20260501T213000
DESCRIPTION:
LOCATION:
SUMMARY:Varsity Baseball @ Riverside
END:VEVENT
BEGIN:VEVENT
DTSTAMP:20260421T163501Z
UID:e17e66e0-b479-4c89-92b1-c550dfbaf92f
DTSTART:20260501T190000
DTEND:20260501T213000
DESCRIPTION:
LOCATION:
SUMMARY:Varsity Boys Soccer vs. Chesnee 
END:VEVENT
BEGIN:VEVENT
DTSTAMP:20260421T163501Z
UID:a09a5a97-fe5a-4536-94b7-ca09a36a3431
DTSTART:20260502T193000
DTEND:20260502T230000
DESCRIPTION:
LOCATION:
SUMMARY:GHS Jr./Sr. Prom - @ Rancho Guerrero
END:VEVENT
BEGIN:VEVENT
DTSTAMP:20260421T163501Z
UID:52990613-218a-4b21-8d80-a0c556ceffbb
DTSTART;VALUE=DATE:20260504
DTEND;VALUE=DATE:20260509
DESCRIPTION:
LOCATION:
SUMMARY:Teacher Appreciation Week
END:VEVENT
BEGIN:VEVENT
DTSTAMP:20260421T163501Z
UID:16e31af7-01ba-4fd0-a788-08c216d24b7d
DTSTART;VALUE=DATE:20260504
DTEND;VALUE=DATE:20260505
DESCRIPTION:
LOCATION:
SUMMARY:Varsity Boys Golf - Upper State Qualifiers (The Fort GC)
END:VEVENT
BEGIN:VEVENT
DTSTAMP:20260421T163501Z
UID:c1ae80ee-26a2-4195-a73c-1e71c278c2bb
DTSTART:20260504T100000
DTEND:20260504T110000
DESCRIPTION:
LOCATION:
SUMMARY:Academic Signing Day
END:VEVENT
BEGIN:VEVENT
DTSTAMP:20260421T163501Z
UID:daecab8f-c9c0-4a3a-9f88-35979dd57007
DTSTART:20260507T180000
DTEND:20260507T200000
DESCRIPTION:
LOCATION:
SUMMARY:Band Spring Concert
END:VEVENT
BEGIN:VEVENT
DTSTAMP:20260421T163501Z
UID:0857bd01-8450-4e6b-a225-db47bcbac638
DTSTART;VALUE=DATE:20260509
DTEND;VALUE=DATE:20260510
DESCRIPTION:
LOCATION:
SUMMARY:Track & Field State Qualifier
END:VEVENT
BEGIN:VEVENT
DTSTAMP:20260421T163501Z
UID:d721bfdb-83d9-43c5-a03d-045cfc0f096f
DTSTART:20260509T090000
DTEND:20260509T120000
DESCRIPTION:
LOCATION:
SUMMARY:Attendance Make-up - students must have signed up to attend & signe
 d in by 8:55am
END:VEVENT
BEGIN:VEVENT
DTSTAMP:20260421T163501Z
UID:105d3961-3bbd-479f-8f2e-742cdcba2eb2
DTSTART;VALUE=DATE:20260511
DTEND;VALUE=DATE:20260512
DESCRIPTION:
LOCATION:
SUMMARY:Varsity Boys Golf - State Championship (Myrtle Beach)
END:VEVENT
BEGIN:VEVENT
DTSTAMP:20260421T163501Z
UID:20d40c9a-7283-4f21-89fc-6de915f817fc
DTSTART:20260511T180000
DTEND:20260511T200000
DESCRIPTION:
LOCATION:
SUMMARY:Senior Awards Day - invitations will be sent to those receiving rec
 ognition
END:VEVENT
BEGIN:VEVENT
DTSTAMP:20260421T163501Z
UID:f9f9d0fb-5260-4b84-ac36-5ca08e821c6d
DTSTART:20260512T080000
DTEND:20260512T111500
DESCRIPTION:
LOCATION:
SUMMARY:1st Block Senior & EOC Exams
END:VEVENT
BEGIN:VEVENT
DTSTAMP:20260421T163501Z
UID:d1831800-bc08-44da-a5e4-61325e214abf
DTSTART:20260512T180000
DTEND:20260512T200000
DESCRIPTION:
LOCATION:
SUMMARY:Chorus Spring Concert
END:VEVENT
BEGIN:VEVENT
DTSTAMP:20260421T163501Z
UID:df735e4d-54ef-445d-858f-e8ab5df74b4d
DTSTART:20260513T080000
DTEND:20260513T111500
DESCRIPTION:
LOCATION:
SUMMARY:2nd block Senior & EOC Exams
END:VEVENT
BEGIN:VEVENT
DTSTAMP:20260421T163501Z
UID:40435ee0-71b5-4cae-b795-c97fdde37c9e
DTSTART;VALUE=DATE:20260514
DTEND;VALUE=DATE:20260515
DESCRIPTION:
LOCATION:
SUMMARY:Senior Laptops Must Be Returned
END:VEVENT
BEGIN:VEVENT
DTSTAMP:20260421T163501Z
UID:ad6433d7-596b-41bd-96c0-ad53bb67d159
DTSTART;VALUE=DATE:20260514
DTEND;VALUE=DATE:20260515
DESCRIPTION:
LOCATION:
SUMMARY:Senior Parking Spots MUST be painted black DEADLINE
END:VEVENT
BEGIN:VEVENT
DTSTAMP:20260421T163501Z
UID:e462180e-0238-41d9-9064-412d0d09a944
DTSTART:20260514T080000
DTEND:20260514T111500
DESCRIPTION:
LOCATION:
SUMMARY:3rd Block Senior & EOC Exams
END:VEVENT
BEGIN:VEVENT
DTSTAMP:20260421T163501Z
UID:53c0ab3a-f25a-468e-8fdb-75c33b3331f8
DTSTART;VALUE=DATE:20260515
DTEND;VALUE=DATE:20260516
DESCRIPTION:
LOCATION:
SUMMARY:Senior Trip to Dollywood
END:VEVENT
BEGIN:VEVENT
DTSTAMP:20260421T163501Z
UID:140ded87-b92c-416a-aec2-acc634105a79
DTSTART:20260515T080000
DTEND:20260515T111500
DESCRIPTION:
LOCATION:
SUMMARY:4th Block Senior & EOC Exams
END:VEVENT
BEGIN:VEVENT
DTSTAMP:20260421T163501Z
UID:a1859be1-0ae5-4316-91b2-3a30d321d8e6
DTSTART:20260515T193000
DTEND:20260515T220000
DESCRIPTION:
LOCATION:
SUMMARY:Spring Football Game
END:VEVENT
BEGIN:VEVENT
DTSTAMP:20260421T163501Z
UID:ed2ada2f-d415-4bca-89dd-363b4b64e7a8
DTSTART;VALUE=DATE:20260516
DTEND;VALUE=DATE:20260517
DESCRIPTION:
LOCATION:
SUMMARY:Track & Field State 5A Division 2 Meet @ Richland NE
END:VEVENT
BEGIN:VEVENT
DTSTAMP:20260421T163501Z
UID:7a36ec95-8f2e-4998-b624-552af4858b2b
DTSTART:20260521T083000
DTEND:20260521T120000
DESCRIPTION:
LOCATION:
SUMMARY:Graduation Practice - MANDATORY ATTENDANCE FOR SENIORS
END:VEVENT
BEGIN:VEVENT
DTSTAMP:20260421T163501Z
UID:9368dee1-678d-4db5-8979-3b033b441513
DTSTART:20260521T200000
DTEND:20260521T213000
DESCRIPTION:
LOCATION:
SUMMARY:Graduation
END:VEVENT
BEGIN:VEVENT
DTSTAMP:20260421T163501Z
UID:64147ec6-3b18-4a07-8fad-45c599cf8d5d
DTSTART;VALUE=DATE:20260525
DTEND;VALUE=DATE:20260526
DESCRIPTION:
LOCATION:
SUMMARY:Memorial Day Holiday - NO SCHOOL for STUDENTS
END:VEVENT
BEGIN:VEVENT
DTSTAMP:20260421T163501Z
UID:fbf3f9a4-b2d3-4e15-866d-dce845c62ae7
DTSTART;VALUE=DATE:20260526
DTEND;VALUE=DATE:20260527
DESCRIPTION:
LOCATION:
SUMMARY:Underclassmen Exams
END:VEVENT
BEGIN:VEVENT
DTSTAMP:20260421T163501Z
UID:758c0b40-bfe8-438d-b7d9-b72ec4ee8b64
DTSTART:20260527T080000
DTEND:20260527T130000
DESCRIPTION:
LOCATION:
SUMMARY:Underclassmen Exams - HALF DAY for STUDENTS
END:VEVENT
BEGIN:VEVENT
DTSTAMP:20260421T163501Z
UID:c9b770c8-98c6-4c9c-a242-d1ec7c837976
DTSTART:20260528T080000
DTEND:20260528T130000
DESCRIPTION:
LOCATION:
SUMMARY:Last Day of School - HALF DAY for STUDENTS
END:VEVENT
END:VCALENDAR
