BEGIN:VCALENDAR
VERSION:2.0
PRODID:icalendar-ruby
CALSCALE:GREGORIAN
BEGIN:VTIMEZONE
TZID:America/Chicago
BEGIN:DAYLIGHT
DTSTART:20260308T030000
TZOFFSETFROM:-0600
TZOFFSETTO:-0500
RRULE:FREQ=YEARLY;BYDAY=2SU;BYMONTH=3
TZNAME:CDT
END:DAYLIGHT
BEGIN:STANDARD
DTSTART:20261101T010000
TZOFFSETFROM:-0500
TZOFFSETTO:-0600
RRULE:FREQ=YEARLY;BYDAY=1SU;BYMONTH=11
TZNAME:CST
END:STANDARD
END:VTIMEZONE
BEGIN:VEVENT
DTSTAMP:20260423T101616Z
UID:d765d105-7906-404e-81d5-7353ad7a9583
DTSTART;VALUE=DATE:20260504
DTEND;VALUE=DATE:20260509
DESCRIPTION:
LOCATION:
SUMMARY:Teacher Appreciation Week
END:VEVENT
BEGIN:VEVENT
DTSTAMP:20260423T101616Z
UID:d2d10926-3584-4949-85aa-bc51ddda7490
DTSTART;VALUE=DATE:20260514
DTEND;VALUE=DATE:20260515
DESCRIPTION:
LOCATION:
SUMMARY:PAHS Graduation
END:VEVENT
BEGIN:VEVENT
DTSTAMP:20260423T101616Z
UID:9b545064-087e-459f-ae62-b32d7d5b2e89
DTSTART;VALUE=DATE:20260515
DTEND;VALUE=DATE:20260516
DESCRIPTION:
LOCATION:
SUMMARY:BHS Graduation 
END:VEVENT
BEGIN:VEVENT
DTSTAMP:20260423T101616Z
UID:72e42a90-51f3-4dd0-8194-1326201edc48
DTSTART;VALUE=DATE:20260519
DTEND;VALUE=DATE:20260520
DESCRIPTION:
LOCATION:
SUMMARY:Last Day or Head Start and PreK
END:VEVENT
BEGIN:VEVENT
DTSTAMP:20260423T101616Z
UID:bbe48c4e-e909-4776-9efa-42e6ee694171
DTSTART;VALUE=DATE:20260520
DTEND;VALUE=DATE:20260521
DESCRIPTION:
LOCATION:
SUMMARY:1/2 Day for Students 
END:VEVENT
BEGIN:VEVENT
DTSTAMP:20260423T101616Z
UID:e395bf94-c50e-4fd2-8497-04adcb1c9149
DTSTART;VALUE=DATE:20260521
DTEND;VALUE=DATE:20260522
DESCRIPTION:
LOCATION:
SUMMARY:1/2 Day for Students
END:VEVENT
BEGIN:VEVENT
DTSTAMP:20260423T101616Z
UID:3170bfd4-92ba-47cd-a8bf-52d3ea6af25f
DTSTART;VALUE=DATE:20260522
DTEND;VALUE=DATE:20260523
DESCRIPTION:
LOCATION:
SUMMARY:End of the 4th Nine Weeks
END:VEVENT
BEGIN:VEVENT
DTSTAMP:20260423T101616Z
UID:219be901-2cf2-4a1f-b1e3-754fee5e3006
DTSTART;VALUE=DATE:20260522
DTEND;VALUE=DATE:20260523
DESCRIPTION:
LOCATION:
SUMMARY:Teachers Only
END:VEVENT
BEGIN:VEVENT
DTSTAMP:20260423T101616Z
UID:8cf100eb-58c2-4103-aac8-c0b294bd4c0b
DTSTART;VALUE=DATE:20260525
DTEND;VALUE=DATE:20260526
DESCRIPTION:
LOCATION:
SUMMARY:Memorial Day Holiday
END:VEVENT
BEGIN:VEVENT
DTSTAMP:20260423T101616Z
UID:26799ded-8e20-4821-a8f3-9e67f8231176
DTSTART;VALUE=DATE:20260717
DTEND;VALUE=DATE:20260718
DESCRIPTION:
LOCATION:
SUMMARY:Happy Birthday Ms. Wishom!
END:VEVENT
BEGIN:VEVENT
DTSTAMP:20260423T101616Z
UID:35f08eb7-2d23-4951-8e50-5e768c45c91c
DTSTART;VALUE=DATE:20260803
DTEND;VALUE=DATE:20260806
DESCRIPTION:
LOCATION:
SUMMARY:Teacher Only Days
END:VEVENT
BEGIN:VEVENT
DTSTAMP:20260423T101616Z
UID:928d0c54-5064-48e2-a43c-bb90f65a454b
DTSTART;VALUE=DATE:20260806
DTEND;VALUE=DATE:20260807
DESCRIPTION:<p>First day of school for students in 1st through 12th grades.
 </p>
LOCATION:
SUMMARY:First Day for Students
END:VEVENT
BEGIN:VEVENT
DTSTAMP:20260423T101616Z
UID:82616b41-7675-47ae-9515-9dea96c08f01
DTSTART;VALUE=DATE:20260806
DTEND;VALUE=DATE:20260807
DESCRIPTION:<p>Only Kindergarten Boys attend today.</p>
LOCATION:
SUMMARY:Kindergarten Boys Only
END:VEVENT
BEGIN:VEVENT
DTSTAMP:20260423T101616Z
UID:c1b43e80-e3aa-41d1-8920-028998170d84
DTSTART;VALUE=DATE:20260807
DTEND;VALUE=DATE:20260808
DESCRIPTION:<p>Only Kindergarten girls will attend today.</p>
LOCATION:
SUMMARY:Kindergarten Girls Only
END:VEVENT
BEGIN:VEVENT
DTSTAMP:20260423T101616Z
UID:e614ead3-1cc6-4b42-83f5-263805621e95
DTSTART;VALUE=DATE:20260810
DTEND;VALUE=DATE:20260811
DESCRIPTION:<p>All Kindergarten students attend today.</p>
LOCATION:
SUMMARY:All Kindergarten Students
END:VEVENT
BEGIN:VEVENT
DTSTAMP:20260423T101616Z
UID:e29d1b6d-a4bf-43da-a5e6-77bc9fcb8a7d
DTSTART;VALUE=DATE:20260810
DTEND;VALUE=DATE:20260813
DESCRIPTION:
LOCATION:
SUMMARY:Head Start/Pre-K Phase-in
END:VEVENT
BEGIN:VEVENT
DTSTAMP:20260423T101616Z
UID:d51c125b-ce38-4c8b-98ff-fde116f7cbfe
DTSTART;VALUE=DATE:20260813
DTEND;VALUE=DATE:20260814
DESCRIPTION:<p>All Head Start and Pre-Kindergarten students attend.</p>
LOCATION:
SUMMARY:All Head Start/Pre-K students
END:VEVENT
BEGIN:VEVENT
DTSTAMP:20260423T101616Z
UID:f420df33-178a-4647-a244-be7e445e069f
DTSTART;VALUE=DATE:20260902
DTEND;VALUE=DATE:20260903
DESCRIPTION:
LOCATION:
SUMMARY:Progress Reports
END:VEVENT
BEGIN:VEVENT
DTSTAMP:20260423T101616Z
UID:cafd49f8-5e0e-4bef-9543-2bf028e1918c
DTSTART;VALUE=DATE:20260907
DTEND;VALUE=DATE:20260908
DESCRIPTION:<p>Labor Day holiday. No school. </p>
LOCATION:
SUMMARY:Labor Day
END:VEVENT
BEGIN:VEVENT
DTSTAMP:20260423T101616Z
UID:9f9bc73c-2a62-41c5-be8f-77f847f1aae9
DTSTART;VALUE=DATE:20260921
DTEND;VALUE=DATE:20260922
DESCRIPTION:<p>No school for students.</p>
LOCATION:
SUMMARY:Teacher Only Day
END:VEVENT
BEGIN:VEVENT
DTSTAMP:20260423T101616Z
UID:9140b29c-7e9e-4b94-b912-278e4d241d8c
DTSTART;VALUE=DATE:20261005
DTEND;VALUE=DATE:20261006
DESCRIPTION:
LOCATION:
SUMMARY:End of 1st 9 Weeks
END:VEVENT
BEGIN:VEVENT
DTSTAMP:20260423T101616Z
UID:8faab5fb-a50b-4a11-9c97-bea801c5d5e1
DTSTART;VALUE=DATE:20261007
DTEND;VALUE=DATE:20261008
DESCRIPTION:
LOCATION:
SUMMARY:Report Cards
END:VEVENT
BEGIN:VEVENT
DTSTAMP:20260423T101616Z
UID:7d5141b7-5902-44ab-a771-d110d768c8a4
DTSTART;VALUE=DATE:20261012
DTEND;VALUE=DATE:20261014
DESCRIPTION:
LOCATION:
SUMMARY:Fall Break
END:VEVENT
BEGIN:VEVENT
DTSTAMP:20260423T101616Z
UID:574e87a2-dd2d-4333-a811-2286018fa6d4
DTSTART;VALUE=DATE:20261014
DTEND;VALUE=DATE:20261015
DESCRIPTION:<p>Paraprofessionals do not attend.</p>
LOCATION:
SUMMARY:Parent/Teacher Conferences
END:VEVENT
BEGIN:VEVENT
DTSTAMP:20260423T101616Z
UID:55a88c0a-409e-43e2-8416-b8c203212b78
DTSTART;VALUE=DATE:20261102
DTEND;VALUE=DATE:20261103
DESCRIPTION:
LOCATION:
SUMMARY:Teacher Only Day
END:VEVENT
BEGIN:VEVENT
DTSTAMP:20260423T101616Z
UID:1b5ec1a4-e5c9-4c99-b49f-108f93e8a327
DTSTART;VALUE=DATE:20261103
DTEND;VALUE=DATE:20261104
DESCRIPTION:
LOCATION:
SUMMARY:Election Day
END:VEVENT
BEGIN:VEVENT
DTSTAMP:20260423T101616Z
UID:ae280b53-61b5-4a22-bd3f-5fb6855d4534
DTSTART;VALUE=DATE:20261110
DTEND;VALUE=DATE:20261111
DESCRIPTION:
LOCATION:
SUMMARY:Progress Reports
END:VEVENT
BEGIN:VEVENT
DTSTAMP:20260423T101616Z
UID:7f4e6a2c-d6d9-49d3-a18e-64b4780c0b4d
DTSTART;VALUE=DATE:20261123
DTEND;VALUE=DATE:20261128
DESCRIPTION:
LOCATION:
SUMMARY:Thanksgiving Break
END:VEVENT
BEGIN:VEVENT
DTSTAMP:20260423T101616Z
UID:8ac8b980-85a7-43c5-956a-e1e4220bbb5f
DTSTART;VALUE=DATE:20261218
DTEND;VALUE=DATE:20261219
DESCRIPTION:
LOCATION:
SUMMARY:1/2 Day for Students
END:VEVENT
BEGIN:VEVENT
DTSTAMP:20260423T101616Z
UID:63da315e-d607-4c7f-a615-358e36275f0e
DTSTART;VALUE=DATE:20261218
DTEND;VALUE=DATE:20261219
DESCRIPTION:
LOCATION:
SUMMARY:End of 2nd 9 Weeks
END:VEVENT
BEGIN:VEVENT
DTSTAMP:20260423T101616Z
UID:dceddab2-f2c9-48d5-ad7d-ab10fea941a6
DTSTART;VALUE=DATE:20261218
DTEND;VALUE=DATE:20261219
DESCRIPTION:
LOCATION:
SUMMARY:End of Second Semester
END:VEVENT
BEGIN:VEVENT
DTSTAMP:20260423T101616Z
UID:f60681aa-a5a9-43b8-b248-a61cc976b890
DTSTART;VALUE=DATE:20261221
DTEND;VALUE=DATE:20270101
DESCRIPTION:
LOCATION:
SUMMARY:Winter Break
END:VEVENT
BEGIN:VEVENT
DTSTAMP:20260423T101616Z
UID:2887230c-b94c-4201-bde9-d08053335150
DTSTART;VALUE=DATE:20270101
DTEND;VALUE=DATE:20270102
DESCRIPTION:
LOCATION:
SUMMARY:Winter Break (cont.)
END:VEVENT
BEGIN:VEVENT
DTSTAMP:20260423T101616Z
UID:42c8008d-f875-464c-8520-520cee77ad1b
DTSTART;VALUE=DATE:20270104
DTEND;VALUE=DATE:20270105
DESCRIPTION:
LOCATION:
SUMMARY:Teacher Only Day
END:VEVENT
BEGIN:VEVENT
DTSTAMP:20260423T101616Z
UID:51fe3501-841a-4d15-861f-2972eb1a4f07
DTSTART;VALUE=DATE:20270105
DTEND;VALUE=DATE:20270106
DESCRIPTION:
LOCATION:
SUMMARY:Report Cards
END:VEVENT
BEGIN:VEVENT
DTSTAMP:20260423T101616Z
UID:fa5d3650-d34f-4af2-ae03-7cca97177a4b
DTSTART;VALUE=DATE:20270105
DTEND;VALUE=DATE:20270106
DESCRIPTION:
LOCATION:
SUMMARY:Students Return
END:VEVENT
BEGIN:VEVENT
DTSTAMP:20260423T101616Z
UID:b706d03a-30e4-482d-af3f-2f668ae5f651
DTSTART;VALUE=DATE:20270118
DTEND;VALUE=DATE:20270119
DESCRIPTION:
LOCATION:
SUMMARY:Martin Luther King Jr. Holiday
END:VEVENT
BEGIN:VEVENT
DTSTAMP:20260423T101616Z
UID:f513699a-877e-4a60-b7f4-9199da88f878
DTSTART;VALUE=DATE:20270204
DTEND;VALUE=DATE:20270205
DESCRIPTION:
LOCATION:
SUMMARY:Progress Reports
END:VEVENT
BEGIN:VEVENT
DTSTAMP:20260423T101616Z
UID:0bdf2bb0-9e2a-4f49-83fa-3efca10a965c
DTSTART;VALUE=DATE:20270208
DTEND;VALUE=DATE:20270210
DESCRIPTION:
LOCATION:
SUMMARY:Mardi Gras Holiday
END:VEVENT
BEGIN:VEVENT
DTSTAMP:20260423T101616Z
UID:bddb4def-e5e8-4dc9-bb82-64ac1132c12b
DTSTART;VALUE=DATE:20270210
DTEND;VALUE=DATE:20270211
DESCRIPTION:<p>Paraprofessionals do not attend.</p>
LOCATION:
SUMMARY:Parent/Teacher Conferences
END:VEVENT
BEGIN:VEVENT
DTSTAMP:20260423T101616Z
UID:3e723394-1353-49e7-835d-450c0bbeea67
DTSTART;VALUE=DATE:20270301
DTEND;VALUE=DATE:20270302
DESCRIPTION:
LOCATION:
SUMMARY:Teacher Only Day
END:VEVENT
BEGIN:VEVENT
DTSTAMP:20260423T101616Z
UID:352e552f-d6b9-4983-8f45-5940bff9b6f0
DTSTART;VALUE=DATE:20270310
DTEND;VALUE=DATE:20270311
DESCRIPTION:
LOCATION:
SUMMARY:End of 3rd 9 Weeks
END:VEVENT
BEGIN:VEVENT
DTSTAMP:20260423T101616Z
UID:89b9d58b-b458-43bd-8e97-d81e97ee0419
DTSTART;VALUE=DATE:20270312
DTEND;VALUE=DATE:20270313
DESCRIPTION:
LOCATION:
SUMMARY:Report Cards
END:VEVENT
BEGIN:VEVENT
DTSTAMP:20260423T101616Z
UID:cf53b696-f6c1-4ab4-adc0-eeeaa52af4c1
DTSTART;VALUE=DATE:20270326
DTEND;VALUE=DATE:20270401
DESCRIPTION:
LOCATION:
SUMMARY:Spring Break
END:VEVENT
BEGIN:VEVENT
DTSTAMP:20260423T101616Z
UID:90575a60-0d3a-4499-9b2a-518074ee419d
DTSTART;VALUE=DATE:20270401
DTEND;VALUE=DATE:20270403
DESCRIPTION:
LOCATION:
SUMMARY:Spring Break (cont.)
END:VEVENT
BEGIN:VEVENT
DTSTAMP:20260423T101616Z
UID:52cbb8b5-26a0-40d8-b64d-062b77a2bcf4
DTSTART;VALUE=DATE:20270420
DTEND;VALUE=DATE:20270421
DESCRIPTION:
LOCATION:
SUMMARY:Progress Reports
END:VEVENT
BEGIN:VEVENT
DTSTAMP:20260423T101616Z
UID:c1047456-1864-4eea-8783-086c34307f23
DTSTART;VALUE=DATE:20270513
DTEND;VALUE=DATE:20270514
DESCRIPTION:
LOCATION:
SUMMARY:Brusly High Graduation
END:VEVENT
BEGIN:VEVENT
DTSTAMP:20260423T101616Z
UID:ebb0fd5e-d486-4020-994a-d82c8972c2d9
DTSTART;VALUE=DATE:20270514
DTEND;VALUE=DATE:20270515
DESCRIPTION:
LOCATION:
SUMMARY:Port Allen High Graduation
END:VEVENT
BEGIN:VEVENT
DTSTAMP:20260423T101616Z
UID:13d20f60-0d9f-4a24-af12-79a6ecdf3310
DTSTART;VALUE=DATE:20270518
DTEND;VALUE=DATE:20270519
DESCRIPTION:
LOCATION:
SUMMARY:Last Day for Head Start and Pre-K
END:VEVENT
BEGIN:VEVENT
DTSTAMP:20260423T101616Z
UID:c7cd90d2-e4c9-4844-be1d-859de7acb670
DTSTART;VALUE=DATE:20270519
DTEND;VALUE=DATE:20270521
DESCRIPTION:
LOCATION:
SUMMARY:1/2 Day for Students
END:VEVENT
BEGIN:VEVENT
DTSTAMP:20260423T101616Z
UID:454a8b3f-bdd9-41fe-924d-1766392a9973
DTSTART;VALUE=DATE:20270520
DTEND;VALUE=DATE:20270521
DESCRIPTION:
LOCATION:
SUMMARY:End of 2nd Semester
END:VEVENT
BEGIN:VEVENT
DTSTAMP:20260423T101616Z
UID:1837f288-8a98-4b29-bf23-8f1150527682
DTSTART;VALUE=DATE:20270520
DTEND;VALUE=DATE:20270521
DESCRIPTION:
LOCATION:
SUMMARY:End of 4th 9 Weeks
END:VEVENT
BEGIN:VEVENT
DTSTAMP:20260423T101616Z
UID:f377b079-556f-4c9f-9099-1f8617be0d01
DTSTART;VALUE=DATE:20270521
DTEND;VALUE=DATE:20270522
DESCRIPTION:
LOCATION:
SUMMARY:Teachers Only Day
END:VEVENT
BEGIN:VEVENT
DTSTAMP:20260423T101616Z
UID:0bf31648-7400-4099-93f2-670ea17f7657
DTSTART;VALUE=DATE:20270717
DTEND;VALUE=DATE:20270718
DESCRIPTION:
LOCATION:
SUMMARY:Happy Birthday Ms. Wishom!
END:VEVENT
BEGIN:VEVENT
DTSTAMP:20260423T101616Z
UID:40dc9c80-4bc6-4161-a1a2-aad6b8859994
DTSTART;VALUE=DATE:20280717
DTEND;VALUE=DATE:20280718
DESCRIPTION:
LOCATION:
SUMMARY:Happy Birthday Ms. Wishom!
END:VEVENT
BEGIN:VEVENT
DTSTAMP:20260423T101616Z
UID:42a71ac1-4421-46fb-ab45-ad42888b83cd
DTSTART;VALUE=DATE:20290717
DTEND;VALUE=DATE:20290718
DESCRIPTION:
LOCATION:
SUMMARY:Happy Birthday Ms. Wishom!
END:VEVENT
BEGIN:VEVENT
DTSTAMP:20260423T101616Z
UID:5dc9364f-0545-47ba-aa7f-5c804e2daf3b
DTSTART;VALUE=DATE:20300717
DTEND;VALUE=DATE:20300718
DESCRIPTION:
LOCATION:
SUMMARY:Happy Birthday Ms. Wishom!
END:VEVENT
BEGIN:VEVENT
DTSTAMP:20260423T101616Z
UID:39ed8357-0194-4e6c-a8a9-bc9c2d7c4068
DTSTART;VALUE=DATE:20310717
DTEND;VALUE=DATE:20310718
DESCRIPTION:
LOCATION:
SUMMARY:Happy Birthday Ms. Wishom!
END:VEVENT
BEGIN:VEVENT
DTSTAMP:20260423T101616Z
UID:2262735f-4af6-4122-b56f-ead38003ae8b
DTSTART;VALUE=DATE:20320717
DTEND;VALUE=DATE:20320718
DESCRIPTION:
LOCATION:
SUMMARY:Happy Birthday Ms. Wishom!
END:VEVENT
BEGIN:VEVENT
DTSTAMP:20260423T101616Z
UID:7fa9863d-427a-4437-b5e5-2e5e132730d4
DTSTART;VALUE=DATE:20330717
DTEND;VALUE=DATE:20330718
DESCRIPTION:
LOCATION:
SUMMARY:Happy Birthday Ms. Wishom!
END:VEVENT
BEGIN:VEVENT
DTSTAMP:20260423T101616Z
UID:cef090d9-2231-4cb8-ae9f-1daf0381c3be
DTSTART;VALUE=DATE:20340717
DTEND;VALUE=DATE:20340718
DESCRIPTION:
LOCATION:
SUMMARY:Happy Birthday Ms. Wishom!
END:VEVENT
BEGIN:VEVENT
DTSTAMP:20260423T101616Z
UID:bafef9b4-a96b-4747-b156-22e1e1e4d015
DTSTART;VALUE=DATE:20350717
DTEND;VALUE=DATE:20350718
DESCRIPTION:
LOCATION:
SUMMARY:Happy Birthday Ms. Wishom!
END:VEVENT
BEGIN:VEVENT
DTSTAMP:20260423T101616Z
UID:30d3029c-42ab-467b-a5a6-7f671196b918
DTSTART;VALUE=DATE:20360717
DTEND;VALUE=DATE:20360718
DESCRIPTION:
LOCATION:
SUMMARY:Happy Birthday Ms. Wishom!
END:VEVENT
BEGIN:VEVENT
DTSTAMP:20260423T101616Z
UID:bf7af18f-4710-47b8-8310-3e955d54c32b
DTSTART;VALUE=DATE:20370717
DTEND;VALUE=DATE:20370718
DESCRIPTION:
LOCATION:
SUMMARY:Happy Birthday Ms. Wishom!
END:VEVENT
BEGIN:VEVENT
DTSTAMP:20260423T101616Z
UID:1276339c-d94a-4866-91da-947df946ec88
DTSTART;VALUE=DATE:20380717
DTEND;VALUE=DATE:20380718
DESCRIPTION:
LOCATION:
SUMMARY:Happy Birthday Ms. Wishom!
END:VEVENT
BEGIN:VEVENT
DTSTAMP:20260423T101616Z
UID:d28f0d7a-78ae-4055-b578-80eed23fa8f0
DTSTART;VALUE=DATE:20390717
DTEND;VALUE=DATE:20390718
DESCRIPTION:
LOCATION:
SUMMARY:Happy Birthday Ms. Wishom!
END:VEVENT
BEGIN:VEVENT
DTSTAMP:20260423T101616Z
UID:eca7b16d-bf12-420f-b958-74bd519c2ed6
DTSTART;VALUE=DATE:20400717
DTEND;VALUE=DATE:20400718
DESCRIPTION:
LOCATION:
SUMMARY:Happy Birthday Ms. Wishom!
END:VEVENT
BEGIN:VEVENT
DTSTAMP:20260423T101616Z
UID:1cecdc87-a8ae-451c-ba03-9565388afe79
DTSTART;VALUE=DATE:20410717
DTEND;VALUE=DATE:20410718
DESCRIPTION:
LOCATION:
SUMMARY:Happy Birthday Ms. Wishom!
END:VEVENT
BEGIN:VEVENT
DTSTAMP:20260423T101616Z
UID:bc837f5b-39aa-4c04-bbb6-2ba70df8b101
DTSTART;VALUE=DATE:20420717
DTEND;VALUE=DATE:20420718
DESCRIPTION:
LOCATION:
SUMMARY:Happy Birthday Ms. Wishom!
END:VEVENT
BEGIN:VEVENT
DTSTAMP:20260423T101616Z
UID:496f7271-308b-4d4a-9be5-d4fd6d9348f0
DTSTART;VALUE=DATE:20430717
DTEND;VALUE=DATE:20430718
DESCRIPTION:
LOCATION:
SUMMARY:Happy Birthday Ms. Wishom!
END:VEVENT
BEGIN:VEVENT
DTSTAMP:20260423T101616Z
UID:e0827d41-121a-4ae6-be3c-073a9f706c9e
DTSTART;VALUE=DATE:20440717
DTEND;VALUE=DATE:20440718
DESCRIPTION:
LOCATION:
SUMMARY:Happy Birthday Ms. Wishom!
END:VEVENT
BEGIN:VEVENT
DTSTAMP:20260423T101616Z
UID:99388649-ba46-4f38-a1de-207892a88767
DTSTART;VALUE=DATE:20450717
DTEND;VALUE=DATE:20450718
DESCRIPTION:
LOCATION:
SUMMARY:Happy Birthday Ms. Wishom!
END:VEVENT
BEGIN:VEVENT
DTSTAMP:20260423T101616Z
UID:280966e0-46c4-4e20-b140-50bc63afeb42
DTSTART;VALUE=DATE:20460717
DTEND;VALUE=DATE:20460718
DESCRIPTION:
LOCATION:
SUMMARY:Happy Birthday Ms. Wishom!
END:VEVENT
BEGIN:VEVENT
DTSTAMP:20260423T101616Z
UID:ca82e2fc-24ec-4d91-bb81-c8f85a1e93ea
DTSTART;VALUE=DATE:20470717
DTEND;VALUE=DATE:20470718
DESCRIPTION:
LOCATION:
SUMMARY:Happy Birthday Ms. Wishom!
END:VEVENT
BEGIN:VEVENT
DTSTAMP:20260423T101616Z
UID:8d4fe2c8-bee3-455a-a4ec-8c1912e43f7b
DTSTART;VALUE=DATE:20480717
DTEND;VALUE=DATE:20480718
DESCRIPTION:
LOCATION:
SUMMARY:Happy Birthday Ms. Wishom!
END:VEVENT
BEGIN:VEVENT
DTSTAMP:20260423T101616Z
UID:f2f24617-283e-43de-bf74-6ad3bf1f94af
DTSTART;VALUE=DATE:20490717
DTEND;VALUE=DATE:20490718
DESCRIPTION:
LOCATION:
SUMMARY:Happy Birthday Ms. Wishom!
END:VEVENT
BEGIN:VEVENT
DTSTAMP:20260423T101616Z
UID:c62c64e7-410f-429c-a18e-c02f4b83eaea
DTSTART;VALUE=DATE:20500717
DTEND;VALUE=DATE:20500718
DESCRIPTION:
LOCATION:
SUMMARY:Happy Birthday Ms. Wishom!
END:VEVENT
BEGIN:VEVENT
DTSTAMP:20260423T101616Z
UID:54359c19-e101-49d9-b866-d465c1f8ab44
DTSTART;VALUE=DATE:20510717
DTEND;VALUE=DATE:20510718
DESCRIPTION:
LOCATION:
SUMMARY:Happy Birthday Ms. Wishom!
END:VEVENT
BEGIN:VEVENT
DTSTAMP:20260423T101616Z
UID:101d3be6-c5b0-48a0-bc70-f0a6228233e3
DTSTART;VALUE=DATE:20520717
DTEND;VALUE=DATE:20520718
DESCRIPTION:
LOCATION:
SUMMARY:Happy Birthday Ms. Wishom!
END:VEVENT
BEGIN:VEVENT
DTSTAMP:20260423T101616Z
UID:d3eba86a-aae3-4f65-918c-7190f7d46413
DTSTART;VALUE=DATE:20530717
DTEND;VALUE=DATE:20530718
DESCRIPTION:
LOCATION:
SUMMARY:Happy Birthday Ms. Wishom!
END:VEVENT
BEGIN:VEVENT
DTSTAMP:20260423T101616Z
UID:b4dba51d-7c7b-42fc-b3ca-9e80211a4db9
DTSTART;VALUE=DATE:20540717
DTEND;VALUE=DATE:20540718
DESCRIPTION:
LOCATION:
SUMMARY:Happy Birthday Ms. Wishom!
END:VEVENT
BEGIN:VEVENT
DTSTAMP:20260423T101616Z
UID:55cae86a-fbe1-4b5e-b01c-67c08de49a9a
DTSTART;VALUE=DATE:20550717
DTEND;VALUE=DATE:20550718
DESCRIPTION:
LOCATION:
SUMMARY:Happy Birthday Ms. Wishom!
END:VEVENT
BEGIN:VEVENT
DTSTAMP:20260423T101616Z
UID:6766cea6-87cc-49a1-8d24-2fc05a58c1e6
DTSTART;VALUE=DATE:20560717
DTEND;VALUE=DATE:20560718
DESCRIPTION:
LOCATION:
SUMMARY:Happy Birthday Ms. Wishom!
END:VEVENT
BEGIN:VEVENT
DTSTAMP:20260423T101616Z
UID:c200eed1-4bec-45c2-8ff0-381dace0f5a4
DTSTART;VALUE=DATE:20570717
DTEND;VALUE=DATE:20570718
DESCRIPTION:
LOCATION:
SUMMARY:Happy Birthday Ms. Wishom!
END:VEVENT
BEGIN:VEVENT
DTSTAMP:20260423T101616Z
UID:acd28ccb-14fb-476c-9ecf-0babea4b13be
DTSTART;VALUE=DATE:20580717
DTEND;VALUE=DATE:20580718
DESCRIPTION:
LOCATION:
SUMMARY:Happy Birthday Ms. Wishom!
END:VEVENT
BEGIN:VEVENT
DTSTAMP:20260423T101616Z
UID:d42182ea-81fa-4dec-b7cb-56b66f94f613
DTSTART;VALUE=DATE:20590717
DTEND;VALUE=DATE:20590718
DESCRIPTION:
LOCATION:
SUMMARY:Happy Birthday Ms. Wishom!
END:VEVENT
BEGIN:VEVENT
DTSTAMP:20260423T101616Z
UID:bd34aa4c-3ce8-4a38-b3c7-7fbd44c50650
DTSTART;VALUE=DATE:20600717
DTEND;VALUE=DATE:20600718
DESCRIPTION:
LOCATION:
SUMMARY:Happy Birthday Ms. Wishom!
END:VEVENT
BEGIN:VEVENT
DTSTAMP:20260423T101616Z
UID:e7f2117e-9073-468b-a978-9752406d15c2
DTSTART;VALUE=DATE:20610717
DTEND;VALUE=DATE:20610718
DESCRIPTION:
LOCATION:
SUMMARY:Happy Birthday Ms. Wishom!
END:VEVENT
BEGIN:VEVENT
DTSTAMP:20260423T101616Z
UID:cd0aa093-ec11-45df-8aed-5ed140d56c7e
DTSTART;VALUE=DATE:20620717
DTEND;VALUE=DATE:20620718
DESCRIPTION:
LOCATION:
SUMMARY:Happy Birthday Ms. Wishom!
END:VEVENT
BEGIN:VEVENT
DTSTAMP:20260423T101616Z
UID:f198939c-1c43-4db5-815d-c10c0113267f
DTSTART;VALUE=DATE:20630717
DTEND;VALUE=DATE:20630718
DESCRIPTION:
LOCATION:
SUMMARY:Happy Birthday Ms. Wishom!
END:VEVENT
BEGIN:VEVENT
DTSTAMP:20260423T101616Z
UID:5d8bfe59-0d2e-415f-b624-a12cf34c88bf
DTSTART;VALUE=DATE:20640717
DTEND;VALUE=DATE:20640718
DESCRIPTION:
LOCATION:
SUMMARY:Happy Birthday Ms. Wishom!
END:VEVENT
BEGIN:VEVENT
DTSTAMP:20260423T101616Z
UID:773df6e6-559f-4b8b-8660-dc4c0d6c3fa3
DTSTART;VALUE=DATE:20650717
DTEND;VALUE=DATE:20650718
DESCRIPTION:
LOCATION:
SUMMARY:Happy Birthday Ms. Wishom!
END:VEVENT
BEGIN:VEVENT
DTSTAMP:20260423T101616Z
UID:1249828a-0431-4b34-813e-9e49340d9978
DTSTART;VALUE=DATE:20660717
DTEND;VALUE=DATE:20660718
DESCRIPTION:
LOCATION:
SUMMARY:Happy Birthday Ms. Wishom!
END:VEVENT
BEGIN:VEVENT
DTSTAMP:20260423T101616Z
UID:01ec507e-42ae-422c-bfb1-d5d039f0d8f8
DTSTART;VALUE=DATE:20670717
DTEND;VALUE=DATE:20670718
DESCRIPTION:
LOCATION:
SUMMARY:Happy Birthday Ms. Wishom!
END:VEVENT
BEGIN:VEVENT
DTSTAMP:20260423T101616Z
UID:365195ca-a204-41f7-b29b-b337e06f0793
DTSTART;VALUE=DATE:20680717
DTEND;VALUE=DATE:20680718
DESCRIPTION:
LOCATION:
SUMMARY:Happy Birthday Ms. Wishom!
END:VEVENT
BEGIN:VEVENT
DTSTAMP:20260423T101616Z
UID:5358878c-0c4c-4fb3-b6fc-744869745532
DTSTART;VALUE=DATE:20690717
DTEND;VALUE=DATE:20690718
DESCRIPTION:
LOCATION:
SUMMARY:Happy Birthday Ms. Wishom!
END:VEVENT
BEGIN:VEVENT
DTSTAMP:20260423T101616Z
UID:b05d5432-b743-41c6-a5e6-c99f43d8eedb
DTSTART;VALUE=DATE:20700717
DTEND;VALUE=DATE:20700718
DESCRIPTION:
LOCATION:
SUMMARY:Happy Birthday Ms. Wishom!
END:VEVENT
BEGIN:VEVENT
DTSTAMP:20260423T101616Z
UID:271dddb9-4201-42ef-b96c-6b954c4a9bdf
DTSTART;VALUE=DATE:20710717
DTEND;VALUE=DATE:20710718
DESCRIPTION:
LOCATION:
SUMMARY:Happy Birthday Ms. Wishom!
END:VEVENT
BEGIN:VEVENT
DTSTAMP:20260423T101616Z
UID:9101051b-3aaf-4f79-889c-d90b5cdc4fb1
DTSTART;VALUE=DATE:20720717
DTEND;VALUE=DATE:20720718
DESCRIPTION:
LOCATION:
SUMMARY:Happy Birthday Ms. Wishom!
END:VEVENT
BEGIN:VEVENT
DTSTAMP:20260423T101616Z
UID:9b4df31f-cfe9-4009-8453-4e24da5db227
DTSTART;VALUE=DATE:20730717
DTEND;VALUE=DATE:20730718
DESCRIPTION:
LOCATION:
SUMMARY:Happy Birthday Ms. Wishom!
END:VEVENT
BEGIN:VEVENT
DTSTAMP:20260423T101616Z
UID:7d687497-e0e1-485e-9ef4-f3335a57efc3
DTSTART;VALUE=DATE:20740717
DTEND;VALUE=DATE:20740718
DESCRIPTION:
LOCATION:
SUMMARY:Happy Birthday Ms. Wishom!
END:VEVENT
BEGIN:VEVENT
DTSTAMP:20260423T101616Z
UID:6a7d647b-ebec-4deb-880d-3619a9c56c51
DTSTART;VALUE=DATE:20750717
DTEND;VALUE=DATE:20750718
DESCRIPTION:
LOCATION:
SUMMARY:Happy Birthday Ms. Wishom!
END:VEVENT
BEGIN:VEVENT
DTSTAMP:20260423T101616Z
UID:733ee500-0b19-4eb1-a04b-36496d4353fa
DTSTART;VALUE=DATE:20760717
DTEND;VALUE=DATE:20760718
DESCRIPTION:
LOCATION:
SUMMARY:Happy Birthday Ms. Wishom!
END:VEVENT
BEGIN:VEVENT
DTSTAMP:20260423T101616Z
UID:3f56b1bc-3b75-45c9-9227-00537f5f2db4
DTSTART;VALUE=DATE:20770717
DTEND;VALUE=DATE:20770718
DESCRIPTION:
LOCATION:
SUMMARY:Happy Birthday Ms. Wishom!
END:VEVENT
BEGIN:VEVENT
DTSTAMP:20260423T101616Z
UID:892f83ed-3a4d-41f9-a7b3-962f247a519b
DTSTART;VALUE=DATE:20780717
DTEND;VALUE=DATE:20780718
DESCRIPTION:
LOCATION:
SUMMARY:Happy Birthday Ms. Wishom!
END:VEVENT
BEGIN:VEVENT
DTSTAMP:20260423T101616Z
UID:8a3f4802-7ae2-4aea-bbe9-a3295d14ba89
DTSTART;VALUE=DATE:20790717
DTEND;VALUE=DATE:20790718
DESCRIPTION:
LOCATION:
SUMMARY:Happy Birthday Ms. Wishom!
END:VEVENT
BEGIN:VEVENT
DTSTAMP:20260423T101616Z
UID:1c7ec1e4-cc8d-4a62-b8b9-a00b7b1ffdd0
DTSTART;VALUE=DATE:20800717
DTEND;VALUE=DATE:20800718
DESCRIPTION:
LOCATION:
SUMMARY:Happy Birthday Ms. Wishom!
END:VEVENT
BEGIN:VEVENT
DTSTAMP:20260423T101616Z
UID:8dccff2b-9b04-40eb-b1e0-7e43e24e0d5b
DTSTART;VALUE=DATE:20810717
DTEND;VALUE=DATE:20810718
DESCRIPTION:
LOCATION:
SUMMARY:Happy Birthday Ms. Wishom!
END:VEVENT
BEGIN:VEVENT
DTSTAMP:20260423T101616Z
UID:1e475326-1d69-440c-9a9b-21e42008df09
DTSTART;VALUE=DATE:20820717
DTEND;VALUE=DATE:20820718
DESCRIPTION:
LOCATION:
SUMMARY:Happy Birthday Ms. Wishom!
END:VEVENT
BEGIN:VEVENT
DTSTAMP:20260423T101616Z
UID:ad4e7ee6-ea98-4a50-990b-38aefebd201a
DTSTART;VALUE=DATE:20830717
DTEND;VALUE=DATE:20830718
DESCRIPTION:
LOCATION:
SUMMARY:Happy Birthday Ms. Wishom!
END:VEVENT
BEGIN:VEVENT
DTSTAMP:20260423T101616Z
UID:1c515078-2556-4728-a894-5f6cf3d9e76f
DTSTART;VALUE=DATE:20840717
DTEND;VALUE=DATE:20840718
DESCRIPTION:
LOCATION:
SUMMARY:Happy Birthday Ms. Wishom!
END:VEVENT
BEGIN:VEVENT
DTSTAMP:20260423T101616Z
UID:a2644f2f-4ea9-440a-b495-f015b5db0ae3
DTSTART;VALUE=DATE:20850717
DTEND;VALUE=DATE:20850718
DESCRIPTION:
LOCATION:
SUMMARY:Happy Birthday Ms. Wishom!
END:VEVENT
BEGIN:VEVENT
DTSTAMP:20260423T101616Z
UID:e04ef6c7-0054-4041-8f9c-747c5742d28a
DTSTART;VALUE=DATE:20860717
DTEND;VALUE=DATE:20860718
DESCRIPTION:
LOCATION:
SUMMARY:Happy Birthday Ms. Wishom!
END:VEVENT
BEGIN:VEVENT
DTSTAMP:20260423T101616Z
UID:63b1aa55-4802-422d-82a3-4dc8a9f41b31
DTSTART;VALUE=DATE:20870717
DTEND;VALUE=DATE:20870718
DESCRIPTION:
LOCATION:
SUMMARY:Happy Birthday Ms. Wishom!
END:VEVENT
BEGIN:VEVENT
DTSTAMP:20260423T101616Z
UID:57ae364a-1014-435c-83fd-db5c8a557bc0
DTSTART;VALUE=DATE:20880717
DTEND;VALUE=DATE:20880718
DESCRIPTION:
LOCATION:
SUMMARY:Happy Birthday Ms. Wishom!
END:VEVENT
BEGIN:VEVENT
DTSTAMP:20260423T101616Z
UID:8a8f3326-a85d-49fe-b850-e635e8d139f8
DTSTART;VALUE=DATE:20890717
DTEND;VALUE=DATE:20890718
DESCRIPTION:
LOCATION:
SUMMARY:Happy Birthday Ms. Wishom!
END:VEVENT
BEGIN:VEVENT
DTSTAMP:20260423T101616Z
UID:53ed6a95-0481-4590-9a47-e48881681fd7
DTSTART;VALUE=DATE:20900717
DTEND;VALUE=DATE:20900718
DESCRIPTION:
LOCATION:
SUMMARY:Happy Birthday Ms. Wishom!
END:VEVENT
BEGIN:VEVENT
DTSTAMP:20260423T101616Z
UID:9293c53a-4dfa-46ca-8ab1-8571efe7f87d
DTSTART;VALUE=DATE:20910717
DTEND;VALUE=DATE:20910718
DESCRIPTION:
LOCATION:
SUMMARY:Happy Birthday Ms. Wishom!
END:VEVENT
BEGIN:VEVENT
DTSTAMP:20260423T101616Z
UID:b1b027e9-a6e4-42f1-a302-493d09b0efef
DTSTART;VALUE=DATE:20920717
DTEND;VALUE=DATE:20920718
DESCRIPTION:
LOCATION:
SUMMARY:Happy Birthday Ms. Wishom!
END:VEVENT
BEGIN:VEVENT
DTSTAMP:20260423T101616Z
UID:9e680885-7dde-4302-b81e-c0632edc2b58
DTSTART;VALUE=DATE:20930717
DTEND;VALUE=DATE:20930718
DESCRIPTION:
LOCATION:
SUMMARY:Happy Birthday Ms. Wishom!
END:VEVENT
BEGIN:VEVENT
DTSTAMP:20260423T101616Z
UID:1e7b6806-86d5-41b1-bbee-3004f2719012
DTSTART;VALUE=DATE:20940717
DTEND;VALUE=DATE:20940718
DESCRIPTION:
LOCATION:
SUMMARY:Happy Birthday Ms. Wishom!
END:VEVENT
BEGIN:VEVENT
DTSTAMP:20260423T101616Z
UID:3d4b0f0b-7739-4b76-8b59-3f909f202646
DTSTART;VALUE=DATE:20950717
DTEND;VALUE=DATE:20950718
DESCRIPTION:
LOCATION:
SUMMARY:Happy Birthday Ms. Wishom!
END:VEVENT
BEGIN:VEVENT
DTSTAMP:20260423T101616Z
UID:f5343d17-329f-4cb1-a58b-8e8b27c40295
DTSTART;VALUE=DATE:20960717
DTEND;VALUE=DATE:20960718
DESCRIPTION:
LOCATION:
SUMMARY:Happy Birthday Ms. Wishom!
END:VEVENT
BEGIN:VEVENT
DTSTAMP:20260423T101616Z
UID:cd452a01-889f-4f79-b3a9-8f798497fdfc
DTSTART;VALUE=DATE:20970717
DTEND;VALUE=DATE:20970718
DESCRIPTION:
LOCATION:
SUMMARY:Happy Birthday Ms. Wishom!
END:VEVENT
BEGIN:VEVENT
DTSTAMP:20260423T101616Z
UID:1dd3d588-1b1e-400b-8a37-7a5077245884
DTSTART;VALUE=DATE:20980717
DTEND;VALUE=DATE:20980718
DESCRIPTION:
LOCATION:
SUMMARY:Happy Birthday Ms. Wishom!
END:VEVENT
BEGIN:VEVENT
DTSTAMP:20260423T101616Z
UID:d044ec44-05dd-42dd-be8b-e36fdc5b3ef3
DTSTART;VALUE=DATE:20990717
DTEND;VALUE=DATE:20990718
DESCRIPTION:
LOCATION:
SUMMARY:Happy Birthday Ms. Wishom!
END:VEVENT
END:VCALENDAR
