BEGIN:VCALENDAR
VERSION:2.0
PRODID:icalendar-ruby
CALSCALE:GREGORIAN
BEGIN:VTIMEZONE
TZID:America/Chicago
BEGIN:DAYLIGHT
DTSTART:20260308T030000
TZOFFSETFROM:-0600
TZOFFSETTO:-0500
RRULE:FREQ=YEARLY;BYDAY=2SU;BYMONTH=3
TZNAME:CDT
END:DAYLIGHT
BEGIN:STANDARD
DTSTART:20261101T010000
TZOFFSETFROM:-0500
TZOFFSETTO:-0600
RRULE:FREQ=YEARLY;BYDAY=1SU;BYMONTH=11
TZNAME:CST
END:STANDARD
END:VTIMEZONE
BEGIN:VEVENT
DTSTAMP:20260424T113209Z
UID:3f645556-e780-45a0-8c5b-864895d18fc8
DTSTART;VALUE=DATE:20260424
DTEND;VALUE=DATE:20260426
DESCRIPTION:
LOCATION:Hendy Elementary\, Elmira
SUMMARY:NYSSMA Solo Festival (Eastside)
END:VEVENT
BEGIN:VEVENT
DTSTAMP:20260424T113209Z
UID:93dd6c25-68b2-4b62-8aa9-077bfa84078c
DTSTART:20260521T190000
DTEND:20260521T210000
DESCRIPTION:
LOCATION:Corning-Painted Post Middle School Theater
SUMMARY:Hawk Factor Talent Show
END:VEVENT
BEGIN:VEVENT
DTSTAMP:20260424T113209Z
UID:8c42531d-8d78-4be4-8182-e4e0fa00d546
DTSTART;VALUE=DATE:20260522
DTEND;VALUE=DATE:20260523
DESCRIPTION:
LOCATION:
SUMMARY:Snow Day "Give Back"-No School for Staff and Students
END:VEVENT
BEGIN:VEVENT
DTSTAMP:20260424T113209Z
UID:d9430ffa-475f-4298-8e51-ec70e7fa4fa7
DTSTART;VALUE=DATE:20260525
DTEND;VALUE=DATE:20260526
DESCRIPTION:<p>No School for Staff or Students</p>
LOCATION:
SUMMARY:Memorial Day
END:VEVENT
BEGIN:VEVENT
DTSTAMP:20260424T113209Z
UID:2eecc433-2300-491d-9804-40cd67f79637
DTSTART:20260526T180000
DTEND:20260526T190000
DESCRIPTION:
LOCATION:CPP Middle School Theater
SUMMARY:MS 6th Gr. Band Concert
END:VEVENT
BEGIN:VEVENT
DTSTAMP:20260424T113209Z
UID:8f915ccd-b67c-4bf0-9c54-27c789de97dc
DTSTART:20260526T190000
DTEND:20260526T200000
DESCRIPTION:
LOCATION:CPP Middle School Theater
SUMMARY:MS 7th Gr. Ban d Concert
END:VEVENT
BEGIN:VEVENT
DTSTAMP:20260424T113209Z
UID:8d393ded-c3e6-44b3-a15c-53ee447e1a63
DTSTART:20260526T200000
DTEND:20260526T203000
DESCRIPTION:
LOCATION:CPP Middle School Theater
SUMMARY:MS 8th Gr. Band Concert
END:VEVENT
BEGIN:VEVENT
DTSTAMP:20260424T113209Z
UID:268a152b-a010-4983-ad59-554b3d03b825
DTSTART:20260528T180000
DTEND:20260528T183000
DESCRIPTION:
LOCATION:CPP Middle School Theater
SUMMARY:MS 6th Gr. Chorus Concert
END:VEVENT
BEGIN:VEVENT
DTSTAMP:20260424T113209Z
UID:b0ad449d-8f2a-4d8b-82ac-b51065c518bd
DTSTART:20260528T190000
DTEND:20260528T193000
DESCRIPTION:
LOCATION:CPP Middle School Theater
SUMMARY:MS 7th Gr. Chorus Concert
END:VEVENT
BEGIN:VEVENT
DTSTAMP:20260424T113209Z
UID:c4183d0d-a198-4abf-9dbe-e409ed8f8d5b
DTSTART:20260528T200000
DTEND:20260528T203000
DESCRIPTION:
LOCATION:CPP Middle School Theater
SUMMARY:MS 8th Gr. Chorus Concert
END:VEVENT
BEGIN:VEVENT
DTSTAMP:20260424T113209Z
UID:b15cb879-88ec-4d3a-beac-90268dfa9ca8
DTSTART;VALUE=DATE:20260603
DTEND;VALUE=DATE:20260604
DESCRIPTION:
LOCATION:
SUMMARY:CTA 1/2 days for Elementary/Middle School Students-11:05 Dismissal
END:VEVENT
BEGIN:VEVENT
DTSTAMP:20260424T113209Z
UID:f407837e-3001-40f8-82c9-822692d02a57
DTSTART;VALUE=DATE:20260609
DTEND;VALUE=DATE:20260610
DESCRIPTION:
LOCATION:
SUMMARY:Regents Exams
END:VEVENT
BEGIN:VEVENT
DTSTAMP:20260424T113209Z
UID:186525cd-d5d1-4348-9158-737359253e12
DTSTART;VALUE=DATE:20260611
DTEND;VALUE=DATE:20260612
DESCRIPTION:
LOCATION:
SUMMARY:CTA 1/2 days for Elementary/Middle School Students-11:05 Dismissal
END:VEVENT
BEGIN:VEVENT
DTSTAMP:20260424T113209Z
UID:7992016f-61a1-4d52-ace9-80a6d80f19e7
DTSTART;VALUE=DATE:20260617
DTEND;VALUE=DATE:20260627
DESCRIPTION:
LOCATION:
SUMMARY:Regents Exams
END:VEVENT
BEGIN:VEVENT
DTSTAMP:20260424T113209Z
UID:5f04a472-0520-46f5-b4fa-4fa22cffb194
DTSTART;VALUE=DATE:20260618
DTEND;VALUE=DATE:20260619
DESCRIPTION:
LOCATION:
SUMMARY:End of Marking Period 3
END:VEVENT
BEGIN:VEVENT
DTSTAMP:20260424T113209Z
UID:e0618330-3e22-43ac-9e7b-a4d7667f0bf9
DTSTART;VALUE=DATE:20260619
DTEND;VALUE=DATE:20260620
DESCRIPTION:
LOCATION:
SUMMARY:Juneteenth-No School for Staff and Students-District Offices Closed
END:VEVENT
BEGIN:VEVENT
DTSTAMP:20260424T113209Z
UID:8fdd3b60-aada-43f6-85f1-48644db4f24b
DTSTART;VALUE=DATE:20260624
DTEND;VALUE=DATE:20260625
DESCRIPTION:
LOCATION:
SUMMARY:Last Day of School-Elem/Middle School-Early Release 11:05  Report C
 ards Distributed/Parent Portal Opens
END:VEVENT
BEGIN:VEVENT
DTSTAMP:20260424T113209Z
UID:3c51d95c-b711-4ae4-beb0-3618b6cdd562
DTSTART;VALUE=DATE:20260625
DTEND;VALUE=DATE:20260626
DESCRIPTION:
LOCATION:
SUMMARY:Snow Day "Give Back"-No School for Staff and Students
END:VEVENT
END:VCALENDAR
