BEGIN:VCALENDAR
VERSION:2.0
PRODID:icalendar-ruby
CALSCALE:GREGORIAN
BEGIN:VTIMEZONE
TZID:America/New_York
BEGIN:DAYLIGHT
DTSTART:20260308T030000
TZOFFSETFROM:-0500
TZOFFSETTO:-0400
RRULE:FREQ=YEARLY;BYDAY=2SU;BYMONTH=3
TZNAME:EDT
END:DAYLIGHT
BEGIN:STANDARD
DTSTART:20261101T010000
TZOFFSETFROM:-0400
TZOFFSETTO:-0500
RRULE:FREQ=YEARLY;BYDAY=1SU;BYMONTH=11
TZNAME:EST
END:STANDARD
END:VTIMEZONE
BEGIN:VEVENT
DTSTAMP:20260422T170903Z
UID:7d35ab63-63b3-4c69-881e-7b8f0f469b89
DTSTART:20260423T161500
DTEND:20260423T181500
DESCRIPTION:
LOCATION:239 Republic Rd\, Republic\, PA 15475\, USA
SUMMARY:Varsity Baseball vs. Jefferson-Morgan
END:VEVENT
BEGIN:VEVENT
DTSTAMP:20260422T170903Z
UID:756c0f72-fd41-4534-93e8-b434ae76319d
DTSTART:20260425T090000
DTEND:20260425T120000
DESCRIPTION:<p>Sign Up in the HS Guidance Office</p><p>Meet at the PennCraf
 t Community Center at 9:00 AM</p>
LOCATION:PennCraft Community Center 
SUMMARY:PennCraft Clean-Up Day
END:VEVENT
BEGIN:VEVENT
DTSTAMP:20260422T170903Z
UID:d019fd42-5cb0-4f63-9d76-7f2f8e9510ae
DTSTART:20260427T161500
DTEND:20260427T193000
DESCRIPTION:
LOCATION:239 Republic Rd\, Republic\, PA 15475\, USA
SUMMARY:Varsity Baseball vs. Charleroi
END:VEVENT
BEGIN:VEVENT
DTSTAMP:20260422T170903Z
UID:b8077c26-8abc-47c9-a48c-c6ff30cd45a6
DTSTART:20260428T160000
DTEND:20260428T180000
DESCRIPTION:
LOCATION:1 Chamber Plaza\, Charleroi\, PA 15022\, USA
SUMMARY:Varsity Baseball @ Charleroi
END:VEVENT
BEGIN:VEVENT
DTSTAMP:20260422T170903Z
UID:795b7fcf-7288-4dcd-865b-1e9f9d7eda7c
DTSTART:20260430T161500
DTEND:20260430T181500
DESCRIPTION:
LOCATION:239 Republic Rd\, Republic\, PA 15475\, USA
SUMMARY:Varsity Baseball vs. California
END:VEVENT
BEGIN:VEVENT
DTSTAMP:20260422T170903Z
UID:06b914d0-96cc-481e-aa22-9704e9da4a3f
DTSTART:20260501T190000
DTEND:20260501T210000
DESCRIPTION:
LOCATION:20 Dunbar St\, Uniontown\, PA 15401\, USA
SUMMARY:Varsity Baseball @ Uniontown
END:VEVENT
BEGIN:VEVENT
DTSTAMP:20260422T170903Z
UID:7e44b6c4-967b-4106-b5b2-b70b04fa9602
DTSTART:20260506T161500
DTEND:20260506T181500
DESCRIPTION:
LOCATION:239 Republic Rd\, Republic\, PA 15475\, USA
SUMMARY:Varsity Baseball vs. Albert Gallatin
END:VEVENT
BEGIN:VEVENT
DTSTAMP:20260422T170903Z
UID:0f12c69e-bc4e-49b1-83fb-06de3aa7e36b
DTSTART:20260507T160000
DTEND:20260507T181500
DESCRIPTION:
LOCATION:915 Lowber Rd\, Herminie\, PA 15637\, USA
SUMMARY:Varsity Baseball @ Yough
END:VEVENT
END:VCALENDAR
