BEGIN:VCALENDAR
VERSION:2.0
PRODID:icalendar-ruby
CALSCALE:GREGORIAN
BEGIN:VTIMEZONE
TZID:America/Chicago
BEGIN:DAYLIGHT
DTSTART:20260308T030000
TZOFFSETFROM:-0600
TZOFFSETTO:-0500
RRULE:FREQ=YEARLY;BYDAY=2SU;BYMONTH=3
TZNAME:CDT
END:DAYLIGHT
BEGIN:STANDARD
DTSTART:20261101T010000
TZOFFSETFROM:-0500
TZOFFSETTO:-0600
RRULE:FREQ=YEARLY;BYDAY=1SU;BYMONTH=11
TZNAME:CST
END:STANDARD
END:VTIMEZONE
BEGIN:VEVENT
DTSTAMP:20260423T133444Z
UID:826a5135-961b-434c-9caa-1ffdcd50177f
DTSTART:20260521T080000
DTEND:20260521T130000
DESCRIPTION:<p>Last day of school for the 2025-2026 school year! 2 hour ear
 ly dismissal. NO half day P.M. classes or tiger club!</p>
LOCATION:1405 S Cottage Grove Ave\, Kirksville\, MO 63501\, USA
SUMMARY:Last Day of School!!! Early Out!!!!
END:VEVENT
BEGIN:VEVENT
DTSTAMP:20260423T133444Z
UID:5ace68aa-2140-4da6-a693-e6e8d40fd578
DTSTART;VALUE=DATE:20260522
DTEND;VALUE=DATE:20260523
DESCRIPTION:<p>No school for students. PD day for teachers. - possible make
 up day 3.</p>
LOCATION:1405 S Cottage Grove Ave\, Kirksville\, MO 63501\, USA
SUMMARY:NO SCHOOL - Teacher Professional Day
END:VEVENT
END:VCALENDAR
