BEGIN:VCALENDAR
VERSION:2.0
PRODID:icalendar-ruby
CALSCALE:GREGORIAN
BEGIN:VTIMEZONE
TZID:America/Chicago
BEGIN:DAYLIGHT
DTSTART:20260308T030000
TZOFFSETFROM:-0600
TZOFFSETTO:-0500
RRULE:FREQ=YEARLY;BYDAY=2SU;BYMONTH=3
TZNAME:CDT
END:DAYLIGHT
BEGIN:STANDARD
DTSTART:20261101T010000
TZOFFSETFROM:-0500
TZOFFSETTO:-0600
RRULE:FREQ=YEARLY;BYDAY=1SU;BYMONTH=11
TZNAME:CST
END:STANDARD
END:VTIMEZONE
BEGIN:VEVENT
DTSTAMP:20260423T101445Z
UID:e0260a13-0f27-4da3-9d3a-95ef1c2687f5
DTSTART;VALUE=DATE:20260420
DTEND;VALUE=DATE:20260428
DESCRIPTION:
LOCATION:
SUMMARY:Numeracy Testing\, Grades 1-3
END:VEVENT
BEGIN:VEVENT
DTSTAMP:20260423T101445Z
UID:2e3bad3c-dc22-4b4a-ac3e-b0f0e448e534
DTSTART;VALUE=DATE:20260423
DTEND;VALUE=DATE:20260424
DESCRIPTION:
LOCATION:
SUMMARY:Spanish Language Day
END:VEVENT
BEGIN:VEVENT
DTSTAMP:20260423T101445Z
UID:926daef2-0f72-41b8-84c2-170af3206f2d
DTSTART:20260423T160000
DTEND:20260423T170000
DESCRIPTION:
LOCATION:Caneview Library
SUMMARY:Crew of Caneview Meeting
END:VEVENT
BEGIN:VEVENT
DTSTAMP:20260423T101445Z
UID:4dcd0339-2965-43e1-b389-4fde0d4b3399
DTSTART:20260424T080000
DTEND:20260424T100000
DESCRIPTION:
LOCATION:
SUMMARY:Career View 7th-8th grades
END:VEVENT
BEGIN:VEVENT
DTSTAMP:20260423T101445Z
UID:8582773d-63bb-4b1d-8216-d65dbc590fc0
DTSTART:20260424T130000
DTEND:20260424T140000
DESCRIPTION:
LOCATION:Caneview Gym
SUMMARY:LEAP Pep Rally for Grades 3-8
END:VEVENT
BEGIN:VEVENT
DTSTAMP:20260423T101445Z
UID:84627344-8598-4fd1-bc4d-2d64ac7b343a
DTSTART;VALUE=DATE:20260428
DTEND;VALUE=DATE:20260506
DESCRIPTION:
LOCATION:
SUMMARY:LEAP Testing for Grades 3-8
END:VEVENT
BEGIN:VEVENT
DTSTAMP:20260423T101445Z
UID:553decdd-7162-48ff-bdf3-9bbe74c747be
DTSTART:20260506T080000
DTEND:20260508T110000
DESCRIPTION:
LOCATION:
SUMMARY:LEAP Test\, English 1\, Grade 8
END:VEVENT
BEGIN:VEVENT
DTSTAMP:20260423T101445Z
UID:d3ad8ea0-24f4-48f2-90de-80d185060972
DTSTART;VALUE=DATE:20260514
DTEND;VALUE=DATE:20260515
DESCRIPTION:
LOCATION:
SUMMARY:PAHS Graduation
END:VEVENT
BEGIN:VEVENT
DTSTAMP:20260423T101445Z
UID:34447a28-c490-4c20-9309-a97627c27b5e
DTSTART;VALUE=DATE:20260515
DTEND;VALUE=DATE:20260516
DESCRIPTION:
LOCATION:
SUMMARY:BHS Graduation 
END:VEVENT
BEGIN:VEVENT
DTSTAMP:20260423T101445Z
UID:233aa1f8-c8a3-4d08-a993-b822557ecf89
DTSTART;VALUE=DATE:20260519
DTEND;VALUE=DATE:20260520
DESCRIPTION:
LOCATION:
SUMMARY:Last Day or Head Start and PreK
END:VEVENT
BEGIN:VEVENT
DTSTAMP:20260423T101445Z
UID:74f2134a-4ff2-48ed-b6d9-df020f8fe9c6
DTSTART;VALUE=DATE:20260520
DTEND;VALUE=DATE:20260521
DESCRIPTION:
LOCATION:
SUMMARY:1/2 Day for Students 
END:VEVENT
BEGIN:VEVENT
DTSTAMP:20260423T101445Z
UID:107551e2-1948-4626-a72b-1f876bba887a
DTSTART;VALUE=DATE:20260521
DTEND;VALUE=DATE:20260522
DESCRIPTION:
LOCATION:
SUMMARY:1/2 Day for Students
END:VEVENT
BEGIN:VEVENT
DTSTAMP:20260423T101445Z
UID:1aa6073d-1d3b-48f6-8dd0-f7f36d5b3a91
DTSTART;VALUE=DATE:20260522
DTEND;VALUE=DATE:20260523
DESCRIPTION:
LOCATION:
SUMMARY:End of the 4th Nine Weeks
END:VEVENT
BEGIN:VEVENT
DTSTAMP:20260423T101445Z
UID:a8cc6858-59f8-4709-be6f-026940127344
DTSTART;VALUE=DATE:20260522
DTEND;VALUE=DATE:20260523
DESCRIPTION:
LOCATION:
SUMMARY:Teachers Only
END:VEVENT
BEGIN:VEVENT
DTSTAMP:20260423T101445Z
UID:b8535ba7-bb12-465c-9efb-60e6ea6c73e9
DTSTART;VALUE=DATE:20260525
DTEND;VALUE=DATE:20260526
DESCRIPTION:
LOCATION:
SUMMARY:Memorial Day Holiday
END:VEVENT
BEGIN:VEVENT
DTSTAMP:20260423T101445Z
UID:0d1c2d10-24c4-49e2-97ee-5c0af91f9c2f
DTSTART;VALUE=DATE:20260803
DTEND;VALUE=DATE:20260806
DESCRIPTION:
LOCATION:
SUMMARY:Teacher Only Days
END:VEVENT
BEGIN:VEVENT
DTSTAMP:20260423T101445Z
UID:47af76b1-3ed7-476a-b49f-da325dd09fc8
DTSTART;VALUE=DATE:20260806
DTEND;VALUE=DATE:20260807
DESCRIPTION:<p>First day of school for students in 1st through 12th grades.
 </p>
LOCATION:
SUMMARY:First Day for Students
END:VEVENT
BEGIN:VEVENT
DTSTAMP:20260423T101445Z
UID:e950164e-8a64-475c-9dc9-29c9fac10e7e
DTSTART;VALUE=DATE:20260806
DTEND;VALUE=DATE:20260807
DESCRIPTION:<p>Only Kindergarten Boys attend today.</p>
LOCATION:
SUMMARY:Kindergarten Boys Only
END:VEVENT
BEGIN:VEVENT
DTSTAMP:20260423T101445Z
UID:586b175f-98ce-4953-927c-9d30330e1355
DTSTART;VALUE=DATE:20260807
DTEND;VALUE=DATE:20260808
DESCRIPTION:<p>Only Kindergarten girls will attend today.</p>
LOCATION:
SUMMARY:Kindergarten Girls Only
END:VEVENT
BEGIN:VEVENT
DTSTAMP:20260423T101445Z
UID:662032aa-9a05-4ac2-b69e-7a238641a456
DTSTART;VALUE=DATE:20260810
DTEND;VALUE=DATE:20260811
DESCRIPTION:<p>All Kindergarten students attend today.</p>
LOCATION:
SUMMARY:All Kindergarten Students
END:VEVENT
BEGIN:VEVENT
DTSTAMP:20260423T101445Z
UID:48a45fb0-abd0-4a11-a516-b796f7f60506
DTSTART;VALUE=DATE:20260810
DTEND;VALUE=DATE:20260813
DESCRIPTION:
LOCATION:
SUMMARY:Head Start/Pre-K Phase-in
END:VEVENT
BEGIN:VEVENT
DTSTAMP:20260423T101445Z
UID:263903ce-e281-41bf-87f2-37f359c3c01d
DTSTART;VALUE=DATE:20260813
DTEND;VALUE=DATE:20260814
DESCRIPTION:<p>All Head Start and Pre-Kindergarten students attend.</p>
LOCATION:
SUMMARY:All Head Start/Pre-K students
END:VEVENT
BEGIN:VEVENT
DTSTAMP:20260423T101445Z
UID:f1002b53-00ce-4fa8-b014-8a49fde46163
DTSTART;VALUE=DATE:20260902
DTEND;VALUE=DATE:20260903
DESCRIPTION:
LOCATION:
SUMMARY:Progress Reports
END:VEVENT
BEGIN:VEVENT
DTSTAMP:20260423T101445Z
UID:abc818ab-12dc-4866-9e7f-b12d859096c2
DTSTART;VALUE=DATE:20260907
DTEND;VALUE=DATE:20260908
DESCRIPTION:<p>Labor Day holiday. No school. </p>
LOCATION:
SUMMARY:Labor Day
END:VEVENT
BEGIN:VEVENT
DTSTAMP:20260423T101445Z
UID:d21ab717-2925-472f-b914-40c191ea5d17
DTSTART;VALUE=DATE:20260921
DTEND;VALUE=DATE:20260922
DESCRIPTION:<p>No school for students.</p>
LOCATION:
SUMMARY:Teacher Only Day
END:VEVENT
BEGIN:VEVENT
DTSTAMP:20260423T101445Z
UID:de03ea34-54f9-4325-aee5-66ec7874ce91
DTSTART;VALUE=DATE:20261005
DTEND;VALUE=DATE:20261006
DESCRIPTION:
LOCATION:
SUMMARY:End of 1st 9 Weeks
END:VEVENT
BEGIN:VEVENT
DTSTAMP:20260423T101445Z
UID:30f9f985-f8e3-4ae5-afe0-c4b31f85887a
DTSTART;VALUE=DATE:20261007
DTEND;VALUE=DATE:20261008
DESCRIPTION:
LOCATION:
SUMMARY:Report Cards
END:VEVENT
BEGIN:VEVENT
DTSTAMP:20260423T101445Z
UID:d2af9f46-2ac5-422b-a0d7-40dfbb1a3c34
DTSTART;VALUE=DATE:20261012
DTEND;VALUE=DATE:20261014
DESCRIPTION:
LOCATION:
SUMMARY:Fall Break
END:VEVENT
BEGIN:VEVENT
DTSTAMP:20260423T101445Z
UID:ce7c3225-0e67-4f04-9f2e-a6be61a9ecac
DTSTART;VALUE=DATE:20261014
DTEND;VALUE=DATE:20261015
DESCRIPTION:<p>Paraprofessionals do not attend.</p>
LOCATION:
SUMMARY:Parent/Teacher Conferences
END:VEVENT
BEGIN:VEVENT
DTSTAMP:20260423T101445Z
UID:a81c5ca5-3d29-47a5-9c32-c0a108795a08
DTSTART;VALUE=DATE:20261102
DTEND;VALUE=DATE:20261103
DESCRIPTION:
LOCATION:
SUMMARY:Teacher Only Day
END:VEVENT
BEGIN:VEVENT
DTSTAMP:20260423T101445Z
UID:37bcfcf0-4260-4bcc-a065-be9b28373f2d
DTSTART;VALUE=DATE:20261103
DTEND;VALUE=DATE:20261104
DESCRIPTION:
LOCATION:
SUMMARY:Election Day
END:VEVENT
BEGIN:VEVENT
DTSTAMP:20260423T101445Z
UID:42439efd-2003-4ff3-86d9-0e7c88255aee
DTSTART;VALUE=DATE:20261110
DTEND;VALUE=DATE:20261111
DESCRIPTION:
LOCATION:
SUMMARY:Progress Reports
END:VEVENT
BEGIN:VEVENT
DTSTAMP:20260423T101445Z
UID:f2211dfb-8381-477e-ad45-638a07174efa
DTSTART;VALUE=DATE:20261123
DTEND;VALUE=DATE:20261128
DESCRIPTION:
LOCATION:
SUMMARY:Thanksgiving Break
END:VEVENT
BEGIN:VEVENT
DTSTAMP:20260423T101445Z
UID:cabfe73f-3864-4f09-acc6-c3f5fb428d22
DTSTART;VALUE=DATE:20261218
DTEND;VALUE=DATE:20261219
DESCRIPTION:
LOCATION:
SUMMARY:1/2 Day for Students
END:VEVENT
BEGIN:VEVENT
DTSTAMP:20260423T101445Z
UID:ce301175-67e3-44da-b49d-9bfae8dd9ccc
DTSTART;VALUE=DATE:20261218
DTEND;VALUE=DATE:20261219
DESCRIPTION:
LOCATION:
SUMMARY:End of 2nd 9 Weeks
END:VEVENT
BEGIN:VEVENT
DTSTAMP:20260423T101445Z
UID:c99b9e74-ad34-480e-8cae-c6ae83735475
DTSTART;VALUE=DATE:20261218
DTEND;VALUE=DATE:20261219
DESCRIPTION:
LOCATION:
SUMMARY:End of Second Semester
END:VEVENT
BEGIN:VEVENT
DTSTAMP:20260423T101445Z
UID:ebca1c4c-1fb2-4077-b421-7bb889079f3d
DTSTART;VALUE=DATE:20261221
DTEND;VALUE=DATE:20270101
DESCRIPTION:
LOCATION:
SUMMARY:Winter Break
END:VEVENT
BEGIN:VEVENT
DTSTAMP:20260423T101445Z
UID:fb2b1a75-4a80-4b66-9d0c-7b9a66d68b21
DTSTART;VALUE=DATE:20270101
DTEND;VALUE=DATE:20270102
DESCRIPTION:
LOCATION:
SUMMARY:Winter Break (cont.)
END:VEVENT
BEGIN:VEVENT
DTSTAMP:20260423T101445Z
UID:b311c254-985e-45fa-8ad9-514fe1984b2c
DTSTART;VALUE=DATE:20270104
DTEND;VALUE=DATE:20270105
DESCRIPTION:
LOCATION:
SUMMARY:Teacher Only Day
END:VEVENT
BEGIN:VEVENT
DTSTAMP:20260423T101445Z
UID:5a94ab8d-1adc-4ede-b411-73251f48380a
DTSTART;VALUE=DATE:20270105
DTEND;VALUE=DATE:20270106
DESCRIPTION:
LOCATION:
SUMMARY:Report Cards
END:VEVENT
BEGIN:VEVENT
DTSTAMP:20260423T101445Z
UID:bcc42a66-771c-4a78-aeba-016ab789fa66
DTSTART;VALUE=DATE:20270105
DTEND;VALUE=DATE:20270106
DESCRIPTION:
LOCATION:
SUMMARY:Students Return
END:VEVENT
BEGIN:VEVENT
DTSTAMP:20260423T101445Z
UID:b034ba5a-da7f-4cf4-a107-2e765db65d68
DTSTART;VALUE=DATE:20270118
DTEND;VALUE=DATE:20270119
DESCRIPTION:
LOCATION:
SUMMARY:Martin Luther King Jr. Holiday
END:VEVENT
BEGIN:VEVENT
DTSTAMP:20260423T101445Z
UID:6e5fdc72-945a-46dd-92dd-19354c6b7d4f
DTSTART;VALUE=DATE:20270204
DTEND;VALUE=DATE:20270205
DESCRIPTION:
LOCATION:
SUMMARY:Progress Reports
END:VEVENT
BEGIN:VEVENT
DTSTAMP:20260423T101445Z
UID:ac853b52-4ced-479a-b32e-43eabddbefd5
DTSTART;VALUE=DATE:20270208
DTEND;VALUE=DATE:20270210
DESCRIPTION:
LOCATION:
SUMMARY:Mardi Gras Holiday
END:VEVENT
BEGIN:VEVENT
DTSTAMP:20260423T101445Z
UID:c81550f0-31d8-47ca-b03d-ff1065df0cfd
DTSTART;VALUE=DATE:20270210
DTEND;VALUE=DATE:20270211
DESCRIPTION:<p>Paraprofessionals do not attend.</p>
LOCATION:
SUMMARY:Parent/Teacher Conferences
END:VEVENT
BEGIN:VEVENT
DTSTAMP:20260423T101445Z
UID:37aa8a38-069b-4910-a5ca-c6b0463c1198
DTSTART;VALUE=DATE:20270301
DTEND;VALUE=DATE:20270302
DESCRIPTION:
LOCATION:
SUMMARY:Teacher Only Day
END:VEVENT
BEGIN:VEVENT
DTSTAMP:20260423T101445Z
UID:8606cc27-7cdb-450d-b0a3-6e73d728d1c2
DTSTART;VALUE=DATE:20270310
DTEND;VALUE=DATE:20270311
DESCRIPTION:
LOCATION:
SUMMARY:End of 3rd 9 Weeks
END:VEVENT
BEGIN:VEVENT
DTSTAMP:20260423T101445Z
UID:babdd7ad-6c9d-4f6e-8f22-de247a5394f8
DTSTART;VALUE=DATE:20270312
DTEND;VALUE=DATE:20270313
DESCRIPTION:
LOCATION:
SUMMARY:Report Cards
END:VEVENT
BEGIN:VEVENT
DTSTAMP:20260423T101445Z
UID:c476e059-f2c3-41b6-9880-e48df2fb3cab
DTSTART;VALUE=DATE:20270326
DTEND;VALUE=DATE:20270401
DESCRIPTION:
LOCATION:
SUMMARY:Spring Break
END:VEVENT
BEGIN:VEVENT
DTSTAMP:20260423T101445Z
UID:fa1e0f99-95fc-4352-815d-456ee225392c
DTSTART;VALUE=DATE:20270401
DTEND;VALUE=DATE:20270403
DESCRIPTION:
LOCATION:
SUMMARY:Spring Break (cont.)
END:VEVENT
BEGIN:VEVENT
DTSTAMP:20260423T101445Z
UID:0a95a5e3-5989-4029-aa3a-39d8905419c5
DTSTART;VALUE=DATE:20270420
DTEND;VALUE=DATE:20270421
DESCRIPTION:
LOCATION:
SUMMARY:Progress Reports
END:VEVENT
BEGIN:VEVENT
DTSTAMP:20260423T101445Z
UID:054a1f0f-83d8-403f-9812-5f1baeb3fb0d
DTSTART;VALUE=DATE:20270513
DTEND;VALUE=DATE:20270514
DESCRIPTION:
LOCATION:
SUMMARY:Brusly High Graduation
END:VEVENT
BEGIN:VEVENT
DTSTAMP:20260423T101445Z
UID:2bc79a15-6bcf-44e9-af71-b31451048e69
DTSTART;VALUE=DATE:20270514
DTEND;VALUE=DATE:20270515
DESCRIPTION:
LOCATION:
SUMMARY:Port Allen High Graduation
END:VEVENT
BEGIN:VEVENT
DTSTAMP:20260423T101445Z
UID:a8e441c1-39c9-4127-8b96-c8b419efcb1a
DTSTART;VALUE=DATE:20270518
DTEND;VALUE=DATE:20270519
DESCRIPTION:
LOCATION:
SUMMARY:Last Day for Head Start and Pre-K
END:VEVENT
BEGIN:VEVENT
DTSTAMP:20260423T101445Z
UID:2ffeff64-b172-41ca-958e-64eb51663da5
DTSTART;VALUE=DATE:20270519
DTEND;VALUE=DATE:20270521
DESCRIPTION:
LOCATION:
SUMMARY:1/2 Day for Students
END:VEVENT
BEGIN:VEVENT
DTSTAMP:20260423T101445Z
UID:f33d00f9-5136-4f4c-8422-c79288103393
DTSTART;VALUE=DATE:20270520
DTEND;VALUE=DATE:20270521
DESCRIPTION:
LOCATION:
SUMMARY:End of 2nd Semester
END:VEVENT
BEGIN:VEVENT
DTSTAMP:20260423T101445Z
UID:9186ec2c-65c5-4876-b392-eaf2f96a8992
DTSTART;VALUE=DATE:20270520
DTEND;VALUE=DATE:20270521
DESCRIPTION:
LOCATION:
SUMMARY:End of 4th 9 Weeks
END:VEVENT
BEGIN:VEVENT
DTSTAMP:20260423T101445Z
UID:cb5a8b95-ca74-4782-a4b6-da16621993f0
DTSTART;VALUE=DATE:20270521
DTEND;VALUE=DATE:20270522
DESCRIPTION:
LOCATION:
SUMMARY:Teachers Only Day
END:VEVENT
END:VCALENDAR
