BEGIN:VCALENDAR
VERSION:2.0
PRODID:icalendar-ruby
CALSCALE:GREGORIAN
BEGIN:VTIMEZONE
TZID:America/Chicago
BEGIN:DAYLIGHT
DTSTART:20260308T030000
TZOFFSETFROM:-0600
TZOFFSETTO:-0500
RRULE:FREQ=YEARLY;BYDAY=2SU;BYMONTH=3
TZNAME:CDT
END:DAYLIGHT
BEGIN:STANDARD
DTSTART:20261101T010000
TZOFFSETFROM:-0500
TZOFFSETTO:-0600
RRULE:FREQ=YEARLY;BYDAY=1SU;BYMONTH=11
TZNAME:CST
END:STANDARD
END:VTIMEZONE
BEGIN:VEVENT
DTSTAMP:20260426T032526Z
UID:8ff575ed-54ad-459a-865d-837b5667f663
DTSTART;VALUE=DATE:20260423
DTEND;VALUE=DATE:20260426
DESCRIPTION:
LOCATION:Abilene\, TX\, USA
SUMMARY:Regional One Act Play
END:VEVENT
BEGIN:VEVENT
DTSTAMP:20260426T032526Z
UID:0a8e1dd0-de4f-4512-a752-0677ade41315
DTSTART;VALUE=DATE:20260424
DTEND;VALUE=DATE:20260426
DESCRIPTION:
LOCATION:Abilene Christian University\, 1600 Campus Ct\, Abilene\, TX 79601
 \, USA
SUMMARY:Regional UIL Academic and Speech Meet
END:VEVENT
BEGIN:VEVENT
DTSTAMP:20260426T032526Z
UID:1d4cbfe4-9d24-4a27-8199-65be9c579d47
DTSTART;VALUE=DATE:20260424
DTEND;VALUE=DATE:20260426
DESCRIPTION:
LOCATION:Abilene Christian University\, 1600 Campus Ct\, Abilene\, TX 79601
 \, USA
SUMMARY:Regional UIL Academic and Speech Meet
END:VEVENT
BEGIN:VEVENT
DTSTAMP:20260426T032526Z
UID:49674525-9b8c-4240-aa38-e7e17e7c55e3
DTSTART;VALUE=DATE:20260424
DTEND;VALUE=DATE:20260426
DESCRIPTION:
LOCATION:San Marcos\, TX\, USA
SUMMARY:State VASE
END:VEVENT
BEGIN:VEVENT
DTSTAMP:20260426T032526Z
UID:f3a19676-c190-42e8-ab48-54100463d415
DTSTART;VALUE=DATE:20260425
DTEND;VALUE=DATE:20260426
DESCRIPTION:
LOCATION:College Station\, TX\, USA
SUMMARY:TAMU CDE
END:VEVENT
BEGIN:VEVENT
DTSTAMP:20260426T032526Z
UID:7d342333-cf22-43b7-9260-5c665e368a77
DTSTART;VALUE=DATE:20260427
DTEND;VALUE=DATE:20260429
DESCRIPTION:
LOCATION:Jimmy Clay Golf Course
SUMMARY:State Golf Tournament-Boys
END:VEVENT
BEGIN:VEVENT
DTSTAMP:20260426T032526Z
UID:1ba542a1-af77-46aa-ab13-e50e12c64a74
DTSTART;VALUE=DATE:20260427
DTEND;VALUE=DATE:20260428
DESCRIPTION:
LOCATION:
SUMMARY:WJHS Progress Reports
END:VEVENT
BEGIN:VEVENT
DTSTAMP:20260426T032526Z
UID:148409bd-e2a6-4aa1-950f-3fdf90034f8c
DTSTART:20260427T154500
DTEND:20260427T163000
DESCRIPTION:
LOCATION:
SUMMARY:WJH Varsity Band Practice
END:VEVENT
BEGIN:VEVENT
DTSTAMP:20260426T032526Z
UID:e5f9abe3-3d4b-4e69-b64a-79236b795203
DTSTART;VALUE=DATE:20260428
DTEND;VALUE=DATE:20260429
DESCRIPTION:
LOCATION:
SUMMARY:Dillman Progress Reports
END:VEVENT
BEGIN:VEVENT
DTSTAMP:20260426T032526Z
UID:28318792-2d8b-4f55-9917-926e7a808026
DTSTART;VALUE=DATE:20260428
DTEND;VALUE=DATE:20260504
DESCRIPTION:
LOCATION:Houston\, TX\, USA
SUMMARY:Robotics World Competition
END:VEVENT
BEGIN:VEVENT
DTSTAMP:20260426T032526Z
UID:9ea059fe-e76e-4ef1-8d8c-b9a1cc13194e
DTSTART:20260428T170000
DTEND:20260428T180000
DESCRIPTION:
LOCATION:
SUMMARY:PK/Kinder Round Up
END:VEVENT
BEGIN:VEVENT
DTSTAMP:20260426T032526Z
UID:a2194df2-4de6-4fde-ad6f-ff8aa0c407e9
DTSTART;VALUE=DATE:20260429
DTEND;VALUE=DATE:20260430
DESCRIPTION:
LOCATION:
SUMMARY:DeShazo Progress Reports Sent Home
END:VEVENT
BEGIN:VEVENT
DTSTAMP:20260426T032526Z
UID:8d4214b8-a06a-498d-accb-1228e8e8c364
DTSTART:20260429T154500
DTEND:20260429T163000
DESCRIPTION:
LOCATION:
SUMMARY:Beginning Band Practice
END:VEVENT
BEGIN:VEVENT
DTSTAMP:20260426T032526Z
UID:c9c1fbfc-e68f-4aa9-954e-152869d34450
DTSTART:20260429T154500
DTEND:20260429T163000
DESCRIPTION:
LOCATION:
SUMMARY:WJHS Last Day of Tutorials
END:VEVENT
BEGIN:VEVENT
DTSTAMP:20260426T032526Z
UID:9b51e4df-c46c-419f-97ef-5da44bd87d43
DTSTART:20260430T083000
DTEND:20260430T113000
DESCRIPTION:
LOCATION:MHS
SUMMARY:CTE Showcase
END:VEVENT
BEGIN:VEVENT
DTSTAMP:20260426T032526Z
UID:d9030c40-b41a-46ba-bf05-b52f6a7ec5cb
DTSTART:20260430T134500
DTEND:20260430T151500
DESCRIPTION:
LOCATION:
SUMMARY:First AR Ceiling Tile Painting Opportunity
END:VEVENT
BEGIN:VEVENT
DTSTAMP:20260426T032526Z
UID:67fe5105-428a-4ea1-b3ff-431e1744a30f
DTSTART;VALUE=DATE:20260501
DTEND;VALUE=DATE:20260502
DESCRIPTION:
LOCATION:
SUMMARY:DeShazo Track Meet/Hamburger Cookout
END:VEVENT
BEGIN:VEVENT
DTSTAMP:20260426T032526Z
UID:c2f80804-426b-4b93-8c6b-540d6a57a1f8
DTSTART;VALUE=DATE:20260501
DTEND;VALUE=DATE:20260503
DESCRIPTION:
LOCATION:Abilene Christian University\, 1600 Campus Ct\, Abilene\, TX 79601
 \, USA
SUMMARY:Regional Track
END:VEVENT
BEGIN:VEVENT
DTSTAMP:20260426T032526Z
UID:17b28b0f-7658-446e-89a8-662ab855d89d
DTSTART:20260501T153500
DTEND:20260501T163500
DESCRIPTION:
LOCATION:MHS
SUMMARY:UIL Lose or Regain Eligibility
END:VEVENT
BEGIN:VEVENT
DTSTAMP:20260426T032526Z
UID:f5df333a-8de8-48d6-ac0e-d0de9bd0f50a
DTSTART:20260501T190000
DTEND:20260501T200000
DESCRIPTION:
LOCATION:South Plains College\, 1401 College Ave\, Levelland\, TX 79336\, U
 SA
SUMMARY:Littlefield District Banquet
END:VEVENT
BEGIN:VEVENT
DTSTAMP:20260426T032526Z
UID:eb4fa324-5a2f-45f2-9db3-e2a7d493e769
DTSTART;VALUE=DATE:20260502
DTEND;VALUE=DATE:20260503
DESCRIPTION:
LOCATION:Lubbock\, TX\, USA
SUMMARY:Texas Tech State CDE
END:VEVENT
BEGIN:VEVENT
DTSTAMP:20260426T032526Z
UID:b2ac981e-e2aa-4c7f-804e-cc3ddf625109
DTSTART;VALUE=DATE:20260504
DTEND;VALUE=DATE:20260506
DESCRIPTION:
LOCATION:Jimmy Clay Golf Course
SUMMARY:State Golf Tournament-Girls
END:VEVENT
BEGIN:VEVENT
DTSTAMP:20260426T032526Z
UID:7464f53f-107b-41db-8921-b97131ec4e55
DTSTART;VALUE=DATE:20260504
DTEND;VALUE=DATE:20260505
DESCRIPTION:
LOCATION:
SUMMARY:WJH Student Council Field Trip
END:VEVENT
BEGIN:VEVENT
DTSTAMP:20260426T032526Z
UID:54eba7b3-0997-43c0-8ade-a467db943a76
DTSTART:20260504T154500
DTEND:20260504T163000
DESCRIPTION:
LOCATION:
SUMMARY:Beginning Band & Varsity Band Practice
END:VEVENT
BEGIN:VEVENT
DTSTAMP:20260426T032526Z
UID:1aa5a403-663a-4c33-8a97-216cf2093805
DTSTART:20260504T173000
DTEND:20260504T193000
DESCRIPTION:
LOCATION:MHS Commons/Auditorium
SUMMARY:MHS Athletic Banquet
END:VEVENT
BEGIN:VEVENT
DTSTAMP:20260426T032526Z
UID:6c484a80-0484-44c8-bd8e-54a8b293b153
DTSTART;VALUE=DATE:20260505
DTEND;VALUE=DATE:20260506
DESCRIPTION:
LOCATION:
SUMMARY:Grades 3-5 Spring Reading MAP Testing
END:VEVENT
BEGIN:VEVENT
DTSTAMP:20260426T032526Z
UID:183c410f-8ad4-432e-bfba-2990e06be65c
DTSTART:20260505T180000
DTEND:20260505T190000
DESCRIPTION:
LOCATION:MHS Auditorium
SUMMARY:Muleshoe Spring Band Concert
END:VEVENT
BEGIN:VEVENT
DTSTAMP:20260426T032526Z
UID:c551c2ab-c31d-42c2-b04c-c33131a71b00
DTSTART;VALUE=DATE:20260506
DTEND;VALUE=DATE:20260507
DESCRIPTION:
LOCATION:
SUMMARY:Grades 3-5 Spring Language MAP Testing
END:VEVENT
BEGIN:VEVENT
DTSTAMP:20260426T032526Z
UID:91c0b586-cd81-4c37-a847-af0edcc95c59
DTSTART;VALUE=DATE:20260506
DTEND;VALUE=DATE:20260509
DESCRIPTION:
LOCATION:MHS
SUMMARY:Senior Mock Interviews
END:VEVENT
BEGIN:VEVENT
DTSTAMP:20260426T032526Z
UID:39a653e0-7e32-43dc-b597-5458fe464892
DTSTART:20260506T163000
DTEND:20260506T170000
DESCRIPTION:
LOCATION:
SUMMARY:WJHS Campus Forum Meeting
END:VEVENT
BEGIN:VEVENT
DTSTAMP:20260426T032526Z
UID:a26f853a-90bf-4360-bff6-7716fb0070ba
DTSTART;VALUE=DATE:20260507
DTEND;VALUE=DATE:20260508
DESCRIPTION:
LOCATION:
SUMMARY:7th Grade Field Trip
END:VEVENT
BEGIN:VEVENT
DTSTAMP:20260426T032526Z
UID:329d84de-c8e8-43e8-9702-583575e94f14
DTSTART;VALUE=DATE:20260507
DTEND;VALUE=DATE:20260508
DESCRIPTION:
LOCATION:
SUMMARY:Grades 3-5 Spring Math MAP Testing
END:VEVENT
BEGIN:VEVENT
DTSTAMP:20260426T032526Z
UID:85b67455-6264-46be-84cf-9234b88ed7e3
DTSTART;VALUE=DATE:20260507
DTEND;VALUE=DATE:20260511
DESCRIPTION:
LOCATION:
SUMMARY:GT Trip
END:VEVENT
BEGIN:VEVENT
DTSTAMP:20260426T032526Z
UID:0cfbf634-dad4-4d32-a1ac-58c76ac74663
DTSTART:20260507T134500
DTEND:20260507T151500
DESCRIPTION:
LOCATION:
SUMMARY:Second AR Ceiling Tile Painting Opportunity
END:VEVENT
BEGIN:VEVENT
DTSTAMP:20260426T032526Z
UID:8b336478-907c-47d5-974a-a2aec73332d0
DTSTART;VALUE=DATE:20260508
DTEND;VALUE=DATE:20260509
DESCRIPTION:
LOCATION:
SUMMARY:WJHS G/T Field Trip
END:VEVENT
BEGIN:VEVENT
DTSTAMP:20260426T032526Z
UID:8100659a-437f-4e31-95da-24d45649420e
DTSTART:20260508T130000
DTEND:20260508T140000
DESCRIPTION:
LOCATION:
SUMMARY:Fifth Grade Rocket Launch
END:VEVENT
BEGIN:VEVENT
DTSTAMP:20260426T032526Z
UID:985f0dc8-8717-4cdf-89c8-d284d1e540d9
DTSTART:20260508T140000
DTEND:20260508T143000
DESCRIPTION:
LOCATION:
SUMMARY:Kinder Mother's Day Tea
END:VEVENT
BEGIN:VEVENT
DTSTAMP:20260426T032526Z
UID:6d4ee27e-2111-4b7b-90b4-93db0c507f1a
DTSTART:20260508T152500
DTEND:20260508T152500
DESCRIPTION:
LOCATION:
SUMMARY:Deadline to Earn Points for AR Ceiling Tile
END:VEVENT
BEGIN:VEVENT
DTSTAMP:20260426T032526Z
UID:dcee4b4d-e00c-4cad-a127-e095a549ce2e
DTSTART;VALUE=DATE:20260509
DTEND;VALUE=DATE:20260510
DESCRIPTION:
LOCATION:
SUMMARY:WJH Band Competition in Abernathy
END:VEVENT
BEGIN:VEVENT
DTSTAMP:20260426T032526Z
UID:ea8a64ac-21de-4fe6-bf62-5b99d0650384
DTSTART:20260509T193000
DTEND:20260509T203000
DESCRIPTION:
LOCATION:
SUMMARY:Area 1 Convention
END:VEVENT
BEGIN:VEVENT
DTSTAMP:20260426T032526Z
UID:9987acfc-e9b7-4677-a554-e0d3fe1bc8fe
DTSTART;VALUE=DATE:20260511
DTEND;VALUE=DATE:20260512
DESCRIPTION:
LOCATION:
SUMMARY:8th Grade Field Trip
END:VEVENT
BEGIN:VEVENT
DTSTAMP:20260426T032526Z
UID:31e18ed2-6d38-4463-88a3-cdf1aed35425
DTSTART;VALUE=DATE:20260511
DTEND;VALUE=DATE:20260514
DESCRIPTION:
LOCATION:Austin\, TX\, USA
SUMMARY:State One Act Play
END:VEVENT
BEGIN:VEVENT
DTSTAMP:20260426T032526Z
UID:bf5e0d64-2be9-4554-bc3a-835bdf04dba4
DTSTART:20260511T180000
DTEND:20260511T190000
DESCRIPTION:
LOCATION:
SUMMARY:Fine Arts Showcase and Awards
END:VEVENT
BEGIN:VEVENT
DTSTAMP:20260426T032526Z
UID:f633cbde-c4c3-435c-a762-e9455cbd9ce9
DTSTART;VALUE=DATE:20260512
DTEND;VALUE=DATE:20260513
DESCRIPTION:
LOCATION:
SUMMARY:Dillman Awards Assembly Day
END:VEVENT
BEGIN:VEVENT
DTSTAMP:20260426T032526Z
UID:286584b7-e9d2-4586-8864-127e2bdbaefa
DTSTART:20260512T084500
DTEND:20260512T094500
DESCRIPTION:
LOCATION:Muleshoe High School Auditorium
SUMMARY:1st & 2nd Grade Awards Assembly
END:VEVENT
BEGIN:VEVENT
DTSTAMP:20260426T032526Z
UID:75c6898a-ea0d-445e-a872-2e89001deca5
DTSTART:20260512T103000
DTEND:20260512T113000
DESCRIPTION:
LOCATION:MHS Auditorium
SUMMARY:Pre-Kindergarten Awards Assembly
END:VEVENT
BEGIN:VEVENT
DTSTAMP:20260426T032526Z
UID:e2198a96-bdfb-4655-aff6-38b8bbf7bf5b
DTSTART:20260512T130000
DTEND:20260512T140000
DESCRIPTION:
LOCATION:MHS Auditorium
SUMMARY:Kindergarten Graduation
END:VEVENT
BEGIN:VEVENT
DTSTAMP:20260426T032526Z
UID:ce2d5b63-4c5f-4eb4-894b-17f0cfb19244
DTSTART:20260512T180000
DTEND:20260512T190000
DESCRIPTION:
LOCATION:WJH Gym
SUMMARY:WJH NJHS Induction Ceremony
END:VEVENT
BEGIN:VEVENT
DTSTAMP:20260426T032526Z
UID:4de4caec-aef4-411c-95d2-914934275fcd
DTSTART:20260513T090000
DTEND:20260513T100000
DESCRIPTION:
LOCATION:
SUMMARY:DeShazo Awards Assembly
END:VEVENT
BEGIN:VEVENT
DTSTAMP:20260426T032526Z
UID:83ffe522-58a1-43ce-8542-19c57b73cd25
DTSTART:20260513T133000
DTEND:20260513T143000
DESCRIPTION:
LOCATION:
SUMMARY:WJHS Awards Assembly
END:VEVENT
BEGIN:VEVENT
DTSTAMP:20260426T032526Z
UID:02013ba1-93be-4c15-9685-01a8ad1c07f4
DTSTART:20260513T180000
DTEND:20260513T190000
DESCRIPTION:
LOCATION:MHS Auditorium
SUMMARY:MHS National Honor Society
END:VEVENT
BEGIN:VEVENT
DTSTAMP:20260426T032526Z
UID:df5c6378-38e0-4e7d-bbbf-38470e58b642
DTSTART;VALUE=DATE:20260514
DTEND;VALUE=DATE:20260515
DESCRIPTION:
LOCATION:Austin\, TX\, USA
SUMMARY:State Track Meet
END:VEVENT
BEGIN:VEVENT
DTSTAMP:20260426T032526Z
UID:d58de75e-8395-4fbd-a86c-06156a612e24
DTSTART;VALUE=DATE:20260514
DTEND;VALUE=DATE:20260515
DESCRIPTION:
LOCATION:
SUMMARY:WJHS Book Club Field Trip
END:VEVENT
BEGIN:VEVENT
DTSTAMP:20260426T032526Z
UID:d7982f7c-c0e1-4598-9995-d4794dacce18
DTSTART:20260514T134500
DTEND:20260514T151500
DESCRIPTION:
LOCATION:
SUMMARY:Final AR Ceiling Tile Painting Opportunity
END:VEVENT
BEGIN:VEVENT
DTSTAMP:20260426T032526Z
UID:4e02fc5e-17cc-401d-81be-6b067ab35b00
DTSTART:20260514T180000
DTEND:20260514T200000
DESCRIPTION:
LOCATION:MHS Commons
SUMMARY:FFA Banquet
END:VEVENT
BEGIN:VEVENT
DTSTAMP:20260426T032526Z
UID:bcefaf11-e981-4b27-8fca-84ef0dc357ed
DTSTART;VALUE=DATE:20260515
DTEND;VALUE=DATE:20260516
DESCRIPTION:
LOCATION:
SUMMARY:Final Circle of Champions Incentive Trip
END:VEVENT
BEGIN:VEVENT
DTSTAMP:20260426T032526Z
UID:fd7162fa-7e11-48b3-be7e-1343df45f181
DTSTART:20260516T093000
DTEND:20260516T113000
DESCRIPTION:
LOCATION:Football Field
SUMMARY:MHS Graduation
END:VEVENT
BEGIN:VEVENT
DTSTAMP:20260426T032526Z
UID:1e6fc24d-3859-42dd-83e5-1faaa2212726
DTSTART;VALUE=DATE:20260518
DTEND;VALUE=DATE:20260521
DESCRIPTION:
LOCATION:Austin\, TX\, USA
SUMMARY:State UIL Academic and Speech/Debate Meet
END:VEVENT
BEGIN:VEVENT
DTSTAMP:20260426T032526Z
UID:2d6d2ea8-bbac-473d-b4f7-b0bc838117a6
DTSTART;VALUE=DATE:20260520
DTEND;VALUE=DATE:20260521
DESCRIPTION:
LOCATION:
SUMMARY:DeShazo Report Cards Sent Home
END:VEVENT
BEGIN:VEVENT
DTSTAMP:20260426T032526Z
UID:c57c7eab-2d74-4803-a32b-d2b22ed15702
DTSTART;VALUE=DATE:20260520
DTEND;VALUE=DATE:20260521
DESCRIPTION:
LOCATION:
SUMMARY:Last Day of School
END:VEVENT
BEGIN:VEVENT
DTSTAMP:20260426T032526Z
UID:d8868b1b-7288-4ae2-8252-80e880cc670f
DTSTART:20260520T110000
DTEND:20260520T111500
DESCRIPTION:
LOCATION:
SUMMARY:WJHS 8th Grade Walk Across
END:VEVENT
BEGIN:VEVENT
DTSTAMP:20260426T032526Z
UID:28f17976-cc5d-43ea-a4a0-3387203ad174
DTSTART:20260520T153500
DTEND:20260520T153500
DESCRIPTION:
LOCATION:
SUMMARY:End of 6th 6 weeks
END:VEVENT
BEGIN:VEVENT
DTSTAMP:20260426T032526Z
UID:c8c0b9cf-5a3d-491a-a8a4-5d49aab64738
DTSTART;VALUE=DATE:20260521
DTEND;VALUE=DATE:20260523
DESCRIPTION:
LOCATION:
SUMMARY:MHS Staff Development
END:VEVENT
BEGIN:VEVENT
DTSTAMP:20260426T032526Z
UID:6265ff4b-2564-48e2-9848-b43aefb03d79
DTSTART:20260522T083000
DTEND:20260522T120000
DESCRIPTION:
LOCATION:MHS Auditorium
SUMMARY:End of Year Staff Meeting
END:VEVENT
BEGIN:VEVENT
DTSTAMP:20260426T032526Z
UID:b4adf7e9-595c-4651-969a-8c8178d89f47
DTSTART;VALUE=DATE:20260523
DTEND;VALUE=DATE:20260526
DESCRIPTION:
LOCATION:Pflugerville\, TX\, USA
SUMMARY:Texas State Solo and Ensemble
END:VEVENT
BEGIN:VEVENT
DTSTAMP:20260426T032526Z
UID:91931307-8935-44ff-8652-64aeb3ec7fa7
DTSTART;VALUE=DATE:20260525
DTEND;VALUE=DATE:20260526
DESCRIPTION:
LOCATION:
SUMMARY:MHS School Holiday
END:VEVENT
BEGIN:VEVENT
DTSTAMP:20260426T032526Z
UID:79c8fa14-23fe-41b7-98f2-a1caac86c421
DTSTART:20260601T074500
DTEND:20260612T004500
DESCRIPTION:
LOCATION:MHS
SUMMARY:MHS Summer School
END:VEVENT
BEGIN:VEVENT
DTSTAMP:20260426T032526Z
UID:0948d973-ed75-43b8-8025-f4ee71706d81
DTSTART;VALUE=DATE:20260608
DTEND;VALUE=DATE:20260609
DESCRIPTION:
LOCATION:Muleshoe\, TX 79347\, USA
SUMMARY:State Validation
END:VEVENT
BEGIN:VEVENT
DTSTAMP:20260426T032526Z
UID:58819adf-0415-43d0-8a92-d47c156c75ff
DTSTART:20260615T080000
DTEND:20260618T120000
DESCRIPTION:
LOCATION:MHS
SUMMARY:EOC Retakes
END:VEVENT
BEGIN:VEVENT
DTSTAMP:20260426T032526Z
UID:1db3a18d-1008-4285-be3e-2aec6e5aa992
DTSTART;VALUE=DATE:20260616
DTEND;VALUE=DATE:20260619
DESCRIPTION:
LOCATION:Clarendon\, TX 79226\, USA
SUMMARY:Leadership Camp
END:VEVENT
BEGIN:VEVENT
DTSTAMP:20260426T032526Z
UID:560fb124-e586-4535-b48a-fc1d460c8d10
DTSTART;VALUE=DATE:20260622
DTEND;VALUE=DATE:20260625
DESCRIPTION:
LOCATION:
SUMMARY:WJH & MHS Cheer Camp
END:VEVENT
BEGIN:VEVENT
DTSTAMP:20260426T032526Z
UID:53eedb8a-8bef-40eb-a262-6f62f0f9cb1b
DTSTART;VALUE=DATE:20260706
DTEND;VALUE=DATE:20260711
DESCRIPTION:
LOCATION:Fort Worth\, TX\, USA
SUMMARY:State Convention
END:VEVENT
BEGIN:VEVENT
DTSTAMP:20260426T032526Z
UID:32e66dfc-8f6d-4aae-8201-51240a8e5802
DTSTART;VALUE=DATE:20260719
DTEND;VALUE=DATE:20260725
DESCRIPTION:
LOCATION:Corpus Christi\, TX\, USA
SUMMARY:Ag Teacher Conference
END:VEVENT
END:VCALENDAR
