BEGIN:VCALENDAR
VERSION:2.0
PRODID:icalendar-ruby
CALSCALE:GREGORIAN
BEGIN:VTIMEZONE
TZID:America/Chicago
BEGIN:DAYLIGHT
DTSTART:20260308T030000
TZOFFSETFROM:-0600
TZOFFSETTO:-0500
RRULE:FREQ=YEARLY;BYDAY=2SU;BYMONTH=3
TZNAME:CDT
END:DAYLIGHT
BEGIN:STANDARD
DTSTART:20261101T010000
TZOFFSETFROM:-0500
TZOFFSETTO:-0600
RRULE:FREQ=YEARLY;BYDAY=1SU;BYMONTH=11
TZNAME:CST
END:STANDARD
END:VTIMEZONE
BEGIN:VEVENT
DTSTAMP:20260425T035119Z
UID:930facd7-0f91-4aa2-8037-b45b89a22703
DTSTART;VALUE=DATE:20260525
DTEND;VALUE=DATE:20260526
DESCRIPTION:
LOCATION:
SUMMARY:No School - Memorial Day
END:VEVENT
BEGIN:VEVENT
DTSTAMP:20260425T035119Z
UID:44a49db9-591b-458f-b0d6-3239c99a27d4
DTSTART;VALUE=DATE:20260531
DTEND;VALUE=DATE:20260601
DESCRIPTION:
LOCATION:
SUMMARY:Graduation Day
END:VEVENT
BEGIN:VEVENT
DTSTAMP:20260425T035119Z
UID:7fca27fb-b142-4025-abb7-9abc7a1ac2da
DTSTART;VALUE=DATE:20260604
DTEND;VALUE=DATE:20260605
DESCRIPTION:
LOCATION:
SUMMARY:Last Day of School
END:VEVENT
BEGIN:VEVENT
DTSTAMP:20260425T035119Z
UID:46fc4410-83f3-48c9-91ed-8e05d712a060
DTSTART;VALUE=DATE:20260608
DTEND;VALUE=DATE:20260609
DESCRIPTION:
LOCATION:
SUMMARY:Summer School Starts (June 8 - July 2)
END:VEVENT
BEGIN:VEVENT
DTSTAMP:20260425T035119Z
UID:b339742b-237b-453d-866d-c5fad93787be
DTSTART;VALUE=DATE:20260626
DTEND;VALUE=DATE:20260627
DESCRIPTION:
LOCATION:
SUMMARY:Vilesless Open at Trappers
END:VEVENT
END:VCALENDAR
