BEGIN:VCALENDAR
VERSION:2.0
PRODID:icalendar-ruby
CALSCALE:GREGORIAN
BEGIN:VTIMEZONE
TZID:America/Los_Angeles
BEGIN:DAYLIGHT
DTSTART:20260308T030000
TZOFFSETFROM:-0800
TZOFFSETTO:-0700
RRULE:FREQ=YEARLY;BYDAY=2SU;BYMONTH=3
TZNAME:PDT
END:DAYLIGHT
BEGIN:STANDARD
DTSTART:20261101T010000
TZOFFSETFROM:-0700
TZOFFSETTO:-0800
RRULE:FREQ=YEARLY;BYDAY=1SU;BYMONTH=11
TZNAME:PST
END:STANDARD
END:VTIMEZONE
BEGIN:VEVENT
DTSTAMP:20260424T164949Z
UID:196ff55e-006a-42dc-8502-4c4bf8db1514
DTSTART;VALUE=DATE:20260429
DTEND;VALUE=DATE:20260430
DESCRIPTION:<p>Students are released at 1:20</p>
LOCATION:
SUMMARY:Minimum Days on Wednesdays
END:VEVENT
BEGIN:VEVENT
DTSTAMP:20260424T164949Z
UID:d3ab15c3-84a1-4ea8-86bb-375ff6cfe9ad
DTSTART;VALUE=DATE:20260506
DTEND;VALUE=DATE:20260507
DESCRIPTION:<p>Students are released at 1:20</p>
LOCATION:
SUMMARY:Minimum Days on Wednesdays
END:VEVENT
BEGIN:VEVENT
DTSTAMP:20260424T164949Z
UID:f1ffc31e-5c58-4ba6-932c-472b41aa71ad
DTSTART;VALUE=DATE:20260513
DTEND;VALUE=DATE:20260514
DESCRIPTION:<p>Students are released at 1:20</p>
LOCATION:
SUMMARY:Minimum Days on Wednesdays
END:VEVENT
BEGIN:VEVENT
DTSTAMP:20260424T164949Z
UID:977c0a4d-0a7d-4d08-9979-ef39b5207bfb
DTSTART;VALUE=DATE:20260520
DTEND;VALUE=DATE:20260521
DESCRIPTION:<p>Students are released at 1:20</p>
LOCATION:
SUMMARY:Minimum Days on Wednesdays
END:VEVENT
BEGIN:VEVENT
DTSTAMP:20260424T164949Z
UID:04e9ea7f-6c17-402a-8adb-ddd6727d40ed
DTSTART;VALUE=DATE:20260525
DTEND;VALUE=DATE:20260526
DESCRIPTION:
LOCATION:
SUMMARY:Memorial Day (Holiday)
END:VEVENT
BEGIN:VEVENT
DTSTAMP:20260424T164949Z
UID:331f9760-2b14-4285-8d18-26f9296271e5
DTSTART;VALUE=DATE:20260527
DTEND;VALUE=DATE:20260528
DESCRIPTION:<p>Students are released at 1:20</p>
LOCATION:
SUMMARY:Minimum Days on Wednesdays
END:VEVENT
BEGIN:VEVENT
DTSTAMP:20260424T164949Z
UID:4de4e24e-83b1-4171-81a0-6920d83abdf4
DTSTART;VALUE=DATE:20260603
DTEND;VALUE=DATE:20260604
DESCRIPTION:<p>Students are released at 1:20</p>
LOCATION:
SUMMARY:Minimum Days on Wednesdays
END:VEVENT
BEGIN:VEVENT
DTSTAMP:20260424T164949Z
UID:52b4bedd-a7cf-42e9-902a-9d87b284d6f0
DTSTART;VALUE=DATE:20260605
DTEND;VALUE=DATE:20260606
DESCRIPTION:<p>This is a minimum day.  Students are released at 1:20.</p>
LOCATION:
SUMMARY:Last Day of School
END:VEVENT
BEGIN:VEVENT
DTSTAMP:20260424T164949Z
UID:af696b65-2819-479c-9d72-7b3849e699ba
DTSTART;VALUE=DATE:20260619
DTEND;VALUE=DATE:20260620
DESCRIPTION:
LOCATION:
SUMMARY:Juneteenth (Holiday)
END:VEVENT
END:VCALENDAR
