BEGIN:VCALENDAR
VERSION:2.0
PRODID:icalendar-ruby
CALSCALE:GREGORIAN
BEGIN:VTIMEZONE
TZID:America/Los_Angeles
BEGIN:DAYLIGHT
DTSTART:20260308T030000
TZOFFSETFROM:-0800
TZOFFSETTO:-0700
RRULE:FREQ=YEARLY;BYDAY=2SU;BYMONTH=3
TZNAME:PDT
END:DAYLIGHT
BEGIN:STANDARD
DTSTART:20261101T010000
TZOFFSETFROM:-0700
TZOFFSETTO:-0800
RRULE:FREQ=YEARLY;BYDAY=1SU;BYMONTH=11
TZNAME:PST
END:STANDARD
END:VTIMEZONE
BEGIN:VEVENT
DTSTAMP:20260419T130540Z
UID:baa5269b-4ab2-4d63-a962-aeb480504b82
DTSTART:20260420T160000
DTEND:20260420T180000
DESCRIPTION:
LOCATION:3201 Sylvan Ave\, Modesto\, CA 95355\, USA
SUMMARY:JV Baseball vs Downey
END:VEVENT
BEGIN:VEVENT
DTSTAMP:20260419T130540Z
UID:f08f1315-5e08-4fd1-9055-7974800ca257
DTSTART:20260420T160000
DTEND:20260420T183000
DESCRIPTION:
LOCATION:1000 Coffee Rd\, Modesto\, CA 95355\, USA
SUMMARY:Varsity Baseball V Downey
END:VEVENT
BEGIN:VEVENT
DTSTAMP:20260419T130540Z
UID:2a330430-8f99-4399-89da-5d1f36d4b6a8
DTSTART;VALUE=DATE:20260421
DTEND;VALUE=DATE:20260422
DESCRIPTION:
LOCATION:Modesto\, CA 95350\, USA
SUMMARY:CCAL Singles Final (Gregori)
END:VEVENT
BEGIN:VEVENT
DTSTAMP:20260419T130540Z
UID:856350fb-b3df-4d01-9a08-3d3e237263f8
DTSTART:20260421T160000
DTEND:20260421T180000
DESCRIPTION:
LOCATION:2525 W Christoffersen Pkwy\, Turlock\, CA 95382\, USA
SUMMARY:Softball vs Pitman 
END:VEVENT
BEGIN:VEVENT
DTSTAMP:20260419T130540Z
UID:5f92a2f8-7c2d-436d-88bc-fa5b66b30bb5
DTSTART:20260421T163000
DTEND:20260421T193000
DESCRIPTION:
LOCATION:18 H St\, Modesto\, CA 95351\, USA
SUMMARY:Boys Volleyball V Modesto
END:VEVENT
BEGIN:VEVENT
DTSTAMP:20260419T130540Z
UID:28b1cbf0-6e2b-4cab-be88-d3211b48b887
DTSTART:20260421T180000
DTEND:20260421T190000
DESCRIPTION:
LOCATION:Enochs Library Reference Room
SUMMARY:Eagle Foundation Meeting
END:VEVENT
BEGIN:VEVENT
DTSTAMP:20260419T130540Z
UID:dce1dd97-1ea2-4df9-89d7-b0f2d57a6f95
DTSTART:20260421T190000
DTEND:20260421T200000
DESCRIPTION:
LOCATION:Enochs Library Reference Room
SUMMARY:Enochs Athletic Booster Meeting
END:VEVENT
BEGIN:VEVENT
DTSTAMP:20260419T130540Z
UID:23f264fb-fa69-4e01-a921-89d4d4d77a94
DTSTART:20260422T083000
DTEND:20260422T141700
DESCRIPTION:
LOCATION:
SUMMARY:Collaboration Day
END:VEVENT
BEGIN:VEVENT
DTSTAMP:20260419T130540Z
UID:4d86990a-430b-4ae5-897a-803450fbfe66
DTSTART:20260422T130000
DTEND:20260422T150000
DESCRIPTION:
LOCATION:701 Lincoln Ave\, Modesto\, CA 95354\, USA
SUMMARY:Boys Golf vs Pitman
END:VEVENT
BEGIN:VEVENT
DTSTAMP:20260419T130540Z
UID:a63d5408-56fe-44ce-9a3f-a5d0839f81d8
DTSTART:20260422T153000
DTEND:20260422T203000
DESCRIPTION:
LOCATION:641 Norseman Dr\, Modesto\, CA 95357\, USA
SUMMARY:Track CCAL Girls JV/Var  (Downey Host) 
END:VEVENT
BEGIN:VEVENT
DTSTAMP:20260419T130540Z
UID:d064a35e-5b8c-4257-9887-ed6a154a6739
DTSTART:20260422T160000
DTEND:20260422T180000
DESCRIPTION:
LOCATION:1000 Coffee Rd\, Modesto\, CA 95355\, USA
SUMMARY:JV Baseball vs Downey
END:VEVENT
BEGIN:VEVENT
DTSTAMP:20260419T130540Z
UID:a426cfbe-80ec-47c2-adfb-29633a9fe7e6
DTSTART:20260422T160000
DTEND:20260422T183000
DESCRIPTION:
LOCATION:3201 Sylvan Ave\, Modesto\, CA 95355\, USA
SUMMARY:Varsity Baseball V Downey
END:VEVENT
BEGIN:VEVENT
DTSTAMP:20260419T130540Z
UID:122066a2-00f0-41ce-8e6b-cfa3bc78a6c1
DTSTART;VALUE=DATE:20260423
DTEND;VALUE=DATE:20260424
DESCRIPTION:
LOCATION:
SUMMARY:Boys Volleyball - Possible Tie-Breaker
END:VEVENT
BEGIN:VEVENT
DTSTAMP:20260419T130540Z
UID:220591cf-9a56-469a-bc14-3d32c5da1b3b
DTSTART;VALUE=DATE:20260423
DTEND;VALUE=DATE:20260424
DESCRIPTION:
LOCATION:Modesto\, CA 95350\, USA
SUMMARY:CCAL Doubles Final (Gregori)
END:VEVENT
BEGIN:VEVENT
DTSTAMP:20260419T130540Z
UID:ed1bdbae-2395-4727-9d62-d8a8149d5bc2
DTSTART;VALUE=DATE:20260423
DTEND;VALUE=DATE:20260424
DESCRIPTION:
LOCATION:2525 W Christoffersen Pkwy\, Turlock\, CA 95382\, USA
SUMMARY:CCAL Varsity Swim Trials 
END:VEVENT
BEGIN:VEVENT
DTSTAMP:20260419T130540Z
UID:75a13840-c341-4daf-b438-a8924f981784
DTSTART:20260423T160000
DTEND:20260423T183000
DESCRIPTION:
LOCATION:3701 Pirrone Rd\, Modesto\, CA 95356\, USA
SUMMARY:Softball V Gregori 
END:VEVENT
BEGIN:VEVENT
DTSTAMP:20260419T130540Z
UID:ca8b47a4-dfe5-4d7e-9874-f1cc4d5e5479
DTSTART;VALUE=DATE:20260424
DTEND;VALUE=DATE:20260425
DESCRIPTION:
LOCATION:2525 W Christoffersen Pkwy\, Turlock\, CA 95382\, USA
SUMMARY:CCAL Varsity Swim Finals
END:VEVENT
BEGIN:VEVENT
DTSTAMP:20260419T130540Z
UID:f6ef17a6-7a5f-484f-b849-e97a97c940eb
DTSTART;VALUE=DATE:20260424
DTEND;VALUE=DATE:20260425
DESCRIPTION:
LOCATION:
SUMMARY:SJS Team Playoffs #1 (Tentative) Tennis 
END:VEVENT
BEGIN:VEVENT
DTSTAMP:20260419T130540Z
UID:785f5766-637c-4cc4-9ca5-4166b3dfff2b
DTSTART:20260424T160000
DTEND:20260424T180000
DESCRIPTION:
LOCATION:3201 Sylvan Ave\, Modesto\, CA 95355\, USA
SUMMARY:JV Baseball vs Downey
END:VEVENT
BEGIN:VEVENT
DTSTAMP:20260419T130540Z
UID:034fd545-27e5-4bb2-8f71-07e42061f19a
DTSTART:20260424T160000
DTEND:20260424T183000
DESCRIPTION:
LOCATION:1000 Coffee Rd\, Modesto\, CA 95355\, USA
SUMMARY:Varsity Baseball V Downey
END:VEVENT
BEGIN:VEVENT
DTSTAMP:20260419T130540Z
UID:63d5e995-4c14-4f14-9eeb-5ae8635266f4
DTSTART;VALUE=DATE:20260425
DTEND;VALUE=DATE:20260426
DESCRIPTION:
LOCATION:6200 Claus Rd\, Riverbank\, CA 95367\, USA
SUMMARY:Track German Fernandez Distance Carn. 
END:VEVENT
BEGIN:VEVENT
DTSTAMP:20260419T130540Z
UID:68af149d-7abb-4482-a6f2-4466396ddc85
DTSTART:20260425T100000
DTEND:20260425T150000
DESCRIPTION:
LOCATION:4700 College Oak Dr\, Sacramento\, CA 95841\, USA
SUMMARY:Track Sacramento Meet of Champions 
END:VEVENT
BEGIN:VEVENT
DTSTAMP:20260419T130540Z
UID:2e8fad4a-8b22-4795-8f46-c5a4fce08763
DTSTART:20260425T200000
DTEND:20260425T230000
DESCRIPTION:
LOCATION:1000 L St\, Modesto\, CA 95354\, USA
SUMMARY:Enochs Prom
END:VEVENT
BEGIN:VEVENT
DTSTAMP:20260419T130540Z
UID:91aa6778-c7e1-4d0c-87ab-5d49452e82c7
DTSTART;VALUE=DATE:20260427
DTEND;VALUE=DATE:20260428
DESCRIPTION:<p>place tbd</p>
LOCATION:
SUMMARY:Possible play-in game for play-offs Boys Volleyball
END:VEVENT
BEGIN:VEVENT
DTSTAMP:20260419T130540Z
UID:2b525936-e4e4-49c4-84d4-f5027eeb658d
DTSTART:20260427T090000
DTEND:20260427T110000
DESCRIPTION:
LOCATION:701 Lincoln Ave\, Modesto\, CA 95354\, USA
SUMMARY:Boys Golf CCAL Championship
END:VEVENT
BEGIN:VEVENT
DTSTAMP:20260419T130540Z
UID:3d4ba9d7-9960-4f32-8ed2-c13f82099a13
DTSTART:20260427T160000
DTEND:20260427T180000
DESCRIPTION:
LOCATION:18 H St\, Modesto\, CA 95351\, USA
SUMMARY:JV Baseball vs Modesto
END:VEVENT
BEGIN:VEVENT
DTSTAMP:20260419T130540Z
UID:28984af7-f93e-4af1-8d85-8bd7d0dd42fc
DTSTART:20260427T160000
DTEND:20260427T183000
DESCRIPTION:
LOCATION:3201 Sylvan Ave\, Modesto\, CA 95355\, USA
SUMMARY:Varsity Baseball V Modesto
END:VEVENT
BEGIN:VEVENT
DTSTAMP:20260419T130540Z
UID:873825e5-82bf-438e-a470-785db89d1c8b
DTSTART;VALUE=DATE:20260428
DTEND;VALUE=DATE:20260429
DESCRIPTION:<p></p>
LOCATION:
SUMMARY:Sac Joaquin Finals Boys Volleyball
END:VEVENT
BEGIN:VEVENT
DTSTAMP:20260419T130540Z
UID:50e4db08-d192-4e1b-9262-27ffba9343d0
DTSTART;VALUE=DATE:20260428
DTEND;VALUE=DATE:20260429
DESCRIPTION:<p>Place TBD</p>
LOCATION:
SUMMARY:Sac Joaquin Playoffs
END:VEVENT
BEGIN:VEVENT
DTSTAMP:20260419T130540Z
UID:55ae3102-97c5-4d71-8d1c-bb11ecd08a44
DTSTART:20260428T160000
DTEND:20260428T183000
DESCRIPTION:
LOCATION:3201 Sylvan Ave\, Modesto\, CA 95355\, USA
SUMMARY:Softball V Turlock
END:VEVENT
BEGIN:VEVENT
DTSTAMP:20260419T130540Z
UID:5ead0b08-0009-4d2c-b2a4-500ba7b08e71
DTSTART;VALUE=DATE:20260429
DTEND;VALUE=DATE:20260430
DESCRIPTION:
LOCATION:2525 W Christoffersen Pkwy\, Turlock\, CA 95382\, USA
SUMMARY:CCAL F/S Championship 
END:VEVENT
BEGIN:VEVENT
DTSTAMP:20260419T130540Z
UID:d88b3889-8be5-4ef6-ba7b-4e3bb7464a0a
DTSTART:20260429T083000
DTEND:20260429T141700
DESCRIPTION:
LOCATION:
SUMMARY:Collaboration Day
END:VEVENT
BEGIN:VEVENT
DTSTAMP:20260419T130540Z
UID:e3268df9-ce5c-4508-8548-a807401427ff
DTSTART:20260429T123000
DTEND:20260429T133000
DESCRIPTION:<p>Please come to the Career Center inthe B building to pick up
  your cap &amp\; gown at lunch </p>
LOCATION:3201 Sylvan Ave\, Modesto\, CA 95355\, USA
SUMMARY:Cap & Gown Distribution
END:VEVENT
BEGIN:VEVENT
DTSTAMP:20260419T130540Z
UID:98a190b4-ad1a-41a0-9f49-ce808ef1c90c
DTSTART:20260429T160000
DTEND:20260429T180000
DESCRIPTION:
LOCATION:3201 Sylvan Ave\, Modesto\, CA 95355\, USA
SUMMARY:JV Baseball vs Modesto
END:VEVENT
BEGIN:VEVENT
DTSTAMP:20260419T130540Z
UID:4a624347-c2d4-4ba6-98e7-8a47edcd7b5f
DTSTART:20260429T160000
DTEND:20260429T183000
DESCRIPTION:
LOCATION:18 H St\, Modesto\, CA 95351\, USA
SUMMARY:Varsity Baseball V Modesto 
END:VEVENT
BEGIN:VEVENT
DTSTAMP:20260419T130540Z
UID:a19201ca-876e-4730-ada1-e8df5f3b1f17
DTSTART:20260430T160000
DTEND:20260430T183000
DESCRIPTION:
LOCATION:1000 Coffee Rd\, Modesto\, CA 95355\, USA
SUMMARY:Softball V Downey
END:VEVENT
BEGIN:VEVENT
DTSTAMP:20260419T130540Z
UID:9953bcb7-a372-4731-a6d5-558c2bc1bbdb
DTSTART;VALUE=DATE:20260501
DTEND;VALUE=DATE:20260502
DESCRIPTION:
LOCATION:1600 E Canal Dr\, Turlock\, CA 95380\, USA
SUMMARY:Track Varsity CCAL Championship Day 1 
END:VEVENT
BEGIN:VEVENT
DTSTAMP:20260419T130540Z
UID:dddda112-d2b8-42d7-9dbb-ba55b2acfb74
DTSTART:20260501T160000
DTEND:20260501T180000
DESCRIPTION:
LOCATION:18 H St\, Modesto\, CA 95351\, USA
SUMMARY:JV Baseball vs Modesto
END:VEVENT
BEGIN:VEVENT
DTSTAMP:20260419T130540Z
UID:2d236563-1b2d-4c41-aacc-9a2c570005bd
DTSTART:20260501T160000
DTEND:20260501T183000
DESCRIPTION:
LOCATION:3201 Sylvan Ave\, Modesto\, CA 95355\, USA
SUMMARY:Varsity Baseball V Modesto
END:VEVENT
BEGIN:VEVENT
DTSTAMP:20260419T130540Z
UID:ee930e1d-86f2-4866-8c67-a88a5b713ecc
DTSTART:20260504T080000
DTEND:20260504T090000
DESCRIPTION:
LOCATION:1992 Somerdale Cir\, Roseville\, CA 95661\, USA
SUMMARY:SJS Individual Playoffs (Tentative) Tennis 
END:VEVENT
BEGIN:VEVENT
DTSTAMP:20260419T130540Z
UID:232e8fed-67e9-4382-8d0a-5af15cae5f2f
DTSTART;VALUE=DATE:20260505
DTEND;VALUE=DATE:20260506
DESCRIPTION:
LOCATION:TBD
SUMMARY:Boys Golf SJS Section Tourn. 
END:VEVENT
BEGIN:VEVENT
DTSTAMP:20260419T130540Z
UID:09e9bc3e-5df2-4176-bfef-0d85c8cea556
DTSTART:20260505T154500
DTEND:20260505T164500
DESCRIPTION:
LOCATION:3201 Sylvan Ave\, Modesto\, CA 95355\, USA
SUMMARY:School Site Council Meeting
END:VEVENT
BEGIN:VEVENT
DTSTAMP:20260419T130540Z
UID:bb5952d5-b75f-4021-bdf3-e669d8b5559a
DTSTART;VALUE=DATE:20260506
DTEND;VALUE=DATE:20260507
DESCRIPTION:
LOCATION:9701 Big Horn Blvd\, Elk Grove\, CA 95757\, USA
SUMMARY:SJS Girls Swim Trials 
END:VEVENT
BEGIN:VEVENT
DTSTAMP:20260419T130540Z
UID:5025b965-cc31-461d-b0a2-2a1c72a21e87
DTSTART;VALUE=DATE:20260507
DTEND;VALUE=DATE:20260508
DESCRIPTION:
LOCATION:9701 Big Horn Blvd\, Elk Grove\, CA 95757\, USA
SUMMARY:SJS Boys  Swim Trials 
END:VEVENT
BEGIN:VEVENT
DTSTAMP:20260419T130540Z
UID:9cf38397-67c0-4ece-a298-26b35196f5b1
DTSTART;VALUE=DATE:20260507
DTEND;VALUE=DATE:20260508
DESCRIPTION:
LOCATION:
SUMMARY:TK-6 Open House
END:VEVENT
BEGIN:VEVENT
DTSTAMP:20260419T130540Z
UID:50ffd667-9dde-49a5-a584-371be1320577
DTSTART:20260507T053000
DTEND:20260507T193000
DESCRIPTION:
LOCATION:3201 Sylvan Ave\, Modesto\, CA 95355\, USA
SUMMARY:2026 Eagle Awards
END:VEVENT
BEGIN:VEVENT
DTSTAMP:20260419T130540Z
UID:84ebaf22-bee7-435a-ac6b-711f69cfbfe0
DTSTART:20260507T160000
DTEND:20260507T183000
DESCRIPTION:
LOCATION:
SUMMARY:Varsity Baseball CIF-SJS play-off #1
END:VEVENT
BEGIN:VEVENT
DTSTAMP:20260419T130540Z
UID:5b2fd1e7-5b80-4a05-8231-bd8f5c2d313f
DTSTART;VALUE=DATE:20260508
DTEND;VALUE=DATE:20260509
DESCRIPTION:
LOCATION:9701 Big Horn Blvd\, Elk Grove\, CA 95757\, USA
SUMMARY:SJS Boys and Girls Swim Finals
END:VEVENT
BEGIN:VEVENT
DTSTAMP:20260419T130540Z
UID:401cce9f-97f9-45e4-ad42-128d06955e63
DTSTART;VALUE=DATE:20260512
DTEND;VALUE=DATE:20260513
DESCRIPTION:
LOCATION:6301 W Eight Mile Rd\, Stockton\, CA 95219\, USA
SUMMARY:Boys Golf Masters Tourn.
END:VEVENT
BEGIN:VEVENT
DTSTAMP:20260419T130540Z
UID:59691fdf-4503-4dfe-b544-72b8ccde8be2
DTSTART;VALUE=DATE:20260512
DTEND;VALUE=DATE:20260513
DESCRIPTION:
LOCATION:
SUMMARY:CIF-SJS Play-Offs
END:VEVENT
BEGIN:VEVENT
DTSTAMP:20260419T130540Z
UID:5cb372f6-3d56-44c0-8284-c7058437d9f0
DTSTART;VALUE=DATE:20260512
DTEND;VALUE=DATE:20260513
DESCRIPTION:
LOCATION:1970 Broadstone Pkwy\, Folsom\, CA 95630\, USA
SUMMARY:Track SJS Divisional Trials 
END:VEVENT
BEGIN:VEVENT
DTSTAMP:20260419T130540Z
UID:d3e6759e-d5b5-42af-85f3-8daed60fe712
DTSTART;VALUE=DATE:20260514
DTEND;VALUE=DATE:20260515
DESCRIPTION:
LOCATION:Anaheim\, CA 92802\, USA
SUMMARY:2026 Senior Trip
END:VEVENT
BEGIN:VEVENT
DTSTAMP:20260419T130540Z
UID:e3fb87f1-1667-4665-83c3-dd53e34a3828
DTSTART;VALUE=DATE:20260514
DTEND;VALUE=DATE:20260515
DESCRIPTION:
LOCATION:
SUMMARY:CIF-SJS Play-Offs
END:VEVENT
BEGIN:VEVENT
DTSTAMP:20260419T130540Z
UID:b3cc9619-7b0c-431d-bed8-4feb0fbe567c
DTSTART;VALUE=DATE:20260514
DTEND;VALUE=DATE:20260517
DESCRIPTION:
LOCATION:"A" Building\, 1070 E Teague Ave\, Fresno\, CA 93720\, USA
SUMMARY:CIF State Swim Meet 
END:VEVENT
BEGIN:VEVENT
DTSTAMP:20260419T130540Z
UID:f6cdcc1e-4c0a-4412-86e7-c3d05f5b7c1f
DTSTART;VALUE=DATE:20260514
DTEND;VALUE=DATE:20260515
DESCRIPTION:
LOCATION:1970 Broadstone Pkwy\, Folsom\, CA 95630\, USA
SUMMARY:Track SJS Divisional Finals 
END:VEVENT
BEGIN:VEVENT
DTSTAMP:20260419T130540Z
UID:669df136-5a17-4bdd-b74c-9f802864582b
DTSTART;VALUE=DATE:20260519
DTEND;VALUE=DATE:20260520
DESCRIPTION:
LOCATION:7901 Cutting Blvd\, El Cerrito\, CA 94530\, USA
SUMMARY:Boys Golf NorCal Tourn.
END:VEVENT
BEGIN:VEVENT
DTSTAMP:20260419T130540Z
UID:4de14197-a52c-4a64-b628-a1393caddba3
DTSTART;VALUE=DATE:20260519
DTEND;VALUE=DATE:20260520
DESCRIPTION:
LOCATION:
SUMMARY:CIF-SJS Play-Offs
END:VEVENT
BEGIN:VEVENT
DTSTAMP:20260419T130540Z
UID:a6912434-7517-45d1-a2f0-065f47f87027
DTSTART:20260519T180000
DTEND:20260519T190000
DESCRIPTION:
LOCATION:Enochs Library Reference Room
SUMMARY:Eagle Foundation Meeting
END:VEVENT
BEGIN:VEVENT
DTSTAMP:20260419T130540Z
UID:538bd8f5-0234-4e54-8731-21975317a855
DTSTART:20260519T190000
DTEND:20260519T200000
DESCRIPTION:
LOCATION:Enochs Library Reference Room
SUMMARY:Enochs Athletic Booster Meeting
END:VEVENT
BEGIN:VEVENT
DTSTAMP:20260419T130540Z
UID:c2e94d57-c27f-42d6-a846-f07d1cbdc265
DTSTART;VALUE=DATE:20260522
DTEND;VALUE=DATE:20260523
DESCRIPTION:
LOCATION:1655 Iron Point Rd\, Folsom\, CA 95630\, USA
SUMMARY:Track Masters' Meet Trials 
END:VEVENT
BEGIN:VEVENT
DTSTAMP:20260419T130540Z
UID:38cc3761-cc2a-4a9c-ae4d-67c41f04cf56
DTSTART:20260522T153000
DTEND:20260522T170000
DESCRIPTION:
LOCATION:3201 Sylvan Ave\, Modesto\, CA 95355\, USA
SUMMARY:Yearbook Distribution
END:VEVENT
BEGIN:VEVENT
DTSTAMP:20260419T130540Z
UID:4f2e61e7-f9d8-4cbd-9814-af37e022f64e
DTSTART;VALUE=DATE:20260523
DTEND;VALUE=DATE:20260524
DESCRIPTION:
LOCATION:
SUMMARY:CIF-SJS Play-Offs
END:VEVENT
BEGIN:VEVENT
DTSTAMP:20260419T130540Z
UID:dad8476b-f53d-4f3d-888d-6fa14bc93c53
DTSTART;VALUE=DATE:20260523
DTEND;VALUE=DATE:20260524
DESCRIPTION:
LOCATION:1655 Iron Point Rd\, Folsom\, CA 95630\, USA
SUMMARY:Track Masters' Meet Finals 
END:VEVENT
BEGIN:VEVENT
DTSTAMP:20260419T130540Z
UID:c49cd094-526e-4f99-a836-84b0a9f22770
DTSTART;VALUE=DATE:20260525
DTEND;VALUE=DATE:20260526
DESCRIPTION:
LOCATION:3201 Sylvan Ave\, Modesto\, CA 95355\, USA
SUMMARY:Holiday - No School
END:VEVENT
BEGIN:VEVENT
DTSTAMP:20260419T130540Z
UID:e3d45ae3-f29a-49c4-ae41-9412e75cc3ee
DTSTART;VALUE=DATE:20260525
DTEND;VALUE=DATE:20260526
DESCRIPTION:
LOCATION:
SUMMARY:Memorial Day (Non-Attendance Day)
END:VEVENT
BEGIN:VEVENT
DTSTAMP:20260419T130540Z
UID:8e9df4b3-4399-4bcf-904d-f5c9257244b0
DTSTART:20260526T180000
DTEND:20260526T200000
DESCRIPTION:
LOCATION:3201 Sylvan Ave\, Modesto\, CA 95355\, USA
SUMMARY:Senior Sunset
END:VEVENT
BEGIN:VEVENT
DTSTAMP:20260419T130540Z
UID:08ecdf95-57aa-4105-ad60-835e4a49a06b
DTSTART;VALUE=DATE:20260527
DTEND;VALUE=DATE:20260530
DESCRIPTION:
LOCATION:
SUMMARY:9-12 Finals Week
END:VEVENT
BEGIN:VEVENT
DTSTAMP:20260419T130540Z
UID:56afb5af-57cf-49a1-bfea-4e2014abced5
DTSTART:20260527T083000
DTEND:20260527T125000
DESCRIPTION:<p>Wednesday Periods 1 &amp\; 2 - Release 12:45 PM</p>
LOCATION:3201 Sylvan Ave\, Modesto\, CA 95355\, USA
SUMMARY:Finals 1 & 2
END:VEVENT
BEGIN:VEVENT
DTSTAMP:20260419T130540Z
UID:305b1712-ad13-4de3-8fce-838f14357f91
DTSTART:20260527T090000
DTEND:20260527T120000
DESCRIPTION:
LOCATION:3201 Sylvan Ave\, Modesto\, CA 95355\, USA
SUMMARY:Senior Pool Party
END:VEVENT
BEGIN:VEVENT
DTSTAMP:20260419T130540Z
UID:5b20ea9e-28f7-494a-8ee4-3b0430b71a25
DTSTART:20260528T083000
DTEND:20260528T125000
DESCRIPTION:<p>Thursday Periods 3 &amp\; 4 - Release 12:45 PM</p>
LOCATION:3201 Sylvan Ave\, Modesto\, CA 95355\, USA
SUMMARY:Finals 2 & 3
END:VEVENT
BEGIN:VEVENT
DTSTAMP:20260419T130540Z
UID:9b2c1cc1-fa1d-400a-bdb8-6b71db695ae6
DTSTART:20260528T190000
DTEND:20260528T210000
DESCRIPTION:<p>Gates will open promptly at 6:30 PM</p>
LOCATION:3201 Sylvan Ave\, Modesto\, CA 95355\, USA
SUMMARY:Class of 2026 Graduation Ceremony
END:VEVENT
BEGIN:VEVENT
DTSTAMP:20260419T130540Z
UID:539591d3-f56b-4f54-b282-9feb59a18261
DTSTART;VALUE=DATE:20260529
DTEND;VALUE=DATE:20260530
DESCRIPTION:
LOCATION:3201 Sylvan Ave\, Modesto\, CA 95355\, USA
SUMMARY:Last Day Of School
END:VEVENT
BEGIN:VEVENT
DTSTAMP:20260419T130540Z
UID:11262dc2-5723-46bd-8f9c-589c179006af
DTSTART;VALUE=DATE:20260529
DTEND;VALUE=DATE:20260530
DESCRIPTION:
LOCATION:1560 N Minnewawa Ave\, Clovis\, CA 93619\, USA
SUMMARY:Track State Meet Trials 
END:VEVENT
BEGIN:VEVENT
DTSTAMP:20260419T130540Z
UID:2eecffed-3ccd-41c4-a45f-75e23495c7b6
DTSTART;VALUE=DATE:20260529
DTEND;VALUE=DATE:20260530
DESCRIPTION:
LOCATION:
SUMMARY:Last Day of School 🥳 
END:VEVENT
BEGIN:VEVENT
DTSTAMP:20260419T130540Z
UID:fc671b82-fcef-43c2-b647-0716411db881
DTSTART:20260529T083000
DTEND:20260529T125000
DESCRIPTION:<p>Friday Periods 6 &amp\; 7 - Release 12:45 PM</p>
LOCATION:3201 Sylvan Ave\, Modesto\, CA 95355\, USA
SUMMARY:Finals 6 & 7
END:VEVENT
BEGIN:VEVENT
DTSTAMP:20260419T130540Z
UID:e977a0e9-67db-4566-beea-ad7e1319d2ee
DTSTART;VALUE=DATE:20260530
DTEND;VALUE=DATE:20260531
DESCRIPTION:
LOCATION:1560 N Minnewawa Ave\, Clovis\, CA 93619\, USA
SUMMARY:Track State Meet Finals 
END:VEVENT
BEGIN:VEVENT
DTSTAMP:20260419T130540Z
UID:0cf5cd12-3c26-4053-a421-9f73272ad5df
DTSTART;VALUE=DATE:20260603
DTEND;VALUE=DATE:20260604
DESCRIPTION:
LOCATION:350 E Hermosa Dr\, San Gabriel\, CA 91776\, USA
SUMMARY:Boys Golf State Tourn.
END:VEVENT
END:VCALENDAR
