BEGIN:VCALENDAR
VERSION:2.0
PRODID:icalendar-ruby
CALSCALE:GREGORIAN
BEGIN:VTIMEZONE
TZID:America/New_York
BEGIN:DAYLIGHT
DTSTART:20260308T030000
TZOFFSETFROM:-0500
TZOFFSETTO:-0400
RRULE:FREQ=YEARLY;BYDAY=2SU;BYMONTH=3
TZNAME:EDT
END:DAYLIGHT
BEGIN:STANDARD
DTSTART:20261101T010000
TZOFFSETFROM:-0400
TZOFFSETTO:-0500
RRULE:FREQ=YEARLY;BYDAY=1SU;BYMONTH=11
TZNAME:EST
END:STANDARD
END:VTIMEZONE
BEGIN:VEVENT
DTSTAMP:20260419T191742Z
UID:9d150038-7b84-4f41-ae05-0151dcac4b22
DTSTART:20260421T180000
DTEND:20260421T200000
DESCRIPTION:<p><a target="_blank" rel="noopener noreferrer nofollow" href="
 https://www.youtube.com/channel/UC57ZummANu4pNk1Rzq9gy9g">Monroe County Sc
 hools\, WV - YouTube</a></p>
LOCATION:Union\, WV 24983\, USA
SUMMARY:Monroe County Board of Education Meeting 
END:VEVENT
BEGIN:VEVENT
DTSTAMP:20260419T191742Z
UID:ffaeea8b-bec6-477d-90bd-63d40cfa9889
DTSTART;VALUE=DATE:20260427
DTEND;VALUE=DATE:20260428
DESCRIPTION:
LOCATION:
SUMMARY:Professional Learning Day/Faculty Senate-No School for Students
END:VEVENT
BEGIN:VEVENT
DTSTAMP:20260419T191742Z
UID:5befbc46-cf89-4994-98d5-8c025eedd713
DTSTART:20260505T180000
DTEND:20260505T200000
DESCRIPTION:<p><a target="_blank" rel="noopener noreferrer nofollow" href="
 https://www.youtube.com/channel/UC57ZummANu4pNk1Rzq9gy9g">Monroe County Sc
 hools\, WV - YouTube</a></p>
LOCATION:Union\, WV 24983\, USA
SUMMARY:Monroe County Board of Education Meeting 
END:VEVENT
BEGIN:VEVENT
DTSTAMP:20260419T191742Z
UID:4e63cddf-bf07-48fc-983b-1bb13a84b9ff
DTSTART:20260512T080000
DTEND:20260512T090000
DESCRIPTION:
LOCATION:
SUMMARY:Election Day-No School for Staff and Students
END:VEVENT
BEGIN:VEVENT
DTSTAMP:20260419T191742Z
UID:55b55768-a0b4-4ef0-a977-5a3499d19052
DTSTART:20260519T180000
DTEND:20260519T200000
DESCRIPTION:<p><a target="_blank" rel="noopener noreferrer nofollow" href="
 https://www.youtube.com/channel/UC57ZummANu4pNk1Rzq9gy9g">Monroe County Sc
 hools\, WV - YouTube</a></p>
LOCATION:Union\, WV 24983\, USA
SUMMARY:Monroe County Board of Education Meeting 
END:VEVENT
BEGIN:VEVENT
DTSTAMP:20260419T191742Z
UID:3cdfacd3-92e9-46b2-8924-a19f426b5414
DTSTART;VALUE=DATE:20260525
DTEND;VALUE=DATE:20260526
DESCRIPTION:
LOCATION:
SUMMARY:Memorial Day-No School for Staff and Students
END:VEVENT
BEGIN:VEVENT
DTSTAMP:20260419T191742Z
UID:db02b80d-19d0-44c7-a50b-ba16510cc603
DTSTART:20260602T180000
DTEND:20260602T200000
DESCRIPTION:<p><a target="_blank" rel="noopener noreferrer nofollow" href="
 https://www.youtube.com/channel/UC57ZummANu4pNk1Rzq9gy9g">Monroe County Sc
 hools\, WV - YouTube</a></p>
LOCATION:Union\, WV 24983\, USA
SUMMARY:Monroe County Board of Education Meeting 
END:VEVENT
BEGIN:VEVENT
DTSTAMP:20260419T191742Z
UID:8767e74f-93f1-4735-a407-55cc49a4423a
DTSTART;VALUE=DATE:20260605
DTEND;VALUE=DATE:20260606
DESCRIPTION:
LOCATION:
SUMMARY:Last Day for Students (2 Hour Early Release)
END:VEVENT
BEGIN:VEVENT
DTSTAMP:20260419T191742Z
UID:b9e373a9-a89e-4c08-92f7-ae6fd4e920bf
DTSTART;VALUE=DATE:20260608
DTEND;VALUE=DATE:20260609
DESCRIPTION:
LOCATION:
SUMMARY:Employee Prep Day
END:VEVENT
BEGIN:VEVENT
DTSTAMP:20260419T191742Z
UID:bac7860e-f28f-4520-ba04-4ed89686fec8
DTSTART:20260616T180000
DTEND:20260616T200000
DESCRIPTION:<p><a target="_blank" rel="noopener noreferrer nofollow" href="
 https://www.youtube.com/channel/UC57ZummANu4pNk1Rzq9gy9g">Monroe County Sc
 hools\, WV - YouTube</a></p>
LOCATION:Union\, WV 24983\, USA
SUMMARY:Monroe County Board of Education Meeting 
END:VEVENT
END:VCALENDAR
