BEGIN:VCALENDAR
VERSION:2.0
PRODID:icalendar-ruby
CALSCALE:GREGORIAN
BEGIN:VTIMEZONE
TZID:America/Chicago
BEGIN:DAYLIGHT
DTSTART:20260308T030000
TZOFFSETFROM:-0600
TZOFFSETTO:-0500
RRULE:FREQ=YEARLY;BYDAY=2SU;BYMONTH=3
TZNAME:CDT
END:DAYLIGHT
BEGIN:STANDARD
DTSTART:20261101T010000
TZOFFSETFROM:-0500
TZOFFSETTO:-0600
RRULE:FREQ=YEARLY;BYDAY=1SU;BYMONTH=11
TZNAME:CST
END:STANDARD
END:VTIMEZONE
BEGIN:VEVENT
DTSTAMP:20260420T053704Z
UID:b209949f-94ee-44f0-9891-1898103ea5ad
DTSTART:20260420T170000
DTEND:20260420T180000
DESCRIPTION:
LOCATION:
SUMMARY:CHS Art Show
END:VEVENT
BEGIN:VEVENT
DTSTAMP:20260420T053704Z
UID:216a1d06-a85c-4aed-b3ec-f4479a140412
DTSTART:20260420T180000
DTEND:20260420T190000
DESCRIPTION:
LOCATION:
SUMMARY:BOE Meeting
END:VEVENT
BEGIN:VEVENT
DTSTAMP:20260420T053704Z
UID:a18f8725-53b6-4a0e-aadc-ef74b9ceb0f3
DTSTART:20260423T180000
DTEND:20260423T190000
DESCRIPTION:
LOCATION:BOE Room
SUMMARY:Booster Club Sanctioning Meeting
END:VEVENT
BEGIN:VEVENT
DTSTAMP:20260420T053704Z
UID:a0e2b244-7b7e-413f-a43e-2c01d23ecf5e
DTSTART;VALUE=DATE:20260424
DTEND;VALUE=DATE:20260425
DESCRIPTION:
LOCATION:
SUMMARY: No School!
END:VEVENT
BEGIN:VEVENT
DTSTAMP:20260420T053704Z
UID:6701d772-1c63-49cb-8765-a803bd5fc100
DTSTART;VALUE=DATE:20260501
DTEND;VALUE=DATE:20260502
DESCRIPTION:
LOCATION:
SUMMARY:Profession Development
END:VEVENT
BEGIN:VEVENT
DTSTAMP:20260420T053704Z
UID:c5ea913e-6d74-493a-a8a2-6e830a1b44e9
DTSTART;VALUE=DATE:20260508
DTEND;VALUE=DATE:20260509
DESCRIPTION:
LOCATION:
SUMMARY:No School!
END:VEVENT
BEGIN:VEVENT
DTSTAMP:20260420T053704Z
UID:4f59d97b-2225-4135-aa6f-7d46f57b69df
DTSTART:20260514T190000
DTEND:20260514T210000
DESCRIPTION:
LOCATION:
SUMMARY:CHS Class of 2026 Graduation
END:VEVENT
BEGIN:VEVENT
DTSTAMP:20260420T053704Z
UID:cecf8f9a-c37f-4df8-8d6b-7bfff6a50805
DTSTART;VALUE=DATE:20260515
DTEND;VALUE=DATE:20260516
DESCRIPTION:
LOCATION:
SUMMARY:No School!
END:VEVENT
BEGIN:VEVENT
DTSTAMP:20260420T053704Z
UID:ab74d90d-f3e4-4002-a170-44d077d8c880
DTSTART:20260518T180000
DTEND:20260518T190000
DESCRIPTION:
LOCATION:
SUMMARY:BOE Meeting
END:VEVENT
BEGIN:VEVENT
DTSTAMP:20260420T053704Z
UID:e391db88-ad00-43b4-ac4d-097355a4c0e9
DTSTART;VALUE=DATE:20260521
DTEND;VALUE=DATE:20260522
DESCRIPTION:
LOCATION:
SUMMARY:Last Day of School!
END:VEVENT
BEGIN:VEVENT
DTSTAMP:20260420T053704Z
UID:9993754b-cd10-4fa3-982f-d0cc1011b6fd
DTSTART;VALUE=DATE:20260522
DTEND;VALUE=DATE:20260523
DESCRIPTION:
LOCATION:
SUMMARY:Profession Development
END:VEVENT
BEGIN:VEVENT
DTSTAMP:20260420T053704Z
UID:7eb88193-98fd-4035-9db3-9b12ca2bc954
DTSTART;VALUE=DATE:20260525
DTEND;VALUE=DATE:20260526
DESCRIPTION:
LOCATION:
SUMMARY:No School!
END:VEVENT
BEGIN:VEVENT
DTSTAMP:20260420T053704Z
UID:fbd48ace-a30e-4efe-a68d-2696216a9308
DTSTART;VALUE=DATE:20260527
DTEND;VALUE=DATE:20260530
DESCRIPTION:
LOCATION:Oklahoma City\, OK\, USA
SUMMARY:CCOSA Summer Leadership Conference
END:VEVENT
BEGIN:VEVENT
DTSTAMP:20260420T053704Z
UID:ae87096f-284d-4955-8f8a-0c8d45761387
DTSTART:20260615T180000
DTEND:20260615T190000
DESCRIPTION:
LOCATION:
SUMMARY:BOE Meeting
END:VEVENT
BEGIN:VEVENT
DTSTAMP:20260420T053704Z
UID:a7e111f0-669e-4912-ab73-2ffbbdf7e9c6
DTSTART;VALUE=DATE:20260702
DTEND;VALUE=DATE:20260706
DESCRIPTION:
LOCATION:
SUMMARY:Office Closure - Independence Day
END:VEVENT
BEGIN:VEVENT
DTSTAMP:20260420T053704Z
UID:cd8c1a28-8bca-4a94-8d14-81adb9844018
DTSTART:20260720T180000
DTEND:20260720T190000
DESCRIPTION:
LOCATION:
SUMMARY:BOE Meeting
END:VEVENT
BEGIN:VEVENT
DTSTAMP:20260420T053704Z
UID:6eaf0a29-045f-45d3-8ddf-676252cf65d7
DTSTART;VALUE=DATE:20260813
DTEND;VALUE=DATE:20260817
DESCRIPTION:
LOCATION:
SUMMARY:OSSBA/CCOSA Educational Leadership
END:VEVENT
BEGIN:VEVENT
DTSTAMP:20260420T053704Z
UID:05136add-12f0-4000-9dc9-df59652bc02e
DTSTART:20260817T180000
DTEND:20260817T190000
DESCRIPTION:
LOCATION:
SUMMARY:BOE Meeting
END:VEVENT
BEGIN:VEVENT
DTSTAMP:20260420T053704Z
UID:d6dcf230-c48c-4cdf-8fe0-eaedea5c9965
DTSTART:20260921T180000
DTEND:20260921T190000
DESCRIPTION:
LOCATION:
SUMMARY:BOE Meeting
END:VEVENT
BEGIN:VEVENT
DTSTAMP:20260420T053704Z
UID:f719a1e1-6462-4525-994e-900600c4c168
DTSTART:20261019T180000
DTEND:20261019T190000
DESCRIPTION:
LOCATION:
SUMMARY:BOE Meeting
END:VEVENT
BEGIN:VEVENT
DTSTAMP:20260420T053704Z
UID:d15f05c0-d5b3-4ff9-8d25-a40e3bf03023
DTSTART:20261116T180000
DTEND:20261116T190000
DESCRIPTION:
LOCATION:
SUMMARY:BOE Meeting
END:VEVENT
BEGIN:VEVENT
DTSTAMP:20260420T053704Z
UID:872d413c-2b95-4270-b95b-1c15aac33a29
DTSTART:20261214T180000
DTEND:20261214T190000
DESCRIPTION:
LOCATION:
SUMMARY:BOE Meeting
END:VEVENT
END:VCALENDAR
