BEGIN:VCALENDAR
VERSION:2.0
PRODID:icalendar-ruby
CALSCALE:GREGORIAN
BEGIN:VTIMEZONE
TZID:America/New_York
BEGIN:DAYLIGHT
DTSTART:20260308T030000
TZOFFSETFROM:-0500
TZOFFSETTO:-0400
RRULE:FREQ=YEARLY;BYDAY=2SU;BYMONTH=3
TZNAME:EDT
END:DAYLIGHT
BEGIN:STANDARD
DTSTART:20261101T010000
TZOFFSETFROM:-0400
TZOFFSETTO:-0500
RRULE:FREQ=YEARLY;BYDAY=1SU;BYMONTH=11
TZNAME:EST
END:STANDARD
END:VTIMEZONE
BEGIN:VEVENT
DTSTAMP:20260422T164031Z
UID:dca60372-a55b-4729-b42d-d6f95504910a
DTSTART:20260427T123500
DTEND:20260427T123500
DESCRIPTION:
LOCATION:
SUMMARY:Fire Drill
END:VEVENT
BEGIN:VEVENT
DTSTAMP:20260422T164031Z
UID:68d8f057-3b74-4f1a-b573-32f2fb2ffc5e
DTSTART:20260427T180000
DTEND:20260427T190000
DESCRIPTION:
LOCATION:
SUMMARY:Board of Education Meeting
END:VEVENT
BEGIN:VEVENT
DTSTAMP:20260422T164031Z
UID:58b7b903-6d46-4e78-9202-b52a4bdc20ad
DTSTART;VALUE=DATE:20260504
DTEND;VALUE=DATE:20260509
DESCRIPTION:
LOCATION:
SUMMARY:Teacher Appreciation Week
END:VEVENT
BEGIN:VEVENT
DTSTAMP:20260422T164031Z
UID:d47d308c-0681-46f2-8bef-6aac8e64f29c
DTSTART:20260505T133500
DTEND:20260505T133500
DESCRIPTION:
LOCATION:
SUMMARY:Fire Drill
END:VEVENT
BEGIN:VEVENT
DTSTAMP:20260422T164031Z
UID:ef833f3f-9fea-4545-a5d2-4206315a24b9
DTSTART:20260511T083000
DTEND:20260511T083000
DESCRIPTION:
LOCATION:
SUMMARY:Lockdown Drill
END:VEVENT
BEGIN:VEVENT
DTSTAMP:20260422T164031Z
UID:aa52741f-8d32-4379-8a8b-b0d1121fdeac
DTSTART:20260511T190000
DTEND:20260511T200000
DESCRIPTION:<p>See you in the Media Center</p>
LOCATION:2200 Clinton Ave\, St Clair\, MI 48079\, USA
SUMMARY:PTO Meeting
END:VEVENT
BEGIN:VEVENT
DTSTAMP:20260422T164031Z
UID:a9a0fa5d-4396-4393-8b60-cdbb358e6ef9
DTSTART;VALUE=DATE:20260513
DTEND;VALUE=DATE:20260514
DESCRIPTION:
LOCATION:
SUMMARY:PLC Early Release (2 hours)
END:VEVENT
BEGIN:VEVENT
DTSTAMP:20260422T164031Z
UID:d68ddc10-999e-4ad6-8845-272e4c754b2d
DTSTART:20260513T073000
DTEND:20260513T114900
DESCRIPTION:<p>Hours 4\,5\,6</p>
LOCATION:
SUMMARY:PLC Day
END:VEVENT
BEGIN:VEVENT
DTSTAMP:20260422T164031Z
UID:11e9c950-6d3b-47cd-8630-bbf27d507540
DTSTART:20260518T180000
DTEND:20260518T190000
DESCRIPTION:
LOCATION:
SUMMARY:Board of Education Meeting
END:VEVENT
BEGIN:VEVENT
DTSTAMP:20260422T164031Z
UID:c2bb9785-4207-40f7-8976-4a6f3ad6f111
DTSTART:20260522T093000
DTEND:20260522T100000
DESCRIPTION:<p></p>
LOCATION:1587 Meisner Rd\, East China Township\, MI 48054\, USA
SUMMARY:2026 Kinders & Caps (SC Schools)
END:VEVENT
BEGIN:VEVENT
DTSTAMP:20260422T164031Z
UID:d86aaa5d-fc7c-4b29-ab11-5f0e7a6349b7
DTSTART:20260522T111500
DTEND:20260522T114500
DESCRIPTION:
LOCATION:1587 Meisner Rd\, East China Township\, MI 48054\, USA
SUMMARY:2026 Kinders & Caps (MC Schools)
END:VEVENT
BEGIN:VEVENT
DTSTAMP:20260422T164031Z
UID:84c23371-e6df-4080-8fbb-252406748a9d
DTSTART;VALUE=DATE:20260525
DTEND;VALUE=DATE:20260526
DESCRIPTION:
LOCATION:
SUMMARY:No School-Memorial Day
END:VEVENT
BEGIN:VEVENT
DTSTAMP:20260422T164031Z
UID:2b5ca124-73c3-4e2d-bb87-426163f2dd7e
DTSTART:20260531T120000
DTEND:20260531T130000
DESCRIPTION:
LOCATION:East China School District Stadium\, 1587 Meisner Rd\, East China 
 Township\, MI 48054\, USA
SUMMARY:MCHS Graduation
END:VEVENT
BEGIN:VEVENT
DTSTAMP:20260422T164031Z
UID:5698982b-4316-4564-9bae-1319306e74dd
DTSTART:20260531T160000
DTEND:20260531T170000
DESCRIPTION:
LOCATION:East China School District Stadium\, 1587 Meisner Rd\, East China 
 Township\, MI 48054\, USA
SUMMARY:SCHS Graduation
END:VEVENT
BEGIN:VEVENT
DTSTAMP:20260422T164031Z
UID:78789df3-fedc-4d13-99a1-0f7a222c9998
DTSTART:20260603T180000
DTEND:20260603T193000
DESCRIPTION:<p>By invitation only.  A ROBO call will go out to those invite
 d a couple days prior to the event.</p><p>GPA of 3.34+ for ALL 3 marking p
 eriods (Terms 1\,2\,3) for Honor Roll</p><p>Teacher awards as determined</
 p>
LOCATION:
SUMMARY:8th Grade Honors @ PAC
END:VEVENT
BEGIN:VEVENT
DTSTAMP:20260422T164031Z
UID:73ff5880-8e2e-424c-ba56-aa3cd0a916c3
DTSTART;VALUE=DATE:20260604
DTEND;VALUE=DATE:20260605
DESCRIPTION:<p>Tickets will go on sale 1 month prior to trip.</p><p>Price i
 s TBD</p><p>Cedar Point is a "cashless" park</p><p>Busing provided by Pref
 erred Charter Service</p>
LOCATION:
SUMMARY:Cedar Point 8th Grade Trip
END:VEVENT
BEGIN:VEVENT
DTSTAMP:20260422T164031Z
UID:25d12306-a46b-4ed9-b006-236931a39089
DTSTART;VALUE=DATE:20260608
DTEND;VALUE=DATE:20260609
DESCRIPTION:
LOCATION:
SUMMARY:Half Day All Students (Hrs 1 & 2)(Elem PM)
END:VEVENT
BEGIN:VEVENT
DTSTAMP:20260422T164031Z
UID:c5e98c08-8dc8-4448-af10-33a5d4ee15c5
DTSTART:20260608T073000
DTEND:20260608T105300
DESCRIPTION:<p>Hours 1 &amp\; 2</p>
LOCATION:
SUMMARY:Half Day - Exams
END:VEVENT
BEGIN:VEVENT
DTSTAMP:20260422T164031Z
UID:975c2b23-1f2f-45e1-9bbc-903ec8ab723d
DTSTART;VALUE=DATE:20260609
DTEND;VALUE=DATE:20260610
DESCRIPTION:
LOCATION:
SUMMARY:Half Day All Students (Hrs 3 & 4)(Elem AM)
END:VEVENT
BEGIN:VEVENT
DTSTAMP:20260422T164031Z
UID:e03319be-492f-40a4-afcf-9fe8444bf14e
DTSTART:20260609T073000
DTEND:20260609T105300
DESCRIPTION:<p>Hours 3\, 4</p>
LOCATION:
SUMMARY:Half Day - Exams
END:VEVENT
BEGIN:VEVENT
DTSTAMP:20260422T164031Z
UID:7170a478-a343-48b5-9858-1a6a9cd1bfd6
DTSTART;VALUE=DATE:20260610
DTEND;VALUE=DATE:20260611
DESCRIPTION:
LOCATION:
SUMMARY:End of 4th Marking Period
END:VEVENT
BEGIN:VEVENT
DTSTAMP:20260422T164031Z
UID:9da388db-a416-4b18-8df9-9bc0335e744e
DTSTART;VALUE=DATE:20260610
DTEND;VALUE=DATE:20260611
DESCRIPTION:
LOCATION:
SUMMARY:Half Day All Students (Hrs 5 & 6)
END:VEVENT
BEGIN:VEVENT
DTSTAMP:20260422T164031Z
UID:ab717e3d-daa5-4001-bca6-07a041c6e88f
DTSTART;VALUE=DATE:20260610
DTEND;VALUE=DATE:20260611
DESCRIPTION:
LOCATION:
SUMMARY:Last Day of School
END:VEVENT
BEGIN:VEVENT
DTSTAMP:20260422T164031Z
UID:14219a66-c793-4464-beb1-72cbafeb0548
DTSTART:20260610T073000
DTEND:20260610T105300
DESCRIPTION:<p>Hours 5\,6</p>
LOCATION:
SUMMARY:Half Day - Exams
END:VEVENT
BEGIN:VEVENT
DTSTAMP:20260422T164031Z
UID:029e084c-9239-42c9-8ff1-fcf40fe0a0fd
DTSTART:20260615T190000
DTEND:20260615T200000
DESCRIPTION:<p>See you in the Media Center for the year wrap up and plannin
 g for future.</p><p></p><p>Enjoy the summer!!!</p>
LOCATION:2200 Clinton Ave\, St Clair\, MI 48079\, USA
SUMMARY:PTO Meeting
END:VEVENT
BEGIN:VEVENT
DTSTAMP:20260422T164031Z
UID:429ac81d-2fcf-4280-b51f-485a04e70af9
DTSTART:20260622T180000
DTEND:20260622T190000
DESCRIPTION:
LOCATION:
SUMMARY:Board of Education Meeting
END:VEVENT
END:VCALENDAR
