BEGIN:VCALENDAR
VERSION:2.0
PRODID:icalendar-ruby
CALSCALE:GREGORIAN
BEGIN:VTIMEZONE
TZID:America/Chicago
BEGIN:DAYLIGHT
DTSTART:20260308T030000
TZOFFSETFROM:-0600
TZOFFSETTO:-0500
RRULE:FREQ=YEARLY;BYDAY=2SU;BYMONTH=3
TZNAME:CDT
END:DAYLIGHT
BEGIN:STANDARD
DTSTART:20261101T010000
TZOFFSETFROM:-0500
TZOFFSETTO:-0600
RRULE:FREQ=YEARLY;BYDAY=1SU;BYMONTH=11
TZNAME:CST
END:STANDARD
END:VTIMEZONE
BEGIN:VEVENT
DTSTAMP:20260425T033033Z
UID:012022d3-a51a-4009-b42b-ca94a7d1dfbb
DTSTART;VALUE=DATE:20260424
DTEND;VALUE=DATE:20260425
DESCRIPTION:
LOCATION:
SUMMARY:No School- Staff Professional Development Day
END:VEVENT
BEGIN:VEVENT
DTSTAMP:20260425T033033Z
UID:c9ec392e-81d6-4b36-8e11-87a74a27a691
DTSTART;VALUE=DATE:20260501
DTEND;VALUE=DATE:20260502
DESCRIPTION:
LOCATION:
SUMMARY:CE- Prefect Attendance Treat with the Principal
END:VEVENT
BEGIN:VEVENT
DTSTAMP:20260425T033033Z
UID:9c4268e2-60ee-48d4-a6b2-3a7322021909
DTSTART:20260504T180000
DTEND:20260504T193000
DESCRIPTION:
LOCATION:
SUMMARY:6th Grade Transition Night
END:VEVENT
BEGIN:VEVENT
DTSTAMP:20260425T033033Z
UID:f7d00f9d-bf31-4f23-af7e-83f144e035cf
DTSTART:20260507T173000
DTEND:20260507T180000
DESCRIPTION:<p></p>
LOCATION:
SUMMARY:CE- KG and 1st Grade Music Program
END:VEVENT
BEGIN:VEVENT
DTSTAMP:20260425T033033Z
UID:3ef9b93a-ed37-4698-a709-165f8f9413b6
DTSTART;VALUE=DATE:20260508
DTEND;VALUE=DATE:20260509
DESCRIPTION:
LOCATION:
SUMMARY:All Elementary Schools- Jr. Olympics
END:VEVENT
BEGIN:VEVENT
DTSTAMP:20260425T033033Z
UID:8c7015f8-ac28-4fe5-b4c7-18004d29fc12
DTSTART:20260514T190000
DTEND:20260514T200000
DESCRIPTION:
LOCATION:
SUMMARY:CHS Graduation
END:VEVENT
BEGIN:VEVENT
DTSTAMP:20260425T033033Z
UID:0aab050c-ccb6-418c-88bd-57eb7c52bea1
DTSTART:20260518T143000
DTEND:20260518T150000
DESCRIPTION:
LOCATION:
SUMMARY:CE- All School Q4 Celebration 
END:VEVENT
BEGIN:VEVENT
DTSTAMP:20260425T033033Z
UID:521631c7-6744-42e0-9257-da9377d59040
DTSTART:20260519T173000
DTEND:20260519T183000
DESCRIPTION:
LOCATION:
SUMMARY:CE- 5th grade Celebration
END:VEVENT
BEGIN:VEVENT
DTSTAMP:20260425T033033Z
UID:987182b2-9206-4766-a2d1-8025215120c0
DTSTART;VALUE=DATE:20260520
DTEND;VALUE=DATE:20260521
DESCRIPTION:
LOCATION:
SUMMARY:CE - Field Day
END:VEVENT
BEGIN:VEVENT
DTSTAMP:20260425T033033Z
UID:4b085f08-af93-425c-a5a5-3800e24f5863
DTSTART;VALUE=DATE:20260521
DTEND;VALUE=DATE:20260522
DESCRIPTION:
LOCATION:
SUMMARY:CE- PBIS Celebration
END:VEVENT
BEGIN:VEVENT
DTSTAMP:20260425T033033Z
UID:06b9d064-bd42-4837-b423-c754a34b79f8
DTSTART;VALUE=DATE:20260522
DTEND;VALUE=DATE:20260523
DESCRIPTION:
LOCATION:
SUMMARY:End of Quarter Four
END:VEVENT
BEGIN:VEVENT
DTSTAMP:20260425T033033Z
UID:7b3da2b2-cd0c-4dd9-891b-2ef21482c5c9
DTSTART;VALUE=DATE:20260522
DTEND;VALUE=DATE:20260523
DESCRIPTION:
LOCATION:
SUMMARY:Last Day of School- Early Release
END:VEVENT
END:VCALENDAR
