BEGIN:VCALENDAR
VERSION:2.0
PRODID:icalendar-ruby
CALSCALE:GREGORIAN
BEGIN:VTIMEZONE
TZID:America/Chicago
BEGIN:DAYLIGHT
DTSTART:20260308T030000
TZOFFSETFROM:-0600
TZOFFSETTO:-0500
RRULE:FREQ=YEARLY;BYDAY=2SU;BYMONTH=3
TZNAME:CDT
END:DAYLIGHT
BEGIN:STANDARD
DTSTART:20261101T010000
TZOFFSETFROM:-0500
TZOFFSETTO:-0600
RRULE:FREQ=YEARLY;BYDAY=1SU;BYMONTH=11
TZNAME:CST
END:STANDARD
END:VTIMEZONE
BEGIN:VEVENT
DTSTAMP:20260419T201729Z
UID:4bf3378f-e297-4676-b4f2-a1cf496603d8
DTSTART;VALUE=DATE:20260817
DTEND;VALUE=DATE:20260819
DESCRIPTION:
LOCATION:
SUMMARY:District Institute
END:VEVENT
BEGIN:VEVENT
DTSTAMP:20260419T201729Z
UID:d89e56f6-b085-4e12-84c5-dde908819134
DTSTART:20260819T112000
DTEND:20260819T112000
DESCRIPTION:
LOCATION:
SUMMARY:First Day of School - Half Day (Gr. 6-12)
END:VEVENT
BEGIN:VEVENT
DTSTAMP:20260419T201729Z
UID:79fbdcda-7868-44f6-add3-ddc6792054a3
DTSTART:20260819T114000
DTEND:20260819T114000
DESCRIPTION:
LOCATION:
SUMMARY:First Day of School - Half Day (Gr. K-5)
END:VEVENT
BEGIN:VEVENT
DTSTAMP:20260419T201729Z
UID:8c31ce13-4c26-4a0a-9e39-ecf0e452ec53
DTSTART;VALUE=DATE:20260907
DTEND;VALUE=DATE:20260908
DESCRIPTION:
LOCATION:
SUMMARY:Labor Day (No School)
END:VEVENT
BEGIN:VEVENT
DTSTAMP:20260419T201729Z
UID:49a6e980-c24e-403d-8f54-ef16fdf088f7
DTSTART:20260916T112000
DTEND:20260916T112000
DESCRIPTION:
LOCATION:
SUMMARY:Early Dismissal - School Improvement Day - (Gr. 6-12)
END:VEVENT
BEGIN:VEVENT
DTSTAMP:20260419T201729Z
UID:d73ea5a3-4587-44bb-8bba-22ea8dea7cd9
DTSTART:20260916T114000
DTEND:20260916T114000
DESCRIPTION:
LOCATION:
SUMMARY:Early Dismissal - School Improvement Day (Gr. K-5)
END:VEVENT
BEGIN:VEVENT
DTSTAMP:20260419T201729Z
UID:6f0a28de-b920-41d5-9144-2973dceb2b46
DTSTART;VALUE=DATE:20261009
DTEND;VALUE=DATE:20261010
DESCRIPTION:
LOCATION:
SUMMARY:No School - Madison County Teacher Institute
END:VEVENT
BEGIN:VEVENT
DTSTAMP:20260419T201729Z
UID:f69f336f-866d-46d3-8c3e-524f70ea79a4
DTSTART;VALUE=DATE:20261012
DTEND;VALUE=DATE:20261013
DESCRIPTION:
LOCATION:
SUMMARY:No School - Columbus Day
END:VEVENT
BEGIN:VEVENT
DTSTAMP:20260419T201729Z
UID:61950ba5-317d-4902-adbe-e9cb4544b9a7
DTSTART;VALUE=DATE:20261016
DTEND;VALUE=DATE:20261017
DESCRIPTION:
LOCATION:
SUMMARY:End of 1st Quarter
END:VEVENT
BEGIN:VEVENT
DTSTAMP:20260419T201729Z
UID:0f9277ed-eec2-485d-815f-bfab50a83174
DTSTART:20261104T160000
DTEND:20261104T190000
DESCRIPTION:
LOCATION:
SUMMARY:Parent Teacher Conferences (Students Attend Full Day)
END:VEVENT
BEGIN:VEVENT
DTSTAMP:20260419T201729Z
UID:dc4d6ab1-16ba-4286-8675-bbd6d6f26a4e
DTSTART:20261105T112000
DTEND:20261105T112000
DESCRIPTION:
LOCATION:
SUMMARY:Early Dismissal - Parent Teacher Conferences (Gr. 6-12)
END:VEVENT
BEGIN:VEVENT
DTSTAMP:20260419T201729Z
UID:da26ef10-5043-4c52-a340-6f9e3e8f78f2
DTSTART:20261105T114000
DTEND:20261105T114000
DESCRIPTION:
LOCATION:
SUMMARY:Early Dismissal - Parent Teacher Conferences (Gr. K-5)
END:VEVENT
BEGIN:VEVENT
DTSTAMP:20260419T201729Z
UID:24c48c28-43c0-488a-8946-d30a897ba056
DTSTART:20261105T123000
DTEND:20261105T190000
DESCRIPTION:
LOCATION:
SUMMARY:Parent Teacher Conferences
END:VEVENT
BEGIN:VEVENT
DTSTAMP:20260419T201729Z
UID:021cc744-08b4-4c52-bbb7-01a8fe5fc115
DTSTART;VALUE=DATE:20261106
DTEND;VALUE=DATE:20261107
DESCRIPTION:
LOCATION:
SUMMARY:No School
END:VEVENT
BEGIN:VEVENT
DTSTAMP:20260419T201729Z
UID:9d415ccb-8e9e-4921-b276-e667cf7f1352
DTSTART;VALUE=DATE:20261111
DTEND;VALUE=DATE:20261112
DESCRIPTION:
LOCATION:
SUMMARY:No School - Veteran's Day
END:VEVENT
BEGIN:VEVENT
DTSTAMP:20260419T201729Z
UID:5df9206d-2d51-461c-abfe-e1dc8c62bf92
DTSTART;VALUE=DATE:20261125
DTEND;VALUE=DATE:20261128
DESCRIPTION:
LOCATION:
SUMMARY:No School - Fall Break
END:VEVENT
BEGIN:VEVENT
DTSTAMP:20260419T201729Z
UID:f03fbf38-1faf-4d81-9a57-c6f7c21f201e
DTSTART:20261203T112000
DTEND:20261203T112000
DESCRIPTION:
LOCATION:
SUMMARY:Early Dismissal - School Improvement Day (Gr. 6-12)
END:VEVENT
BEGIN:VEVENT
DTSTAMP:20260419T201729Z
UID:888ee811-2f39-45ba-bde0-c69174b9ee19
DTSTART:20261203T114000
DTEND:20261203T114000
DESCRIPTION:
LOCATION:
SUMMARY:Early Dismissal - School Improvement Day (Gr. K-5)
END:VEVENT
BEGIN:VEVENT
DTSTAMP:20260419T201729Z
UID:57e4ed9e-aa5c-4d5e-b285-72c6e31cbfb3
DTSTART:20261216T134000
DTEND:20261216T134000
DESCRIPTION:
LOCATION:
SUMMARY:Early Dismissal (Gr. 6-12)
END:VEVENT
BEGIN:VEVENT
DTSTAMP:20260419T201729Z
UID:7b2b94a4-aa4f-4e0d-9c3f-71b860c2f23b
DTSTART:20261216T140000
DTEND:20261216T140000
DESCRIPTION:
LOCATION:
SUMMARY:Early Dismissal (Gr. K-5)
END:VEVENT
BEGIN:VEVENT
DTSTAMP:20260419T201729Z
UID:9e000535-6039-470b-be3e-d7d2bd8783e0
DTSTART:20261217T134000
DTEND:20261217T134000
DESCRIPTION:
LOCATION:
SUMMARY:Early Dismissal (Gr. 6-12)
END:VEVENT
BEGIN:VEVENT
DTSTAMP:20260419T201729Z
UID:d0a8dab2-b5d7-47ff-9578-0369fb8d9172
DTSTART:20261217T140000
DTEND:20261217T140000
DESCRIPTION:
LOCATION:
SUMMARY:Early Dismissal (Gr. K-5)
END:VEVENT
BEGIN:VEVENT
DTSTAMP:20260419T201729Z
UID:a8db82ee-ab2c-439e-9908-bc8e7f1cb79f
DTSTART;VALUE=DATE:20261218
DTEND;VALUE=DATE:20261219
DESCRIPTION:
LOCATION:
SUMMARY:End of 2nd Quarter
END:VEVENT
BEGIN:VEVENT
DTSTAMP:20260419T201729Z
UID:32f501cd-97da-435f-8a31-b4a04a658462
DTSTART:20261218T134000
DTEND:20261218T134000
DESCRIPTION:
LOCATION:
SUMMARY:Early Dismissal (Gr. 6-12)
END:VEVENT
BEGIN:VEVENT
DTSTAMP:20260419T201729Z
UID:73523da4-9381-486c-b74c-cca12bdff1e2
DTSTART:20261218T140000
DTEND:20261218T140000
DESCRIPTION:
LOCATION:
SUMMARY:Early Dismissal (Gr. K-5)
END:VEVENT
BEGIN:VEVENT
DTSTAMP:20260419T201729Z
UID:ffd84ba4-6a32-4e50-a6bd-fe82a61409e2
DTSTART;VALUE=DATE:20261221
DTEND;VALUE=DATE:20261226
DESCRIPTION:
LOCATION:
SUMMARY:No School - Winter Break
END:VEVENT
BEGIN:VEVENT
DTSTAMP:20260419T201729Z
UID:0afbdc8c-6a8a-4438-a398-8535f3ea5e9d
DTSTART;VALUE=DATE:20261228
DTEND;VALUE=DATE:20270102
DESCRIPTION:
LOCATION:
SUMMARY:No School - Winter Break
END:VEVENT
BEGIN:VEVENT
DTSTAMP:20260419T201729Z
UID:19b3c0aa-4838-4a9e-9655-d1a9d527ee43
DTSTART;VALUE=DATE:20270104
DTEND;VALUE=DATE:20270105
DESCRIPTION:
LOCATION:
SUMMARY:No School - Teacher Institute
END:VEVENT
BEGIN:VEVENT
DTSTAMP:20260419T201729Z
UID:421ddb1b-7882-48ea-b3a4-532d0adc7dbe
DTSTART;VALUE=DATE:20270105
DTEND;VALUE=DATE:20270106
DESCRIPTION:
LOCATION:
SUMMARY:Students Return to School
END:VEVENT
BEGIN:VEVENT
DTSTAMP:20260419T201729Z
UID:341e7e06-f71b-4964-a281-d5d35993c0b1
DTSTART;VALUE=DATE:20270118
DTEND;VALUE=DATE:20270119
DESCRIPTION:
LOCATION:
SUMMARY:No School - Martin Luther King Jr.'s Birthday
END:VEVENT
BEGIN:VEVENT
DTSTAMP:20260419T201729Z
UID:24af4bb5-68a8-4522-ae43-10c3f758c401
DTSTART;VALUE=DATE:20270215
DTEND;VALUE=DATE:20270216
DESCRIPTION:
LOCATION:
SUMMARY:No School - President's Day
END:VEVENT
BEGIN:VEVENT
DTSTAMP:20260419T201729Z
UID:2f1750e4-84c1-4dc6-8204-5c6b9bf99222
DTSTART:20270223T112000
DTEND:20270223T112000
DESCRIPTION:
LOCATION:
SUMMARY:Early Dismissal - School Improvement Day (Gr. 6-12)
END:VEVENT
BEGIN:VEVENT
DTSTAMP:20260419T201729Z
UID:bd69e28d-c20e-465a-8b85-00a9318931cc
DTSTART:20270223T114000
DTEND:20270223T114000
DESCRIPTION:
LOCATION:
SUMMARY:Early Dismissal - School Improvement Day (Gr. K-5)
END:VEVENT
BEGIN:VEVENT
DTSTAMP:20260419T201729Z
UID:f94351f6-fd4c-42f7-885e-60147deeb72a
DTSTART:20270225T160000
DTEND:20270225T190000
DESCRIPTION:
LOCATION:
SUMMARY:Parent Teacher Conferences (Students Attend Full Day)
END:VEVENT
BEGIN:VEVENT
DTSTAMP:20260419T201729Z
UID:53336f72-66b3-4822-af99-9d2bd251c99e
DTSTART;VALUE=DATE:20270301
DTEND;VALUE=DATE:20270302
DESCRIPTION:
LOCATION:
SUMMARY:No School - Casimir Pulaski Day
END:VEVENT
BEGIN:VEVENT
DTSTAMP:20260419T201729Z
UID:59dcebd4-8b6a-4a77-9b37-47a2d30deb34
DTSTART;VALUE=DATE:20270319
DTEND;VALUE=DATE:20270320
DESCRIPTION:
LOCATION:
SUMMARY:End of 3rd Quarter
END:VEVENT
BEGIN:VEVENT
DTSTAMP:20260419T201729Z
UID:45d2a418-ad32-417c-aabb-92656ed52462
DTSTART:20270324T112000
DTEND:20270324T112000
DESCRIPTION:
LOCATION:
SUMMARY:Early Dismissal - Half Day (Gr. 6-12)
END:VEVENT
BEGIN:VEVENT
DTSTAMP:20260419T201729Z
UID:45ef0d13-c55a-47f2-ac37-68feaa5df409
DTSTART:20270324T114000
DTEND:20270324T114000
DESCRIPTION:
LOCATION:
SUMMARY:Early Dismissal - Half Day (K-5)
END:VEVENT
BEGIN:VEVENT
DTSTAMP:20260419T201729Z
UID:aad9dea4-0a70-4bb5-9612-0c6e69dd0a17
DTSTART;VALUE=DATE:20270325
DTEND;VALUE=DATE:20270327
DESCRIPTION:
LOCATION:
SUMMARY:No School - Spring Break
END:VEVENT
BEGIN:VEVENT
DTSTAMP:20260419T201729Z
UID:1ce5ac7b-54a3-4ed1-9977-1e3bb2c1fc0f
DTSTART;VALUE=DATE:20270329
DTEND;VALUE=DATE:20270330
DESCRIPTION:
LOCATION:
SUMMARY:No School - Spring Break
END:VEVENT
BEGIN:VEVENT
DTSTAMP:20260419T201729Z
UID:a3ddd0c3-0d9d-4089-a94f-59d3f859e59b
DTSTART:20270406T112000
DTEND:20270406T112000
DESCRIPTION:
LOCATION:
SUMMARY:Early Dismissal - School Improvement Day (Gr. 6-12)
END:VEVENT
BEGIN:VEVENT
DTSTAMP:20260419T201729Z
UID:ba018baa-a406-4a8b-90ae-86e7379b8a24
DTSTART:20270406T114000
DTEND:20270406T114000
DESCRIPTION:
LOCATION:
SUMMARY:Early Dismissal - School Improvement Day (Gr. K-5)
END:VEVENT
BEGIN:VEVENT
DTSTAMP:20260419T201729Z
UID:9ef7acc3-8a76-4adf-9f1b-928abe441772
DTSTART:20270429T112000
DTEND:20270429T112000
DESCRIPTION:
LOCATION:
SUMMARY:Early Dismissal - School Improvement Day (Gr. 6-12)
END:VEVENT
BEGIN:VEVENT
DTSTAMP:20260419T201729Z
UID:a3a5086c-5eaf-4935-b620-43e27e75bf8a
DTSTART:20270429T114000
DTEND:20270429T114000
DESCRIPTION:
LOCATION:
SUMMARY:Early Dismissal - School Improvement Day (Gr. K-5)
END:VEVENT
BEGIN:VEVENT
DTSTAMP:20260419T201729Z
UID:0c542987-4ea7-4987-899d-dd7ce5de8204
DTSTART:20270513T112000
DTEND:20270513T112000
DESCRIPTION:
LOCATION:
SUMMARY:Early Dismissal - School Improvement Day (Gr. 6-12)
END:VEVENT
BEGIN:VEVENT
DTSTAMP:20260419T201729Z
UID:2dec4a0f-27f1-41a9-85b2-1b728e143095
DTSTART:20270513T114000
DTEND:20270513T114000
DESCRIPTION:
LOCATION:
SUMMARY:Early Dismissal - School Improvement Day (Gr. K-5)
END:VEVENT
BEGIN:VEVENT
DTSTAMP:20260419T201729Z
UID:ae285805-37c0-405a-8f8c-2462e2f5234a
DTSTART;VALUE=DATE:20270525
DTEND;VALUE=DATE:20270526
DESCRIPTION:
LOCATION:
SUMMARY:Last Day of School (Tentative) (No Emergency Days Used)
END:VEVENT
BEGIN:VEVENT
DTSTAMP:20260419T201729Z
UID:d437c360-853c-4160-9fad-66828a4a6379
DTSTART;VALUE=DATE:20270526
DTEND;VALUE=DATE:20270527
DESCRIPTION:
LOCATION:
SUMMARY:Last Day of School (Tentative) (1 Emergency Day Used)
END:VEVENT
BEGIN:VEVENT
DTSTAMP:20260419T201729Z
UID:9a7ba3df-99b6-4d8f-97c1-4290c7a767ac
DTSTART;VALUE=DATE:20270527
DTEND;VALUE=DATE:20270528
DESCRIPTION:
LOCATION:
SUMMARY:Last Day of School (Tentative) (2 Emergency Days Used)
END:VEVENT
BEGIN:VEVENT
DTSTAMP:20260419T201729Z
UID:ea3e9405-7faa-4bc4-bff6-803ce45ae11b
DTSTART;VALUE=DATE:20270528
DTEND;VALUE=DATE:20270529
DESCRIPTION:
LOCATION:
SUMMARY:Last Day of School (Tentative) (3 Emergency Days Used)
END:VEVENT
BEGIN:VEVENT
DTSTAMP:20260419T201729Z
UID:11be2f30-5d9a-4b31-a948-8376c8c45159
DTSTART;VALUE=DATE:20270531
DTEND;VALUE=DATE:20270601
DESCRIPTION:
LOCATION:
SUMMARY:No School - Memorial Day
END:VEVENT
BEGIN:VEVENT
DTSTAMP:20260419T201729Z
UID:43898e4e-1836-4f62-9667-793401aa67db
DTSTART;VALUE=DATE:20270601
DTEND;VALUE=DATE:20270602
DESCRIPTION:
LOCATION:
SUMMARY:Last Day of School (Tentative) (4 Emergency Days Used)
END:VEVENT
BEGIN:VEVENT
DTSTAMP:20260419T201729Z
UID:cbda8023-99d5-4604-8991-7c5835de7abb
DTSTART;VALUE=DATE:20270602
DTEND;VALUE=DATE:20270603
DESCRIPTION:
LOCATION:
SUMMARY:Last Day of School (Tentative) (5 Emergency Days Used)
END:VEVENT
BEGIN:VEVENT
DTSTAMP:20260419T201729Z
UID:be460a53-3a70-41e3-866c-454d7e96633c
DTSTART;VALUE=DATE:20270603
DTEND;VALUE=DATE:20270604
DESCRIPTION:
LOCATION:
SUMMARY:Last Day of School (Tentative) (6 Emergency Days Used)
END:VEVENT
BEGIN:VEVENT
DTSTAMP:20260419T201729Z
UID:5cf8997d-a773-4a83-b019-68e2377cb565
DTSTART;VALUE=DATE:20270604
DTEND;VALUE=DATE:20270605
DESCRIPTION:
LOCATION:
SUMMARY:Last Day of School (Tentative) (7 Emergency Days Used)
END:VEVENT
END:VCALENDAR
