BEGIN:VCALENDAR
VERSION:2.0
PRODID:icalendar-ruby
CALSCALE:GREGORIAN
BEGIN:VTIMEZONE
TZID:America/Chicago
BEGIN:DAYLIGHT
DTSTART:20260308T030000
TZOFFSETFROM:-0600
TZOFFSETTO:-0500
RRULE:FREQ=YEARLY;BYDAY=2SU;BYMONTH=3
TZNAME:CDT
END:DAYLIGHT
BEGIN:STANDARD
DTSTART:20261101T010000
TZOFFSETFROM:-0500
TZOFFSETTO:-0600
RRULE:FREQ=YEARLY;BYDAY=1SU;BYMONTH=11
TZNAME:CST
END:STANDARD
END:VTIMEZONE
BEGIN:VEVENT
DTSTAMP:20260423T095635Z
UID:8f69431d-5711-4b56-b703-bc3ebc40b1dc
DTSTART:20260429T080000
DTEND:20260429T120000
DESCRIPTION:
LOCATION:
SUMMARY:3rd Grade to Green Bay Botanical Gardens
END:VEVENT
BEGIN:VEVENT
DTSTAMP:20260423T095635Z
UID:078b7ee3-5125-4dee-99a1-d6a3c6708efd
DTSTART:20260430T160000
DTEND:20260430T173000
DESCRIPTION:
LOCATION:
SUMMARY:Family Night for our EL Families
END:VEVENT
BEGIN:VEVENT
DTSTAMP:20260423T095635Z
UID:f9796dbb-1d6a-4f77-89d7-3b84b3bda1cc
DTSTART:20260504T170000
DTEND:20260504T174500
DESCRIPTION:
LOCATION:
SUMMARY:Spring Concert\, Grades 2 & 3
END:VEVENT
BEGIN:VEVENT
DTSTAMP:20260423T095635Z
UID:286049cc-baef-4788-be97-bf467d5da316
DTSTART:20260504T181500
DTEND:20260504T190000
DESCRIPTION:
LOCATION:
SUMMARY:Spring Concert\, Grades 4 & 5
END:VEVENT
BEGIN:VEVENT
DTSTAMP:20260423T095635Z
UID:0bc70076-c7c7-43b9-9ffa-345845c4a89e
DTSTART:20260505T170000
DTEND:20260505T174500
DESCRIPTION:
LOCATION:
SUMMARY:Spring Concert\, 4K
END:VEVENT
BEGIN:VEVENT
DTSTAMP:20260423T095635Z
UID:89fc8d99-4771-42e4-892e-5876a63eb8ba
DTSTART:20260505T180000
DTEND:20260505T184500
DESCRIPTION:
LOCATION:
SUMMARY:Spring Concert\, Grades K & 1
END:VEVENT
BEGIN:VEVENT
DTSTAMP:20260423T095635Z
UID:09133252-3e0e-488d-a7ee-be4caa83d70b
DTSTART:20260508T140000
DTEND:20260508T150000
DESCRIPTION:
LOCATION:KGS Cafeteria
SUMMARY:4th Grade Indian Presentation
END:VEVENT
BEGIN:VEVENT
DTSTAMP:20260423T095635Z
UID:43bcb498-9bdf-4c3b-b515-3a36cf500f23
DTSTART;VALUE=DATE:20260511
DTEND;VALUE=DATE:20260512
DESCRIPTION:
LOCATION:
SUMMARY:Bridging Brighter Smiles on site
END:VEVENT
BEGIN:VEVENT
DTSTAMP:20260423T095635Z
UID:0176d170-621f-4a2e-ac00-d95e125087d6
DTSTART:20260514T083000
DTEND:20260514T143000
DESCRIPTION:
LOCATION:
SUMMARY:4th Grade Field Trip to WI Farm Discovery Center
END:VEVENT
BEGIN:VEVENT
DTSTAMP:20260423T095635Z
UID:e0505957-edd8-4189-a0d8-8a99d2033a1c
DTSTART:20260514T170000
DTEND:20260514T180000
DESCRIPTION:
LOCATION:KGS Cafeteria
SUMMARY:3K Concert
END:VEVENT
BEGIN:VEVENT
DTSTAMP:20260423T095635Z
UID:00786be0-69e1-4fd2-afe0-d3bc3479bc36
DTSTART:20260519T081500
DTEND:20260519T140000
DESCRIPTION:<a href="https://newzoo.org/">https://newzoo.org/</a>
LOCATION:NEW Zoo & Adventure Park\, 4378 Reforestation Rd\, Green Bay\, WI 
 54313\, USA
SUMMARY:Kindergarten Field Trip to NEW Zoo
END:VEVENT
BEGIN:VEVENT
DTSTAMP:20260423T095635Z
UID:8cd060dd-9cd9-4244-8153-b0acd6497442
DTSTART:20260520T081500
DTEND:20260520T140000
DESCRIPTION:<a href="https://newzoo.org/">https://newzoo.org/</a>
LOCATION:NEW Zoo & Adventure Park\, 4378 Reforestation Rd\, Green Bay\, WI 
 54313\, USA
SUMMARY:*Rain Date Only - Kindergarten Field Trip to NEW Zoo
END:VEVENT
BEGIN:VEVENT
DTSTAMP:20260423T095635Z
UID:f3bab30b-d0e1-4345-a138-90b45eb565a9
DTSTART;VALUE=DATE:20260521
DTEND;VALUE=DATE:20260522
DESCRIPTION:
LOCATION:
SUMMARY:FFA Petting Zoo
END:VEVENT
BEGIN:VEVENT
DTSTAMP:20260423T095635Z
UID:4e9faad3-f93b-4b7b-ad88-77e41a8a6a53
DTSTART:20260521T140000
DTEND:20260521T150000
DESCRIPTION:
LOCATION:KGS Cafeteria
SUMMARY:4K Learning Parade
END:VEVENT
BEGIN:VEVENT
DTSTAMP:20260423T095635Z
UID:c852dc0f-1b00-4710-81c2-46cf01386042
DTSTART;VALUE=DATE:20260525
DTEND;VALUE=DATE:20260526
DESCRIPTION:
LOCATION:
SUMMARY:No School
END:VEVENT
BEGIN:VEVENT
DTSTAMP:20260423T095635Z
UID:772e731b-685b-447b-b50d-811fa2d3a89b
DTSTART:20260526T131500
DTEND:20260526T143000
DESCRIPTION:
LOCATION:Kewaunee Public Library\, 822 Juneau St\, Kewaunee\, WI 54216\, US
 A
SUMMARY:1st Grade Walking Field Trip to Public Library
END:VEVENT
BEGIN:VEVENT
DTSTAMP:20260423T095635Z
UID:0e1a4d07-5304-46a6-9a5e-102e416c1793
DTSTART:20260527T131500
DTEND:20260527T142000
DESCRIPTION:
LOCATION:Kewaunee Public Library\, 822 Juneau St\, Kewaunee\, WI 54216\, US
 A
SUMMARY:2nd Grade Walking Field Trip to the Kewaunee Public Library
END:VEVENT
BEGIN:VEVENT
DTSTAMP:20260423T095635Z
UID:971568be-aa40-469a-93f6-ef95b704b4c6
DTSTART:20260529T081500
DTEND:20260529T142000
DESCRIPTION:
LOCATION:Bay Beach Wildlife Sanctuary\, 1660 E Shore Dr\, Green Bay\, WI 54
 302\, USA
SUMMARY:1st Grade to Wild Life Sanctuary & Bay Beach
END:VEVENT
BEGIN:VEVENT
DTSTAMP:20260423T095635Z
UID:21b7c2be-458d-4097-ae7f-414718318eec
DTSTART:20260529T140000
DTEND:20260529T150000
DESCRIPTION:
LOCATION:
SUMMARY:2nd Grade Pen Pal Party
END:VEVENT
BEGIN:VEVENT
DTSTAMP:20260423T095635Z
UID:9461049e-84a1-4fb1-9a4f-3f59bc2a9d3c
DTSTART:20260601T081500
DTEND:20260601T142000
DESCRIPTION:
LOCATION:Bay Beach Wildlife Sanctuary\, 1660 E Shore Dr\, Green Bay\, WI 54
 302\, USA
SUMMARY:Rain Date - 1st Grade Field Trip to Wild Life Sanctuary & Bay Beach
END:VEVENT
BEGIN:VEVENT
DTSTAMP:20260423T095635Z
UID:d5a98adf-282a-491b-bc3e-45e32b1cb8c0
DTSTART:20260602T091000
DTEND:20260602T143000
DESCRIPTION:
LOCATION:De Pere Cinema\, 417 George St\, De Pere\, WI 54115\, USA
SUMMARY:2nd Grade Field Trip to Voyager Park & DePere Cinema
END:VEVENT
BEGIN:VEVENT
DTSTAMP:20260423T095635Z
UID:50321e69-cf50-480d-a200-399b5265b7e8
DTSTART:20260602T131500
DTEND:20260602T143000
DESCRIPTION:
LOCATION:Kewaunee Public Library\, 822 Juneau St\, Kewaunee\, WI 54216\, US
 A
SUMMARY:*Rain Date - 1st Grade Walking Field Trip to Kewaunee Public Librar
 y
END:VEVENT
BEGIN:VEVENT
DTSTAMP:20260423T095635Z
UID:8540f745-39b9-48ec-b33d-1b00a19f841d
DTSTART;VALUE=DATE:20260603
DTEND;VALUE=DATE:20260604
DESCRIPTION:
LOCATION:
SUMMARY:Report Cards Sent Home
END:VEVENT
BEGIN:VEVENT
DTSTAMP:20260423T095635Z
UID:2bfaa646-de5a-4ca1-b42c-be330bbde750
DTSTART;VALUE=DATE:20260604
DTEND;VALUE=DATE:20260605
DESCRIPTION:
LOCATION:
SUMMARY:Last Day of School
END:VEVENT
END:VCALENDAR
