BEGIN:VCALENDAR
VERSION:2.0
PRODID:icalendar-ruby
CALSCALE:GREGORIAN
BEGIN:VTIMEZONE
TZID:America/Chicago
BEGIN:DAYLIGHT
DTSTART:20260308T030000
TZOFFSETFROM:-0600
TZOFFSETTO:-0500
RRULE:FREQ=YEARLY;BYDAY=2SU;BYMONTH=3
TZNAME:CDT
END:DAYLIGHT
BEGIN:STANDARD
DTSTART:20261101T010000
TZOFFSETFROM:-0500
TZOFFSETTO:-0600
RRULE:FREQ=YEARLY;BYDAY=1SU;BYMONTH=11
TZNAME:CST
END:STANDARD
END:VTIMEZONE
BEGIN:VEVENT
DTSTAMP:20260419T122515Z
UID:978db2fe-b6a8-4eeb-895b-be8cdc493f63
DTSTART;VALUE=DATE:20260420
DTEND;VALUE=DATE:20260421
DESCRIPTION:
LOCATION:
SUMMARY:Board of Education Meeting - 6:30pm - Board of Education Office
END:VEVENT
BEGIN:VEVENT
DTSTAMP:20260419T122515Z
UID:fff595e3-d230-49b3-9c53-9a3238e9e265
DTSTART;VALUE=DATE:20260518
DTEND;VALUE=DATE:20260519
DESCRIPTION:
LOCATION:
SUMMARY:Board of Education Meeting - 6:30pm - Board of Education Office
END:VEVENT
BEGIN:VEVENT
DTSTAMP:20260419T122515Z
UID:c598dde6-2eec-46d9-b1eb-ee4ccaa72c73
DTSTART;VALUE=DATE:20260522
DTEND;VALUE=DATE:20260523
DESCRIPTION:
LOCATION:
SUMMARY:Last Day Student Attendance - Full Day
END:VEVENT
BEGIN:VEVENT
DTSTAMP:20260419T122515Z
UID:9d93ce18-34d8-481c-aa87-8450716a7a71
DTSTART;VALUE=DATE:20260526
DTEND;VALUE=DATE:20260527
DESCRIPTION:
LOCATION:
SUMMARY:Teacher Institute
END:VEVENT
BEGIN:VEVENT
DTSTAMP:20260419T122515Z
UID:cef9868a-2895-46f9-a8a9-67ac880f88da
DTSTART;VALUE=DATE:20260615
DTEND;VALUE=DATE:20260616
DESCRIPTION:
LOCATION:
SUMMARY:Board of Education Meeting - 6:30pm - Board of Education Office
END:VEVENT
END:VCALENDAR
