BEGIN:VCALENDAR
VERSION:2.0
PRODID:icalendar-ruby
CALSCALE:GREGORIAN
BEGIN:VTIMEZONE
TZID:America/Chicago
BEGIN:DAYLIGHT
DTSTART:20260308T030000
TZOFFSETFROM:-0600
TZOFFSETTO:-0500
RRULE:FREQ=YEARLY;BYDAY=2SU;BYMONTH=3
TZNAME:CDT
END:DAYLIGHT
BEGIN:STANDARD
DTSTART:20261101T010000
TZOFFSETFROM:-0500
TZOFFSETTO:-0600
RRULE:FREQ=YEARLY;BYDAY=1SU;BYMONTH=11
TZNAME:CST
END:STANDARD
END:VTIMEZONE
BEGIN:VEVENT
DTSTAMP:20260421T012346Z
UID:404906d2-864a-4d9e-9fff-41e0acc1a9bd
DTSTART:20260420T160000
DTEND:20260420T180000
DESCRIPTION:<p>4 pm/5 pm</p>
LOCATION:100 177th Ave SW\, Minot\, ND 58701\, USA
SUMMARY:Elementary Girls VB @ South Prairie
END:VEVENT
BEGIN:VEVENT
DTSTAMP:20260421T012346Z
UID:bd36f600-e79d-4e84-bf38-efceb5c37c94
DTSTART:20260420T163000
DTEND:20260420T210000
DESCRIPTION:
LOCATION:301 Wallace St S\, Burlington\, ND 58722\, USA
SUMMARY:DLBLC Softball vs Stanley @ Burlington
END:VEVENT
BEGIN:VEVENT
DTSTAMP:20260421T012346Z
UID:9beeb255-8794-411e-a137-10935ac081cc
DTSTART:20260420T163000
DTEND:20260420T190000
DESCRIPTION:<p>4:30/5:30</p>
LOCATION:211 1st Ave NW\, Parshall\, ND 58770\, USA
SUMMARY:L&C Longhorn 5/6 BBB @ Parshall
END:VEVENT
BEGIN:VEVENT
DTSTAMP:20260421T012346Z
UID:23a2542a-2a0a-4511-a463-f2a6790eea0e
DTSTART:20260420T190000
DTEND:20260420T210000
DESCRIPTION:
LOCATION:401 4th Ave NE\, Berthold\, ND 58718\, USA
SUMMARY:April 20\, 2026 Special School Board Meeting
END:VEVENT
BEGIN:VEVENT
DTSTAMP:20260421T012346Z
UID:534fb657-ee51-4223-b6ff-868c6b013d6a
DTSTART:20260421T080000
DTEND:20260421T090000
DESCRIPTION:<p>TBD/Backup</p><p>Schedule is tentative and subject to change
 !</p>
LOCATION:100 3rd Ave S\, Carrington\, ND 58421\, USA
SUMMARY:DLBLC Laker JH Track @ Carrington
END:VEVENT
BEGIN:VEVENT
DTSTAMP:20260421T012346Z
UID:ef7f6c85-b66e-4d3d-8dea-ab3106d8b308
DTSTART:20260421T080000
DTEND:20260421T090000
DESCRIPTION:<p>Schedule is tentative and subject to change!</p>
LOCATION:
SUMMARY:DLBLC Laker Varsity Track @ Bottineau Varsity or @ Fessenden Lloyd 
 Memorial
END:VEVENT
BEGIN:VEVENT
DTSTAMP:20260421T012346Z
UID:266c8ccf-5dc6-4e69-8a5f-c67d4be8a41e
DTSTART:20260421T160000
DTEND:20260421T180000
DESCRIPTION:<p>4 pm/5 pm</p>
LOCATION:401 4th Ave NE\, Berthold\, ND 58718\, USA
SUMMARY:Elementary Girls VB vs NSP
END:VEVENT
BEGIN:VEVENT
DTSTAMP:20260421T012346Z
UID:e2396e56-f49b-4d26-af2d-29582af16c2b
DTSTART:20260421T160000
DTEND:20260421T183000
DESCRIPTION:<p>4:00/5:00</p>
LOCATION:300 7th Ave NE\, Kenmare\, ND 58746\, USA
SUMMARY:L&C Longhorn 5/6 BBB @ Kenmare
END:VEVENT
BEGIN:VEVENT
DTSTAMP:20260421T012346Z
UID:b150835f-efd7-4edc-9bd9-d65e728cfc82
DTSTART:20260421T163000
DTEND:20260421T210000
DESCRIPTION:
LOCATION:301 Wallace St S\, Burlington\, ND 58722\, USA
SUMMARY:DLBLC Softball vs Renville County @ Burlington
END:VEVENT
BEGIN:VEVENT
DTSTAMP:20260421T012346Z
UID:f89ff39f-d576-4643-bf85-2657bc5993c6
DTSTART:20260421T163000
DTEND:20260421T210000
DESCRIPTION:
LOCATION:Lansford\, ND\, USA
SUMMARY:L&C Longhorn Baseball vs Renville County @ Lansford
END:VEVENT
BEGIN:VEVENT
DTSTAMP:20260421T012346Z
UID:cf051a8a-9647-49ee-a20c-5cb379798b99
DTSTART:20260423T153000
DTEND:20260423T210000
DESCRIPTION:
LOCATION:301 Wallace St S\, Burlington\, ND 58722\, USA
SUMMARY:DLBLC Softball vs Glenburn  @ Burlington
END:VEVENT
BEGIN:VEVENT
DTSTAMP:20260421T012346Z
UID:b35ae4ed-f96e-44e1-a9e1-c73c5caabd11
DTSTART:20260423T160000
DTEND:20260423T183000
DESCRIPTION:<p>4:00/5:00</p>
LOCATION:401 4th Ave NE\, Berthold\, ND 58718\, USA
SUMMARY:L&C Longhorn 5/6 BBB vs Velva
END:VEVENT
BEGIN:VEVENT
DTSTAMP:20260421T012346Z
UID:ee9068b7-4d51-4ccb-ae8c-aa97ee20067c
DTSTART:20260423T160000
DTEND:20260423T210000
DESCRIPTION:<p>Dependent on field conditions\, all home games may be played
  in Berthold or Makoti.</p>
LOCATION:401 4th Ave NE\, Berthold\, ND 58718\, USA
SUMMARY:L&C Longhorn Baseball vs. Ray
END:VEVENT
BEGIN:VEVENT
DTSTAMP:20260421T012346Z
UID:a56b4980-df98-4e61-9b9a-e5215f086f68
DTSTART:20260424T080000
DTEND:20260425T090000
DESCRIPTION:<p>TBA</p>
LOCATION:601 16th Ave SE\, Minot\, ND 58701\, USA
SUMMARY:DLBLC Softball Crossover @ Minot South Hill
END:VEVENT
BEGIN:VEVENT
DTSTAMP:20260421T012346Z
UID:12d48283-cea8-477e-8427-62449e478331
DTSTART:20260424T080000
DTEND:20260424T090000
DESCRIPTION:<p>TBD (small gr./indiv.)</p><p>Schedule is tentative and subje
 ct to change!</p>
LOCATION:
SUMMARY:DLBLC Varsity Laker Track @ Fargo Elite Meet (qualifier meet)
END:VEVENT
BEGIN:VEVENT
DTSTAMP:20260421T012346Z
UID:c2eae63f-6757-4d5a-9da6-cddc881c58a3
DTSTART:20260424T140000
DTEND:20260424T210000
DESCRIPTION:<p>TBD</p><p>Schedule is tentative and subject to change!</p>
LOCATION:1123 S Main Ave\, Rugby\, ND 58368\, USA
SUMMARY:DLBLC Varsity Laker Track Mariya Tate Invitational @ Rugby
END:VEVENT
BEGIN:VEVENT
DTSTAMP:20260421T012346Z
UID:28a00c81-453d-4f9f-8c89-4180d531f4ce
DTSTART:20260425T080000
DTEND:20260425T090000
DESCRIPTION:<p>TBD</p>
LOCATION:401 4th Ave NE\, Berthold\, ND 58718\, USA
SUMMARY:Elementary Girls VB Tournament @ Berthold
END:VEVENT
BEGIN:VEVENT
DTSTAMP:20260421T012346Z
UID:c1fa1332-042a-49fa-b44c-d0f8f44e7d4d
DTSTART:20260425T080000
DTEND:20260425T090000
DESCRIPTION:<p>Arrival Time at all meets is 8:00-8:30 am</p>
LOCATION:905 8th Ave NW\, Mandan\, ND 58554\, USA
SUMMARY:L&C Speech @ Mandan (State)
END:VEVENT
BEGIN:VEVENT
DTSTAMP:20260421T012346Z
UID:20cf950a-ce62-4da0-aeb8-78f308a3308d
DTSTART:20260425T103000
DTEND:20260425T210000
DESCRIPTION:<p>TBD</p><p>Schedule is tentative and subject to change!</p>
LOCATION:1123 S Main Ave\, Rugby\, ND 58368\, USA
SUMMARY:DLBLC Laker JH Track Rugby Panther Booster @ Rugby
END:VEVENT
BEGIN:VEVENT
DTSTAMP:20260421T012346Z
UID:a7c83a4e-f47f-44ed-857e-8327858e60de
DTSTART:20260427T160000
DTEND:20260427T180000
DESCRIPTION:<p>4 pm/5 pm</p>
LOCATION:6900 US-2\, Minot\, ND 58701\, USA
SUMMARY:Elementary Girls VB @ Nedrose
END:VEVENT
BEGIN:VEVENT
DTSTAMP:20260421T012346Z
UID:9938faef-9e29-46b7-8684-13d1fc544fbe
DTSTART:20260427T163000
DTEND:20260427T203000
DESCRIPTION:<p>Carnival from 4:30-5:30. Tickets are $20 for 25 punches.</p>
 <p>Free-will donation Pasta Dinner from 5:30-6:30.</p><p>Students travelin
 g to NYC this summer will be hosting a silent auction.</p><p>Dessert Pops 
 Concert at 7 pm</p>
LOCATION:401 4th Ave NE\, Berthold\, ND 58718\, USA
SUMMARY:Berthold Music Carnival\, Supper\, and Fundraiser
END:VEVENT
BEGIN:VEVENT
DTSTAMP:20260421T012346Z
UID:dd1a2ad7-cc1c-46b7-a629-94f41711b67c
DTSTART:20260427T190000
DTEND:20260427T203000
DESCRIPTION:
LOCATION:401 4th Ave NE\, Berthold\, ND 58718\, USA
SUMMARY:Dessert Pops Concert
END:VEVENT
BEGIN:VEVENT
DTSTAMP:20260421T012346Z
UID:d0e42eaa-c1f0-42db-9161-98c443203f14
DTSTART:20260428T080000
DTEND:20260428T090000
DESCRIPTION:<p>Schedule is tentative and subject to change!</p>
LOCATION:
SUMMARY:DLBLC Laker JH Track  HWC @ Fessenden OR @ Bottineau
END:VEVENT
BEGIN:VEVENT
DTSTAMP:20260421T012346Z
UID:38e1b11d-7d96-49a3-9e7e-ff75406a8c0c
DTSTART:20260428T160000
DTEND:20260428T210000
DESCRIPTION:<p>Dependent on field conditions\, all home games may be played
  in Berthold or Makoti.</p>
LOCATION:401 4th Ave NE\, Berthold\, ND 58718\, USA
SUMMARY:L&C Longhorn Baseball vs. DLB
END:VEVENT
BEGIN:VEVENT
DTSTAMP:20260421T012346Z
UID:55e60660-a7c7-4a06-8e7b-1d0aa9bf3c7b
DTSTART:20260428T163000
DTEND:20260428T210000
DESCRIPTION:
LOCATION:605 4th Ave SE\, Crosby\, ND 58730\, USA
SUMMARY:DLBLC Softball vs Divide County @ Crosby
END:VEVENT
BEGIN:VEVENT
DTSTAMP:20260421T012346Z
UID:3df52ead-0f6b-4083-b416-2447d722d340
DTSTART:20260430T110000
DTEND:20260430T210000
DESCRIPTION:<p>Schedule is tentative and subject to change!</p>
LOCATION:109 8th Ave SW\, Stanley\, ND 58784\, USA
SUMMARY:DLBLC Laker JH/V Track NWC Meet @ Stanley
END:VEVENT
BEGIN:VEVENT
DTSTAMP:20260421T012346Z
UID:26dc8e46-f4ac-4c18-96c3-f4d007a65cd7
DTSTART:20260430T153000
DTEND:20260430T200000
DESCRIPTION:
LOCATION:301 Brander St\, Bottineau\, ND 58318\, USA
SUMMARY:DLBLC Softball @ Bottineau
END:VEVENT
BEGIN:VEVENT
DTSTAMP:20260421T012346Z
UID:db256cd3-c248-456e-8b45-4d9bfbe7c594
DTSTART:20260430T163000
DTEND:20260430T210000
DESCRIPTION:
LOCATION:300 Eagle Dr\, New Town\, ND 58763\, USA
SUMMARY:L&C Longhorn Baseball @ New Town
END:VEVENT
BEGIN:VEVENT
DTSTAMP:20260421T012346Z
UID:3ab7a9ce-4f9b-44fe-8e6d-beb423174a9e
DTSTART:20260501T180000
DTEND:20260501T220000
DESCRIPTION:<p>Schedule is tentative and subject to change!</p>
LOCATION:109 8th Ave SW\, Stanley\, ND 58784\, USA
SUMMARY:DLBLC Laker Varsity Track Hynek Memorial Twilight Meet @ Stanley
END:VEVENT
BEGIN:VEVENT
DTSTAMP:20260421T012346Z
UID:75d8f61b-7e7e-401e-b92d-94364a056457
DTSTART:20260502T080000
DTEND:20260502T090000
DESCRIPTION:<p>TBD</p><p>Schedule is tentative and subject to change!</p>
LOCATION:
SUMMARY:DLBLC Laker Varsity Track @ Carrington or @ Bottineau
END:VEVENT
BEGIN:VEVENT
DTSTAMP:20260421T012346Z
UID:607f2e47-e030-4741-bd78-7d963810a7bb
DTSTART:20260502T080000
DTEND:20260502T090000
DESCRIPTION:<p>TBA</p>
LOCATION:215 West St\, Ray\, ND 58849\, USA
SUMMARY:DLBLC Softball JH/JV Jamboree @ Ray
END:VEVENT
BEGIN:VEVENT
DTSTAMP:20260421T012346Z
UID:278d7fac-b89e-4f67-a7f6-6256c39f0287
DTSTART:20260505T110000
DTEND:20260505T200000
DESCRIPTION:<p>TBD</p><p>Schedule is tentative and subject to change!</p>
LOCATION:2313 Wolves Den Parkway\, Watford City\, ND 58854\, USA
SUMMARY:DLBLC Laker Varsity Track @ Watford City Invite
END:VEVENT
BEGIN:VEVENT
DTSTAMP:20260421T012346Z
UID:d850c4b5-20f3-40b9-982a-efedf958c73f
DTSTART:20260505T120000
DTEND:20260505T210000
DESCRIPTION:<p>Schedule is tentative and subject to change!</p>
LOCATION:601 Main St\, Parshall\, ND 58770\, USA
SUMMARY:DLBLC Laker JH Track @ Parshall
END:VEVENT
BEGIN:VEVENT
DTSTAMP:20260421T012346Z
UID:b9771315-dbcf-46d0-8bec-4ffcd7da2119
DTSTART:20260505T163000
DTEND:20260505T210000
DESCRIPTION:
LOCATION:301 Wallace St S\, Burlington\, ND 58722\, USA
SUMMARY:DLBLC Softball vs Rugby @ Burlington
END:VEVENT
BEGIN:VEVENT
DTSTAMP:20260421T012346Z
UID:72dfd485-6cdd-402c-9b4b-ff5592bc28e1
DTSTART:20260505T163000
DTEND:20260505T210000
DESCRIPTION:
LOCATION:109 8th Ave SW\, Stanley\, ND 58784\, USA
SUMMARY:L&C Longhorn Baseball @ Stanley
END:VEVENT
BEGIN:VEVENT
DTSTAMP:20260421T012346Z
UID:f4db153d-e74d-40c4-ac03-f17ae9da3e73
DTSTART:20260507T120000
DTEND:20260507T210000
DESCRIPTION:<p>Schedule is tentative and subject to change!</p>
LOCATION:601 Main St\, Parshall\, ND 58770\, USA
SUMMARY:DLBLC Laker Varsity Track @ Parshall
END:VEVENT
BEGIN:VEVENT
DTSTAMP:20260421T012346Z
UID:392f75bb-a8f4-43aa-989e-dd4315e56687
DTSTART:20260508T080000
DTEND:20260509T090000
DESCRIPTION:<p>TBA</p>
LOCATION:
SUMMARY:DLBLC Softball Midseason Madness @ Fargo
END:VEVENT
BEGIN:VEVENT
DTSTAMP:20260421T012346Z
UID:995adc5a-1457-4b0b-8b7a-4c6b1ea0b657
DTSTART:20260508T130000
DTEND:20260508T210000
DESCRIPTION:<p>Schedule is tentative and subject to change!</p>
LOCATION:5705 15th Ave SE\, Minot\, ND 58701\, USA
SUMMARY:DLBLC Laker JH Track @ Nedrose
END:VEVENT
BEGIN:VEVENT
DTSTAMP:20260421T012346Z
UID:ba6fa8d7-38f8-4641-abe9-84a5e96e042c
DTSTART:20260509T110000
DTEND:20260509T210000
DESCRIPTION:<p>Schedule is tentative and subject to change!</p>
LOCATION:1100 11th Ave SW\, Minot\, ND 58701\, USA
SUMMARY:DLBLC Laker Varsity Track Glenburn Invite @ Minot High
END:VEVENT
BEGIN:VEVENT
DTSTAMP:20260421T012346Z
UID:8fb086e3-6cfc-4b00-a50a-4477f9d8b0ad
DTSTART:20260509T110000
DTEND:20260509T160000
DESCRIPTION:<p>Double Header</p><p>Dependent on field conditions\, all home
  games may be played in Berthold or Makoti.</p>
LOCATION:Makoti\, ND\, USA
SUMMARY:L&C Longhorn Baseball vs. Central McLean @ Makoti
END:VEVENT
BEGIN:VEVENT
DTSTAMP:20260421T012346Z
UID:70d5eac0-2c4c-460a-a2d8-f7c848cd9cff
DTSTART:20260511T140000
DTEND:20260511T220000
DESCRIPTION:<p>TBD</p><p>Schedule is tentative and subject to change!</p>
LOCATION:1123 S Main Ave\, Rugby\, ND 58368\, USA
SUMMARY:DLBLC Laker Varsity Track @ Rugby Last Chance
END:VEVENT
BEGIN:VEVENT
DTSTAMP:20260421T012346Z
UID:12483ede-c3b7-4589-a052-987475d73996
DTSTART:20260512T080000
DTEND:20260512T090000
DESCRIPTION:<p>TBD</p>
LOCATION:
SUMMARY:Baseball Play-In
END:VEVENT
BEGIN:VEVENT
DTSTAMP:20260421T012346Z
UID:021cc838-ce2d-470d-b48e-2a43932f86dd
DTSTART:20260512T150000
DTEND:20260512T220000
DESCRIPTION:<p>TBD</p><p>Schedule is tentative and subject to change!</p>
LOCATION:520 1st Ave NE\, Hazen\, ND 58545\, USA
SUMMARY:DLBLC Laker Varsity Track @ Hazen Last Chance
END:VEVENT
BEGIN:VEVENT
DTSTAMP:20260421T012346Z
UID:7c355a38-7c47-4321-9916-c4d24a5ec73c
DTSTART:20260513T133000
DTEND:20260513T153000
DESCRIPTION:
LOCATION:
SUMMARY:Early Out--School Dismissed at 1:30 PM
END:VEVENT
BEGIN:VEVENT
DTSTAMP:20260421T012346Z
UID:ad58c321-0c75-489b-b00f-5d50f4259597
DTSTART:20260515T110000
DTEND:20260515T210000
DESCRIPTION:<p>If postponed\, the meet will take place tomorrow\, Saturday\
 , May 16</p>
LOCATION:1100 11th Ave SW\, Minot\, ND 58701\, USA
SUMMARY:DLBLC Laker Varsity Track NW Regional Meet @ Minot
END:VEVENT
BEGIN:VEVENT
DTSTAMP:20260421T012346Z
UID:be394452-adaa-4777-8a2b-39fe94b1e906
DTSTART:20260516T080000
DTEND:20260520T090000
DESCRIPTION:<p>TBD</p>
LOCATION:
SUMMARY:Baseball Regionals
END:VEVENT
BEGIN:VEVENT
DTSTAMP:20260421T012346Z
UID:bd8990bf-fe97-4887-9f77-601b83d42e43
DTSTART:20260518T080000
DTEND:20260520T090000
DESCRIPTION:<p>TBA</p>
LOCATION:601 16th Ave SE\, Minot\, ND 58701\, USA
SUMMARY:Softball Regionals @ Minot South Hill Complex
END:VEVENT
BEGIN:VEVENT
DTSTAMP:20260421T012346Z
UID:803eaaf3-26a9-425c-b9ba-61e700daf6a6
DTSTART:20260521T080000
DTEND:20260523T090000
DESCRIPTION:<p>For state time/distance mark reachers and top 3 regional pla
 cers.</p>
LOCATION:
SUMMARY:State Track @ Bismarck Bowl
END:VEVENT
BEGIN:VEVENT
DTSTAMP:20260421T012346Z
UID:d6975fdd-6c77-4700-b453-6a1f5508bf81
DTSTART;VALUE=DATE:20260522
DTEND;VALUE=DATE:20260523
DESCRIPTION:
LOCATION:
SUMMARY:End of Semester 2--Last Day of School
END:VEVENT
BEGIN:VEVENT
DTSTAMP:20260421T012346Z
UID:45d40c99-b295-42fd-9012-ddddc51331f9
DTSTART:20260524T130000
DTEND:20260524T140000
DESCRIPTION:
LOCATION:
SUMMARY:Graduation
END:VEVENT
BEGIN:VEVENT
DTSTAMP:20260421T012346Z
UID:c311dd91-6234-42ea-83fc-df24f5883cd4
DTSTART:20260528T080000
DTEND:20260530T090000
DESCRIPTION:<p>TBA</p>
LOCATION:
SUMMARY:Softball State Tournament @ Jamestown
END:VEVENT
BEGIN:VEVENT
DTSTAMP:20260421T012346Z
UID:526fcda2-4923-489f-8219-e73b16f95eaa
DTSTART:20260610T110000
DTEND:20260610T190000
DESCRIPTION:
LOCATION:401 4th Ave NE\, Berthold\, ND 58718\, USA
SUMMARY:School Board Elections 
END:VEVENT
END:VCALENDAR
