BEGIN:VCALENDAR
VERSION:2.0
PRODID:icalendar-ruby
CALSCALE:GREGORIAN
BEGIN:VTIMEZONE
TZID:America/Chicago
BEGIN:DAYLIGHT
DTSTART:20260308T030000
TZOFFSETFROM:-0600
TZOFFSETTO:-0500
RRULE:FREQ=YEARLY;BYDAY=2SU;BYMONTH=3
TZNAME:CDT
END:DAYLIGHT
BEGIN:STANDARD
DTSTART:20261101T010000
TZOFFSETFROM:-0500
TZOFFSETTO:-0600
RRULE:FREQ=YEARLY;BYDAY=1SU;BYMONTH=11
TZNAME:CST
END:STANDARD
END:VTIMEZONE
BEGIN:VEVENT
DTSTAMP:20260425T034550Z
UID:c6fc8d81-af4d-4941-89ca-6b86888b69ea
DTSTART:20260424T060000
DTEND:20260424T083000
DESCRIPTION:Type: school only Opponent:  
LOCATION:Lomira - Commons Area
SUMMARY:Elementary PTC Grandparents (special guest) and Goodies   
END:VEVENT
BEGIN:VEVENT
DTSTAMP:20260425T034550Z
UID:8594618d-78aa-4fd8-8501-5f51011198c9
DTSTART:20260424T150000
DTEND:20260424T150000
DESCRIPTION:Type: nonconference Opponent: Multiple Schools vs. St. Norbert 
 College 
LOCATION:St. Norbert College\, Schneider Stadium
SUMMARY:Track:  Varsity Invitational vs Multiple Schools vs. St. Norbert Co
 llege (Away)  
END:VEVENT
BEGIN:VEVENT
DTSTAMP:20260425T034550Z
UID:007a600b-4bfb-4944-9758-d2c51ad87628
DTSTART:20260424T170000
DTEND:20260424T190000
DESCRIPTION:Type: nonconference Opponent: Random Lake 
LOCATION:Lomira High School\, LHS Baseball Field
SUMMARY:Baseball:  Varsity Game vs Random Lake (Home)  
END:VEVENT
BEGIN:VEVENT
DTSTAMP:20260425T034550Z
UID:9e871038-a153-43e5-bb82-0cbf06f93abb
DTSTART:20260425T080000
DTEND:20260425T080000
DESCRIPTION:Type: nonconference Opponent: Multiple Schools vs. Campbellspor
 t 
LOCATION:Hon-E-Kor Golf Course
SUMMARY:Golf:  Boys Varsity Scramble vs Multiple Schools vs. Campbellsport 
 (Away)  
END:VEVENT
BEGIN:VEVENT
DTSTAMP:20260425T034550Z
UID:ff6d62e4-b107-4ead-ae13-d61234945acd
DTSTART:20260425T090000
DTEND:20260425T160000
DESCRIPTION:Type: nonconference Opponent: Multiple Schools vs. Waterloo 
LOCATION:Waterloo Fireman's Park
SUMMARY:Softball:  Varsity Triangular vs Multiple Schools vs. Waterloo (Awa
 y)  
END:VEVENT
BEGIN:VEVENT
DTSTAMP:20260425T034550Z
UID:cc7eb608-8a11-4251-9c12-f0f54bae0db7
DTSTART:20260426T160000
DTEND:20260426T200000
DESCRIPTION:Type: school only Opponent:  
LOCATION:Lomira - Commons Area
SUMMARY:Girls Basketball Banquet   
END:VEVENT
BEGIN:VEVENT
DTSTAMP:20260425T034550Z
UID:5293f0e3-8647-4247-b6e5-02f16a5a1977
DTSTART:20260427T163000
DTEND:20260427T163000
DESCRIPTION:Type: nonconference Opponent: Kohler 
LOCATION:Kohler High School
SUMMARY:Baseball:  Varsity Game vs Kohler (Away)  
END:VEVENT
BEGIN:VEVENT
DTSTAMP:20260425T034550Z
UID:23ecab16-a5e8-4d22-baca-886c8fee82a2
DTSTART:20260427T170000
DTEND:20260427T170000
DESCRIPTION:Type: conference Opponent: St. Mary's Springs Academy 
LOCATION:Lomira High School\, Lomira City Softball Fields
SUMMARY:Softball:  Varsity Game vs St. Mary's Springs Academy (Home)  
END:VEVENT
BEGIN:VEVENT
DTSTAMP:20260425T034550Z
UID:5be665d4-6a93-459f-a865-81d41664bdad
DTSTART:20260427T190000
DTEND:20260427T190000
DESCRIPTION:Type: conference Opponent: Lourdes/Valley Christian 
LOCATION:Titan Stadium (UW-Oshkosh)
SUMMARY:Soccer:  Girls Varsity Game vs Lourdes/Valley Christian (Away)  (Ti
 me & Location Changed)
END:VEVENT
BEGIN:VEVENT
DTSTAMP:20260425T034550Z
UID:3ba71a0d-e607-4df4-9159-9e113d04f247
DTSTART:20260428T150000
DTEND:20260428T150000
DESCRIPTION:Type: conference Opponent: Multiple Schools vs. St. Lawrence Se
 minary Comments: Rain Date:  April 28 
LOCATION:Hickory Hills Golf Course
SUMMARY:Golf:  Boys Varsity Meet vs Multiple Schools vs. St. Lawrence Semin
 ary (Away)  
END:VEVENT
BEGIN:VEVENT
DTSTAMP:20260425T034550Z
UID:17ed262b-ce25-46b4-a528-676c1552689f
DTSTART:20260428T160000
DTEND:20260428T160000
DESCRIPTION:Type: conference Opponent: Multiple Schools vs. Campbellsport 
LOCATION:Campbellsport Middle-High School
SUMMARY:Track:  Varsity Meet vs Multiple Schools vs. Campbellsport (Away)  
END:VEVENT
BEGIN:VEVENT
DTSTAMP:20260425T034550Z
UID:6fd2ef71-3023-4efc-a40f-436282248616
DTSTART:20260428T161500
DTEND:20260428T183000
DESCRIPTION:Type: nonconference Opponent: Multiple Schools vs. Horicon 
LOCATION:Horicon MS/HS
SUMMARY:Track:  MS Meet vs Multiple Schools vs. Horicon (Away)  
END:VEVENT
BEGIN:VEVENT
DTSTAMP:20260425T034550Z
UID:c71a02dd-4223-4113-82bf-77c37f87367c
DTSTART:20260428T163000
DTEND:20260428T190000
DESCRIPTION:Type: conference Opponent: Omro 
LOCATION:Omro High School
SUMMARY:Baseball:  Varsity Game vs Omro (Away)  
END:VEVENT
BEGIN:VEVENT
DTSTAMP:20260425T034550Z
UID:8000f740-dcb9-4ac5-963f-93ba2dbd257d
DTSTART:20260428T170000
DTEND:20260428T170000
DESCRIPTION:Type: conference Opponent: Mayville 
LOCATION:Lomira High School\, Lomira City Softball Fields
SUMMARY:Softball:  Varsity Game vs Mayville (Home)  
END:VEVENT
BEGIN:VEVENT
DTSTAMP:20260425T034550Z
UID:23d2d74e-f385-49f5-a551-ab09996cf2ab
DTSTART:20260429T160000
DTEND:20260429T160000
DESCRIPTION:Type: conference Opponent: Multiple Schools vs. St. Lawrence Se
 minary Comments: Rain Date:  May 4 
LOCATION:Crystal Lake Golf Course
SUMMARY:Golf:  Boys JV Meet vs Multiple Schools vs. St. Lawrence Seminary (
 Away)  
END:VEVENT
BEGIN:VEVENT
DTSTAMP:20260425T034550Z
UID:00028f8a-8ed6-4116-8db6-589cb529ea38
DTSTART:20260429T173000
DTEND:20260429T200000
DESCRIPTION:Type: school only Opponent:  
LOCATION:Lomira - Commons Area
SUMMARY:PROM Meeting   
END:VEVENT
BEGIN:VEVENT
DTSTAMP:20260425T034550Z
UID:cb215e1d-45f3-4909-b55b-15675d78a25c
DTSTART:20260430T130000
DTEND:20260430T160000
DESCRIPTION:Type: conference Opponent: Multiple Schools vs. Laconia Comment
 s: Rain Date:  April 15 
LOCATION:Tuscumbia Country Club
SUMMARY:Golf:  Boys JV Meet vs Multiple Schools vs. Laconia (Away)  (Date\,
  Time & Location Changed from 04-17-26)
END:VEVENT
BEGIN:VEVENT
DTSTAMP:20260425T034550Z
UID:f786f6e7-e608-458b-8c24-8d08e70c80a5
DTSTART:20260430T130000
DTEND:20260430T160000
DESCRIPTION:Type: conference Opponent: Multiple Schools vs. Laconia Comment
 s: Rain Date:  April 15 
LOCATION:Tuscumbia Country Club
SUMMARY:Golf:  Boys Varsity Meet vs Multiple Schools vs. Laconia (Away)  (D
 ate\, Time & Location Changed from 04-17-26)
END:VEVENT
BEGIN:VEVENT
DTSTAMP:20260425T034550Z
UID:480bf1e4-fa5e-463c-9af7-81a9bfd24582
DTSTART:20260430T160000
DTEND:20260430T183000
DESCRIPTION:Type: conference Opponent: Omro 
LOCATION:Omro High School
SUMMARY:Baseball:  JV Double Header vs Omro (Away)  
END:VEVENT
BEGIN:VEVENT
DTSTAMP:20260425T034550Z
UID:08b90537-6bdd-4f40-8e5d-afafd36eead3
DTSTART:20260430T160000
DTEND:20260430T160000
DESCRIPTION:Type: conference Opponent: Multiple Schools vs. Omro Comments: 
 Rain Date:  TBD 
LOCATION:Tuscumbia Country Club
SUMMARY:Golf:  Boys JV Meet vs Multiple Schools vs. Omro (Away)  
END:VEVENT
BEGIN:VEVENT
DTSTAMP:20260425T034550Z
UID:83734595-8f70-424e-a904-e8840dfe8e9e
DTSTART:20260430T160000
DTEND:20260430T160000
DESCRIPTION:Type: conference Opponent: Multiple Schools vs. Omro Comments: 
 Rain Date:  TBD 
LOCATION:Tuscumbia Country Club
SUMMARY:Golf:  Boys Varsity Meet vs Multiple Schools vs. Omro (Away)  
END:VEVENT
BEGIN:VEVENT
DTSTAMP:20260425T034550Z
UID:ced6f017-727f-402c-bd61-35cbdb586cf8
DTSTART:20260430T161500
DTEND:20260430T161500
DESCRIPTION:Type: nonconference Opponent: Multiple Schools vs. St. Mary's S
 prings Academy Comments:  
LOCATION:St. Mary's Springs Academy
SUMMARY:Track:  MS Meet vs Multiple Schools vs. St. Mary's Springs Academy 
 (Cancelled)
END:VEVENT
BEGIN:VEVENT
DTSTAMP:20260425T034550Z
UID:40d6decf-6727-4ffd-9266-48e03d4946e5
DTSTART:20260430T161500
DTEND:20260430T191500
DESCRIPTION:Type: nonconference Opponent: Multiple Schools vs. Mayville 
LOCATION:Mayville High School
SUMMARY:Track:  Varsity Invitational vs Multiple Schools vs. Mayville (Away
 )  
END:VEVENT
BEGIN:VEVENT
DTSTAMP:20260425T034550Z
UID:84866f4c-e12d-4d63-b6a4-bb88ce17eb04
DTSTART:20260430T163000
DTEND:20260430T183000
DESCRIPTION:Type: conference Opponent: Omro 
LOCATION:Lomira High School\, LHS Baseball Field
SUMMARY:Baseball:  Varsity Game vs Omro (Home)  
END:VEVENT
BEGIN:VEVENT
DTSTAMP:20260425T034550Z
UID:b8e3e8e7-f15f-4170-a497-0fdeb85220a0
DTSTART:20260430T163000
DTEND:20260430T163000
DESCRIPTION:Type: conference Opponent: Central Wisconsin Christian 
LOCATION:Lomira High School\, LHS Athletic Complex
SUMMARY:Soccer:  Girls Varsity Game vs Central Wisconsin Christian (Home)  
 (Time Changed)
END:VEVENT
BEGIN:VEVENT
DTSTAMP:20260425T034550Z
UID:bd180360-10cd-4e7f-b00c-8ad360243292
DTSTART:20260430T170000
DTEND:20260430T170000
DESCRIPTION:Type: conference Opponent: Winnebago Lutheran Academy 
LOCATION:Youth Baseball Park--4th Street  FDL
SUMMARY:Softball:  Varsity Game vs Winnebago Lutheran Academy (Away)  
END:VEVENT
BEGIN:VEVENT
DTSTAMP:20260425T034550Z
UID:9ea5b344-62a0-448f-bbdf-8959ddc7124f
DTSTART:20260501T160000
DTEND:20260501T220000
DESCRIPTION:Type: school only Opponent:  
LOCATION:Lomira - Commons Area
SUMMARY:Prom   
END:VEVENT
BEGIN:VEVENT
DTSTAMP:20260425T034550Z
UID:e4b6464f-7dd1-49b3-8352-381d71ec125b
DTSTART:20260501T163000
DTEND:20260501T163000
DESCRIPTION:Type: nonconference Opponent: Kewaskum Comments:  
LOCATION:Kewaskum High School
SUMMARY:Softball:  Varsity Game vs Kewaskum (Cancelled)
END:VEVENT
BEGIN:VEVENT
DTSTAMP:20260425T034550Z
UID:e7e02041-af30-432a-be35-b971fdf7baa8
DTSTART:20260502T070000
DTEND:20260502T120000
DESCRIPTION:Type: school only Opponent:  
LOCATION:Lomira - Commons Area
SUMMARY:Prom   
END:VEVENT
BEGIN:VEVENT
DTSTAMP:20260425T034550Z
UID:790a2009-3015-415b-9846-35375c6ee5e9
DTSTART:20260504T090000
DTEND:20260504T090000
DESCRIPTION:Type: nonconference Opponent: Multiple Schools vs. Berlin 
LOCATION:Mascoutin Golf Course
SUMMARY:Golf:  Boys Varsity Invitational vs Multiple Schools vs. Berlin (Aw
 ay)  
END:VEVENT
BEGIN:VEVENT
DTSTAMP:20260425T034550Z
UID:467510aa-6336-472f-86b7-fe293671482f
DTSTART:20260504T161500
DTEND:20260504T191500
DESCRIPTION:Type: nonconference Opponent: Multiple Schools vs. Mayville Com
 ments:  
LOCATION:Mayville High School
SUMMARY:Track:  Varsity Frosh/Soph Invite vs Multiple Schools vs. Mayville 
 (Cancelled)
END:VEVENT
BEGIN:VEVENT
DTSTAMP:20260425T034550Z
UID:8a2e3b94-7ec2-42ee-8d1a-d184218c6dc0
DTSTART:20260504T163000
DTEND:20260504T183000
DESCRIPTION:Type: conference Opponent: Campbellsport 
LOCATION:Campbellsport Elementary School
SUMMARY:Soccer:  Girls Varsity Game vs Campbellsport (Away)  
END:VEVENT
BEGIN:VEVENT
DTSTAMP:20260425T034550Z
UID:5329673b-ec11-4ea2-a3cc-cebdfc74d3d4
DTSTART:20260504T163000
DTEND:20260504T163000
DESCRIPTION:Type: conference Opponent: North Fond du Lac 
LOCATION:Lomira High School\, Lomira City Softball Fields
SUMMARY:Softball:  Varsity Doubleheader vs North Fond du Lac (Home)  
END:VEVENT
BEGIN:VEVENT
DTSTAMP:20260425T034550Z
UID:ed9db79a-7ead-42e5-917b-f4b1654ffc43
DTSTART:20260504T170000
DTEND:20260504T170000
DESCRIPTION:Type: conference Opponent: Winnebago Lutheran Academy 
LOCATION:Winnebago Lutheran Academy
SUMMARY:Baseball:  Varsity Game vs Winnebago Lutheran Academy (Away)  (Date
 \, Time & Location Changed from 04-14-26)
END:VEVENT
BEGIN:VEVENT
DTSTAMP:20260425T034550Z
UID:db7e268f-f155-47ad-bf0d-3f0c2e87916b
DTSTART:20260504T173000
DTEND:20260504T183000
DESCRIPTION:Type: school only Opponent:  
LOCATION:Lomira - Commons Area
SUMMARY:5th/6th football coaches meeting   
END:VEVENT
BEGIN:VEVENT
DTSTAMP:20260425T034550Z
UID:ea1cabfe-73b7-43d2-8c5b-9f72980f5ea9
DTSTART:20260505T160000
DTEND:20260505T160000
DESCRIPTION:Type: conference Opponent: Mayville 
LOCATION:Fireman's Park
SUMMARY:Baseball:  JV Double Header vs Mayville (Away)  
END:VEVENT
BEGIN:VEVENT
DTSTAMP:20260425T034550Z
UID:5c2180c1-49d9-47e4-aac0-cd9f3b475599
DTSTART:20260505T160000
DTEND:20260505T190000
DESCRIPTION:Type: conference Opponent: Multiple Schools vs. Omro 
LOCATION:Omro High School
SUMMARY:Track:  Varsity Meet vs Multiple Schools vs. Omro (Away)  
END:VEVENT
BEGIN:VEVENT
DTSTAMP:20260425T034550Z
UID:5e6331bb-c4d3-4585-a25d-d8714f6ff373
DTSTART:20260505T161500
DTEND:20260505T191500
DESCRIPTION:Type: nonconference Opponent: Multiple Schools vs. Mayville 
LOCATION:Mayville High School
SUMMARY:Track:  MS Triangular vs Multiple Schools vs. Mayville (Away)  
END:VEVENT
BEGIN:VEVENT
DTSTAMP:20260425T034550Z
UID:cb9ddabe-c530-4acd-b8a6-e37bc0cbfc12
DTSTART:20260505T170000
DTEND:20260505T190000
DESCRIPTION:Type: conference Opponent: Mayville 
LOCATION:Lomira High School\, LHS Baseball Field
SUMMARY:Baseball:  Varsity Game vs Mayville (Home)  
END:VEVENT
BEGIN:VEVENT
DTSTAMP:20260425T034550Z
UID:fa9e528c-8288-4bf5-a215-d7bb2c627a61
DTSTART:20260505T190000
DTEND:20260505T190000
DESCRIPTION:Type: nonconference Opponent: Little Chute 
LOCATION:Lomira High School\, LHS Athletic Complex
SUMMARY:Soccer:  Girls Varsity Game vs Little Chute (Home)  
END:VEVENT
BEGIN:VEVENT
DTSTAMP:20260425T034550Z
UID:9d79de48-8f14-49ad-ae53-0534ee62f33b
DTSTART:20260506T100000
DTEND:20260506T100000
DESCRIPTION:Type: conference Opponent: Multiple Schools vs. North Fond du L
 ac Comments:  
LOCATION:Whispering Springs Golf Course
SUMMARY:Golf:  Boys Varsity Meet vs Multiple Schools vs. North Fond du Lac 
 (Date Changed to 05-07-26)
END:VEVENT
BEGIN:VEVENT
DTSTAMP:20260425T034550Z
UID:61762802-a37d-434f-9f8d-a8a441a0ca2c
DTSTART:20260506T120000
DTEND:20260506T120000
DESCRIPTION:Type: conference Opponent: Multiple Schools vs. Winnebago Luthe
 ran Academy Comments: Rain Date:  May 13 
LOCATION:Whispering Springs Golf Course
SUMMARY:Golf:  Boys Varsity Meet vs Multiple Schools vs. Winnebago Lutheran
  Academy (Date Changed to 05-07-26)
END:VEVENT
BEGIN:VEVENT
DTSTAMP:20260425T034550Z
UID:cf772eb8-2f5e-4179-b401-ec2232bc73db
DTSTART:20260506T180000
DTEND:20260506T193000
DESCRIPTION:Type: school only Opponent:  
LOCATION:Lomira - Commons Area
SUMMARY:Outdoor Club Banquet   
END:VEVENT
BEGIN:VEVENT
DTSTAMP:20260425T034550Z
UID:25189b6d-e6bc-4559-9996-5a37f99efb46
DTSTART:20260507T100000
DTEND:20260507T100000
DESCRIPTION:Type: conference Opponent: Multiple Schools vs. North Fond du L
 ac 
LOCATION:Whispering Springs Golf Course
SUMMARY:Golf:  Boys Varsity Meet vs Multiple Schools vs. North Fond du Lac 
 (Away)  (Date changed from 05-06-26)
END:VEVENT
BEGIN:VEVENT
DTSTAMP:20260425T034550Z
UID:dcf66c60-e5e4-4d37-8cf0-fc46afaa7dc8
DTSTART:20260507T120000
DTEND:20260507T120000
DESCRIPTION:Type: conference Opponent: Multiple Schools vs. Winnebago Luthe
 ran Academy Comments: Rain Date:  May 13 
LOCATION:Whispering Springs Golf Course
SUMMARY:Golf:  Boys Varsity Meet vs Multiple Schools vs. Winnebago Lutheran
  Academy (Away)  (Date changed from 05-06-26)
END:VEVENT
BEGIN:VEVENT
DTSTAMP:20260425T034550Z
UID:9e6f2541-fded-4724-956d-e8adfda981b5
DTSTART:20260507T160000
DTEND:20260507T160000
DESCRIPTION:Type: nonconference Opponent: Multiple Schools 
LOCATION:Lomira High School\, LHS Track
SUMMARY:Track:  MS Meet vs Multiple Schools (Home)  
END:VEVENT
BEGIN:VEVENT
DTSTAMP:20260425T034550Z
UID:8dc83fa1-d0fc-4339-9e5b-e11bd3dfb1cb
DTSTART:20260507T163000
DTEND:20260507T163000
DESCRIPTION:Type: conference Opponent: Hustiford/Dodgeland 
LOCATION:Lomira High School\, LHS Athletic Complex
SUMMARY:Soccer:  Girls Varsity Game vs Hustiford/Dodgeland (Home)  
END:VEVENT
BEGIN:VEVENT
DTSTAMP:20260425T034550Z
UID:c44f7d51-a753-40bf-8fbc-fedbbc387d19
DTSTART:20260507T170000
DTEND:20260507T190000
DESCRIPTION:Type: nonconference Opponent: West Bend East 
LOCATION:Lomira High School\, LHS Baseball Field
SUMMARY:Baseball:  JV Game vs West Bend East (Home)  
END:VEVENT
BEGIN:VEVENT
DTSTAMP:20260425T034550Z
UID:d35fb61a-4c59-417f-bd8b-97e51605d51a
DTSTART:20260507T170000
DTEND:20260507T193000
DESCRIPTION:Type: conference Opponent: Mayville 
LOCATION:Fireman's Park
SUMMARY:Baseball:  Varsity Game vs Mayville (Away)  
END:VEVENT
BEGIN:VEVENT
DTSTAMP:20260425T034550Z
UID:0bec4e95-af5d-436b-8de4-dab26bb0bba2
DTSTART:20260507T170000
DTEND:20260507T183000
DESCRIPTION:Type: conference Opponent: Laconia 
LOCATION:Lomira City Fields
SUMMARY:Softball:  Varsity Game vs Laconia (Home)  (Location Changed)
END:VEVENT
BEGIN:VEVENT
DTSTAMP:20260425T034550Z
UID:5f8c906e-e94d-45e5-b040-dd8e46bb5a28
DTSTART:20260508T043000
DTEND:20260508T043000
DESCRIPTION:Type: conference Opponent: Multiple Schools vs. Winnebago Luthe
 ran Academy Comments: Rain Date:  May 15 
LOCATION:Whispering Springs Golf Course
SUMMARY:Golf:  Boys JV Meet vs Multiple Schools vs. Winnebago Lutheran Acad
 emy (Away)  
END:VEVENT
BEGIN:VEVENT
DTSTAMP:20260425T034550Z
UID:7cd479ac-2cb0-4c26-8523-7d3e8ad12e6c
DTSTART:20260508T160000
DTEND:20260508T180000
DESCRIPTION:Type: conference Opponent: Winnebago Lutheran Academy 
LOCATION:Lomira High School\, LHS Baseball Field
SUMMARY:Baseball:  JV Double Header vs Winnebago Lutheran Academy (Home)  (
 Rescheduled from 04-16-26)
END:VEVENT
BEGIN:VEVENT
DTSTAMP:20260425T034550Z
UID:60505f5b-8d46-4305-8bbf-9380c5cf75aa
DTSTART:20260508T160000
DTEND:20260508T160000
DESCRIPTION:Type: nonconference Opponent: Multiple Schools vs. Waupun 
LOCATION:Waupun High School
SUMMARY:Track:  Varsity Invitational vs Multiple Schools vs. Waupun (Away) 
  
END:VEVENT
BEGIN:VEVENT
DTSTAMP:20260425T034550Z
UID:42b7f876-d845-449f-b113-a84f78523c9a
DTSTART:20260508T163000
DTEND:20260508T163000
DESCRIPTION:Type: conference Opponent: Multiple Schools vs. North Fond du L
 ac Comments: Rain Date:  15 
LOCATION:Whispering Springs Golf Course
SUMMARY:Golf:  Boys JV Meet vs Multiple Schools vs. North Fond du Lac (Away
 )  
END:VEVENT
BEGIN:VEVENT
DTSTAMP:20260425T034550Z
UID:2d359ba4-1993-46db-b002-42cebef76e1d
DTSTART:20260508T190000
DTEND:20260508T190000
DESCRIPTION:Type: nonconference Opponent: Elkhart Lake-Glenbeulah 
LOCATION:Elkhart Lake High School
SUMMARY:Soccer:  Girls Varsity Game vs Elkhart Lake-Glenbeulah (Away)  
END:VEVENT
BEGIN:VEVENT
DTSTAMP:20260425T034550Z
UID:8e7e6899-8da6-47e0-a11f-c697312ada13
DTSTART:20260509T100000
DTEND:20260509T140000
DESCRIPTION:Type: nonconference Opponent: Multiple Schools 
LOCATION:Lomira High School\, Lomira City Softball Fields
SUMMARY:Softball:  Varsity Tournament vs Multiple Schools (Home)  
END:VEVENT
BEGIN:VEVENT
DTSTAMP:20260425T034550Z
UID:571454be-4456-4ae2-b0c5-ff6471265bd2
DTSTART:20260511T160000
DTEND:20260511T193000
DESCRIPTION:Type: nonconference Opponent: Multiple Schools vs. Kewaskum 
LOCATION:Kewaskum High School
SUMMARY:Track:  MS Meet vs Multiple Schools vs. Kewaskum (Away)  
END:VEVENT
BEGIN:VEVENT
DTSTAMP:20260425T034550Z
UID:f96a19f6-90ac-44de-a0a9-f9688bfdac7f
DTSTART:20260511T163000
DTEND:20260511T163000
DESCRIPTION:Type: nonconference Opponent: Kewaskum 
LOCATION:Kewaskum High School
SUMMARY:Baseball:  JV Game vs Kewaskum (Away)  
END:VEVENT
BEGIN:VEVENT
DTSTAMP:20260425T034550Z
UID:f1d588f0-1f1e-4a36-9b19-1d6c92efd253
DTSTART:20260511T163000
DTEND:20260511T163000
DESCRIPTION:Type: nonconference Opponent: Mishicot 
LOCATION:Mishicot High School
SUMMARY:Softball:  Varsity Non Conference game vs Mishicot (Away)  
END:VEVENT
BEGIN:VEVENT
DTSTAMP:20260425T034550Z
UID:da21d4c0-c848-4615-9dc3-edda4ef4e271
DTSTART:20260511T170000
DTEND:20260511T190000
DESCRIPTION:Type: nonconference Opponent: Kewaskum 
LOCATION:Lomira High School\, LHS Baseball Field
SUMMARY:Baseball:  Varsity Game vs Kewaskum (Home)  
END:VEVENT
BEGIN:VEVENT
DTSTAMP:20260425T034550Z
UID:99fd8cd2-9bb3-4581-92cb-5e6bccb372ae
DTSTART:20260512T154500
DTEND:20260512T154500
DESCRIPTION:Type: nonconference Opponent: Multiple Schools vs. Campbellspor
 t 
LOCATION:Campbellsport Middle-High School-Gym B
SUMMARY:Track:  Varsity Invitational vs Multiple Schools vs. Campbellsport 
 (Away)  
END:VEVENT
BEGIN:VEVENT
DTSTAMP:20260425T034550Z
UID:83629be4-fc2d-4fa8-8388-06af38f974f0
DTSTART:20260512T170000
DTEND:20260512T190000
DESCRIPTION:Type: conference Opponent: St. Mary's Springs Academy 
LOCATION:Lomira High School\, LHS Baseball Field
SUMMARY:Baseball:  Varsity Game vs St. Mary's Springs Academy (Home)  
END:VEVENT
BEGIN:VEVENT
DTSTAMP:20260425T034550Z
UID:66296c44-55aa-4397-aab6-d12955d93413
DTSTART:20260512T170000
DTEND:20260512T170000
DESCRIPTION:Type: conference Opponent: Omro 
LOCATION:Lomira High School\, Lomira City Softball Fields
SUMMARY:Softball:  Varsity Game vs Omro (Home)  
END:VEVENT
BEGIN:VEVENT
DTSTAMP:20260425T034550Z
UID:a0cc6606-fdc5-417c-a821-4c0c23b5c921
DTSTART:20260512T190000
DTEND:20260512T190000
DESCRIPTION:Type: conference Opponent: St. Mary's Springs Academy 
LOCATION:Marian University
SUMMARY:Soccer:  Girls Varsity Game vs St. Mary's Springs Academy (Away)  
END:VEVENT
BEGIN:VEVENT
DTSTAMP:20260425T034550Z
UID:a4f79240-fe21-4b8d-884a-5a928e4e5614
DTSTART:20260513T160000
DTEND:20260513T160000
DESCRIPTION:Type: conference Opponent: Multiple Schools vs. Mayville Commen
 ts: Rain Date:  May 14 
LOCATION:Mayville Golf Course
SUMMARY:Golf:  Boys JV Meet vs Multiple Schools vs. Mayville (Away)  
END:VEVENT
BEGIN:VEVENT
DTSTAMP:20260425T034550Z
UID:83e2a70a-2e78-42a7-ba5c-98ed7ccc7d19
DTSTART:20260513T160000
DTEND:20260513T160000
DESCRIPTION:Type: conference Opponent: Multiple Schools vs. Mayville Commen
 ts: Rain Date:  May 14 
LOCATION:Mayville Golf Course
SUMMARY:Golf:  Boys Varsity Meet vs Multiple Schools vs. Mayville (Away)  
END:VEVENT
BEGIN:VEVENT
DTSTAMP:20260425T034550Z
UID:3583ec54-1d85-4fe3-92c4-254d92883f2c
DTSTART:20260513T180000
DTEND:20260513T193000
DESCRIPTION:Type: school only Opponent:  
LOCATION:Lomira - Commons Area
SUMMARY:Cheer Team Info Meeting   
END:VEVENT
BEGIN:VEVENT
DTSTAMP:20260425T034550Z
UID:a9cb5674-2f42-4358-8637-6c8612a62f01
DTSTART:20260514T160000
DTEND:20260514T180000
DESCRIPTION:Type: conference Opponent: St. Mary's Springs Academy 
LOCATION:Lomira High School\, LHS Baseball Field
SUMMARY:Baseball:  JV Double Header vs St. Mary's Springs Academy (Home)  
END:VEVENT
BEGIN:VEVENT
DTSTAMP:20260425T034550Z
UID:d51b6d78-f151-4545-9d8a-66dc31604663
DTSTART:20260514T170000
DTEND:20260514T170000
DESCRIPTION:Type: conference Opponent: St. Mary's Springs Academy 
LOCATION:Marian University
SUMMARY:Baseball:  Varsity Game vs St. Mary's Springs Academy (Away)  
END:VEVENT
BEGIN:VEVENT
DTSTAMP:20260425T034550Z
UID:43feaf4e-be06-4166-a311-f4e64923fc2c
DTSTART:20260514T170000
DTEND:20260514T170000
DESCRIPTION:Type: nonconference Opponent: Hartford 
LOCATION:Hartford Union High School
SUMMARY:Soccer:  Girls Varsity Game vs Hartford (Away)  
END:VEVENT
BEGIN:VEVENT
DTSTAMP:20260425T034550Z
UID:9736132b-8e17-4223-9f85-e38e60c770fc
DTSTART:20260514T170000
DTEND:20260514T170000
DESCRIPTION:Type: conference Opponent: Campbellsport 
LOCATION:Lomira High School\, Lomira City Softball Fields
SUMMARY:Softball:  Varsity Game vs Campbellsport (Home)  
END:VEVENT
BEGIN:VEVENT
DTSTAMP:20260425T034550Z
UID:fbf01e0b-01ac-425a-9b6e-dc233d15b37d
DTSTART:20260515T160000
DTEND:20260515T190000
DESCRIPTION:Type: conference Opponent: Multiple Schools vs. Mayville 
LOCATION:Mayville High School
SUMMARY:Track:  Varsity Conference Meet vs Multiple Schools vs. Mayville (A
 way)  
END:VEVENT
BEGIN:VEVENT
DTSTAMP:20260425T034550Z
UID:962fff99-4544-418d-b952-d6e8e70194aa
DTSTART:20260515T170000
DTEND:20260515T190000
DESCRIPTION:Type: nonconference Opponent: Markesan 
LOCATION:Lomira High School\, LHS Baseball Field
SUMMARY:Baseball:  Varsity Game vs Markesan (Home)  (Rescheduled from 04-17
 -26)
END:VEVENT
BEGIN:VEVENT
DTSTAMP:20260425T034550Z
UID:6ef3de27-d529-40ba-9438-7af18a4a4c7a
DTSTART:20260518T163000
DTEND:20260518T163000
DESCRIPTION:Type: nonconference Opponent: Waupun 
LOCATION:McCune Field-Waupun
SUMMARY:Baseball:  JV Game vs Waupun (Away)  
END:VEVENT
BEGIN:VEVENT
DTSTAMP:20260425T034550Z
UID:623a4e5a-dace-43c1-966d-398f8928d951
DTSTART:20260518T163000
DTEND:20260518T163000
DESCRIPTION:Type: nonconference Opponent: Waupun 
LOCATION:Thompson Field-Waupun
SUMMARY:Baseball:  Varsity Game vs Waupun (Away)  
END:VEVENT
BEGIN:VEVENT
DTSTAMP:20260425T034550Z
UID:2862b5e8-6240-487e-80ab-d9bef19f424a
DTSTART:20260518T163000
DTEND:20260518T163000
DESCRIPTION:Type: conference Opponent: Omro Comments:  
LOCATION:Lomira High School\, LHS Athletic Complex
SUMMARY:Soccer:  Girls Varsity Game vs Omro Rescheduled to 05-19-26
END:VEVENT
BEGIN:VEVENT
DTSTAMP:20260425T034550Z
UID:bc6d6cee-cc76-473e-a490-f1b97d99f239
DTSTART:20260518T170000
DTEND:20260518T170000
DESCRIPTION:Type: conference Opponent: St. Mary's Springs Academy 
LOCATION:Marian University
SUMMARY:Softball:  Varsity Game vs St. Mary's Springs Academy (Away)  
END:VEVENT
BEGIN:VEVENT
DTSTAMP:20260425T034550Z
UID:bd83af80-a87b-41f4-b091-c9a532408268
DTSTART:20260519T163000
DTEND:20260519T163000
DESCRIPTION:Type: conference Opponent: Omro 
LOCATION:Lomira High School\, LHS Athletic Complex
SUMMARY:Soccer:  Girls Varsity Game vs Omro (Home)  (Rescheduled from 05-18
 -26)
END:VEVENT
BEGIN:VEVENT
DTSTAMP:20260425T034550Z
UID:35babca7-0c60-46a1-9256-4f949112c3de
DTSTART:20260519T170000
DTEND:20260519T170000
DESCRIPTION:Type: conference Opponent: Campbellsport 
LOCATION:Campbellsport Middle-High School
SUMMARY:Baseball:  Varsity Game vs Campbellsport (Away)  
END:VEVENT
BEGIN:VEVENT
DTSTAMP:20260425T034550Z
UID:036ebee4-2b20-47f2-a72c-4bf14b1fc299
DTSTART:20260519T170000
DTEND:20260519T170000
DESCRIPTION:Type: nonconference Opponent: Waupun 
LOCATION:Lomira High School\, Lomira City Softball Fields
SUMMARY:Softball:  Varsity Game vs Waupun (Home)  
END:VEVENT
BEGIN:VEVENT
DTSTAMP:20260425T034550Z
UID:718d2e63-8a11-49b7-b9a8-fbb3f0812187
DTSTART:20260520T100000
DTEND:20260520T100000
DESCRIPTION:Type: conference Opponent: Multiple Schools vs. St. Mary's Spri
 ngs Academy Comments: Rain Date:  May 22 
LOCATION:Mascoutin
SUMMARY:Golf:  Boys Varsity Conference Meet vs Multiple Schools vs. St. Mar
 y's Springs Academy (Away)  
END:VEVENT
BEGIN:VEVENT
DTSTAMP:20260425T034550Z
UID:06d293db-3e97-4858-8b61-cdbe6d4beb50
DTSTART:20260520T170000
DTEND:20260520T170000
DESCRIPTION:Type: nonconference Opponent: Random Lake 
LOCATION:Lomira High School\, Lomira City Softball Fields
SUMMARY:Softball:  Varsity Game vs Random Lake (Home)  
END:VEVENT
BEGIN:VEVENT
DTSTAMP:20260425T034550Z
UID:bc3e68b8-376b-418d-ac5c-ae2b8eb7d5d1
DTSTART:20260521T081500
DTEND:20260521T111500
DESCRIPTION:Type: school only Opponent:  
LOCATION:Lomira - Commons Area
SUMMARY:3rd grade Biography Fair   
END:VEVENT
BEGIN:VEVENT
DTSTAMP:20260425T034550Z
UID:a27b31c8-e560-47b5-af90-b29760ec37e9
DTSTART:20260521T160000
DTEND:20260521T160000
DESCRIPTION:Type: conference Opponent: Campbellsport 
LOCATION:Campbellsport Middle-High School
SUMMARY:Baseball:  JV Double Header vs Campbellsport (Away)  
END:VEVENT
BEGIN:VEVENT
DTSTAMP:20260425T034550Z
UID:afeb12ac-bb26-48bf-9537-a1d5bca235d9
DTSTART:20260521T170000
DTEND:20260521T190000
DESCRIPTION:Type: conference Opponent: Campbellsport 
LOCATION:Lomira High School\, LHS Baseball Field
SUMMARY:Baseball:  Varsity Game vs Campbellsport (Home)  
END:VEVENT
BEGIN:VEVENT
DTSTAMP:20260425T034550Z
UID:9d8c88c4-82c3-45d0-9423-cdc796736695
DTSTART:20260522T163000
DTEND:20260522T163000
DESCRIPTION:Type: nonconference Opponent: New Holstein 
LOCATION:Lomira High School\, LHS Athletic Complex
SUMMARY:Soccer:  Girls Varsity Game vs New Holstein (Home)  (Rescheduled fr
 om 04-02-26)
END:VEVENT
BEGIN:VEVENT
DTSTAMP:20260425T034550Z
UID:763db0ee-896b-4306-9e0f-49c6b587f4ad
DTSTART;VALUE=DATE:20260525
DTEND;VALUE=DATE:20260526
DESCRIPTION:
LOCATION:
SUMMARY:No School - Memorial Day
END:VEVENT
BEGIN:VEVENT
DTSTAMP:20260425T034550Z
UID:1ae39cd0-edf5-4811-b239-47aceb0d4fd9
DTSTART:20260526T090000
DTEND:20260526T090000
DESCRIPTION:Type: nonconference Opponent: Multiple Schools vs. Oakfield MS/
 HS 
LOCATION:Rolling Meadows Golf Course
SUMMARY:Golf:  Boys Varsity Regionals vs Multiple Schools vs. Oakfield MS/H
 S (Away)  
END:VEVENT
BEGIN:VEVENT
DTSTAMP:20260425T034550Z
UID:ad6b8928-0770-40d8-bb82-d558a749375a
DTSTART:20260526T163000
DTEND:20260526T163000
DESCRIPTION:Type: nonconference Opponent: Tenor/Veritas 
LOCATION:Uihlein Soccer Park
SUMMARY:Soccer:  Girls Varsity Game vs Tenor/Veritas (Away)  
END:VEVENT
BEGIN:VEVENT
DTSTAMP:20260425T034550Z
UID:3a552afe-0373-445c-a3de-e68433a1b3ad
DTSTART:20260528T163000
DTEND:20260528T183000
DESCRIPTION:Type: conference Opponent: Mayville 
LOCATION:Ribbens Memorial Park
SUMMARY:Soccer:  Girls Varsity Game vs Mayville (Away)  
END:VEVENT
BEGIN:VEVENT
DTSTAMP:20260425T034550Z
UID:fac888f3-83a6-437b-b9a7-b098d979e819
DTSTART;VALUE=DATE:20260531
DTEND;VALUE=DATE:20260601
DESCRIPTION:
LOCATION:
SUMMARY:Graduation Day
END:VEVENT
BEGIN:VEVENT
DTSTAMP:20260425T034550Z
UID:6e834b29-5c76-4255-bab6-a5db44725806
DTSTART;VALUE=DATE:20260604
DTEND;VALUE=DATE:20260605
DESCRIPTION:
LOCATION:
SUMMARY:Last Day of School
END:VEVENT
BEGIN:VEVENT
DTSTAMP:20260425T034550Z
UID:faa616e2-bae7-44cc-bcd2-90f4bdb98d5a
DTSTART;VALUE=DATE:20260608
DTEND;VALUE=DATE:20260609
DESCRIPTION:
LOCATION:
SUMMARY:Summer School Starts (June 8 - July 2)
END:VEVENT
BEGIN:VEVENT
DTSTAMP:20260425T034550Z
UID:7b1a0145-cf8e-4ea3-89c7-72e0d0512caa
DTSTART;VALUE=DATE:20260626
DTEND;VALUE=DATE:20260627
DESCRIPTION:
LOCATION:
SUMMARY:Vilesless Open at Trappers
END:VEVENT
END:VCALENDAR
