BEGIN:VCALENDAR
VERSION:2.0
PRODID:icalendar-ruby
CALSCALE:GREGORIAN
BEGIN:VTIMEZONE
TZID:America/New_York
BEGIN:DAYLIGHT
DTSTART:20260308T030000
TZOFFSETFROM:-0500
TZOFFSETTO:-0400
RRULE:FREQ=YEARLY;BYDAY=2SU;BYMONTH=3
TZNAME:EDT
END:DAYLIGHT
BEGIN:STANDARD
DTSTART:20261101T010000
TZOFFSETFROM:-0400
TZOFFSETTO:-0500
RRULE:FREQ=YEARLY;BYDAY=1SU;BYMONTH=11
TZNAME:EST
END:STANDARD
END:VTIMEZONE
BEGIN:VEVENT
DTSTAMP:20260420T115853Z
UID:f3a1b035-2c15-4555-aa74-1e1bbf115ae6
DTSTART:20260420T173000
DTEND:20260420T193000
DESCRIPTION:
LOCATION:Woodlan Junior/Senior High School\, 17215 Woodburn Rd\, Woodburn\,
  IN\, 46797
SUMMARY:PHJH Soccer vs Woodlan
END:VEVENT
BEGIN:VEVENT
DTSTAMP:20260420T115853Z
UID:0fb86c3b-ef9a-4333-abcb-b740801be3b2
DTSTART:20260421T173000
DTEND:20260421T193000
DESCRIPTION:
LOCATION:DeKalb Middle School\, 3338 County Road 427\, Waterloo\, IN\, 4679
 3
SUMMARY:PHJH Soccer vs Dekalb
END:VEVENT
BEGIN:VEVENT
DTSTAMP:20260420T115853Z
UID:3a6d4ff8-c85f-4280-8460-e7b73b49ee36
DTSTART:20260422T173000
DTEND:20260422T193000
DESCRIPTION:
LOCATION:14600 Amstutz Rd\, 14600 Amstutz Rd\, Cedar Creek\, Indiana\, 4676
 5
SUMMARY:PHJH Track vs Leo/New Haven
END:VEVENT
BEGIN:VEVENT
DTSTAMP:20260420T115853Z
UID:f2e7ea46-34da-48c2-b1f7-92c3d0ff5de0
DTSTART:20260423T170000
DTEND:20260423T190000
DESCRIPTION:
LOCATION:Paul Harding Jr High School\, 6501 Wayne Trce\, Fort Wayne\, IN\, 
 46816
SUMMARY:PHJH Soccer vs Leo
END:VEVENT
BEGIN:VEVENT
DTSTAMP:20260420T115853Z
UID:4e2d7ea5-8afc-4d2c-a01d-643125f8e73f
DTSTART:20260428T170000
DTEND:20260428T190000
DESCRIPTION:
LOCATION:Paul Harding Jr High School\, 6501 Wayne Trce\, Fort Wayne\, IN\, 
 46816
SUMMARY:PHJH Soccer vs New Haven
END:VEVENT
BEGIN:VEVENT
DTSTAMP:20260420T115853Z
UID:5d00189c-2274-4926-86b7-701727e73e9c
DTSTART:20260429T170000
DTEND:20260429T190000
DESCRIPTION:
LOCATION:Paul Harding Jr High School\, 6501 Wayne Trce\, Fort Wayne\, IN\, 
 46816
SUMMARY:PHJH Soccer vs Carroll
END:VEVENT
BEGIN:VEVENT
DTSTAMP:20260420T115853Z
UID:0a44edc3-87db-4bff-a863-cd79a1edfda3
DTSTART:20260429T173000
DTEND:20260429T193000
DESCRIPTION:
LOCATION:Crestview Middle School\, 1151 N 500 W\, Huntington\, IN\, 46750
SUMMARY:PHJH Track vs Crestview
END:VEVENT
BEGIN:VEVENT
DTSTAMP:20260420T115853Z
UID:70c9fcdf-3c05-4c22-80cd-6b8c63928cea
DTSTART:20260430T173000
DTEND:20260430T193000
DESCRIPTION:
LOCATION:Paul Harding Jr High School\, 6501 Wayne Trce\, Fort Wayne\, IN\, 
 46816
SUMMARY:PHJH Soccer vs Riverview
END:VEVENT
BEGIN:VEVENT
DTSTAMP:20260420T115853Z
UID:d549f081-e658-45ff-8343-5a8c0317d5a7
DTSTART:20260506T173000
DTEND:20260506T193000
DESCRIPTION:
LOCATION:Paul Harding Jr High School\, 6501 Wayne Trce\, Fort Wayne\, IN\, 
 46816
SUMMARY:PHJH Track vs Crestview/East Noble
END:VEVENT
BEGIN:VEVENT
DTSTAMP:20260420T115853Z
UID:7dafaf0d-f737-4c14-bf05-22a3758e64c8
DTSTART:20260507T170000
DTEND:20260507T190000
DESCRIPTION:
LOCATION:1200 E North Adams Drive Decatur IN 46733
SUMMARY:PHJH Soccer vs Bellmont
END:VEVENT
BEGIN:VEVENT
DTSTAMP:20260420T115853Z
UID:d0e0fb0a-7e18-4adf-817b-d8383c6a97ad
DTSTART:20260509T100000
DTEND:20260509T120000
DESCRIPTION:
LOCATION:New Haven High School\, 1300 Green Rd\, New Haven\, IN\, 46774
SUMMARY:PHJH Track vs New Haven Invitational
END:VEVENT
BEGIN:VEVENT
DTSTAMP:20260420T115853Z
UID:3b7fb767-bad1-47db-a1f6-901d656a65d1
DTSTART:20260511T173000
DTEND:20260511T193000
DESCRIPTION:
LOCATION:Paul Harding Jr High School\, 6501 Wayne Trce\, Fort Wayne\, IN\, 
 46816
SUMMARY:PHJH Track vs Indian Springs/Canterbury
END:VEVENT
BEGIN:VEVENT
DTSTAMP:20260420T115853Z
UID:70969edf-bd48-45a1-9f11-47796fde62a5
DTSTART:20260512T173000
DTEND:20260512T193000
DESCRIPTION:
LOCATION:Norwell Middle School\, 1100 E US Highway 224\, Ossian\, IN\, 4677
 7
SUMMARY:PHJH Soccer vs Norwell
END:VEVENT
BEGIN:VEVENT
DTSTAMP:20260420T115853Z
UID:e7cf1276-26c7-43e5-85ea-c904e4faa3c2
DTSTART:20260515T173000
DTEND:20260515T193000
DESCRIPTION:
LOCATION:New Haven High School\, 1300 Green Rd\, New Haven\, IN\, 46774
SUMMARY:PHJH Track MS NE 8 Conf. Meet
END:VEVENT
BEGIN:VEVENT
DTSTAMP:20260420T115853Z
UID:3cac62bc-f09c-4368-8c14-386f22a83bd0
DTSTART;VALUE=DATE:20260520
DTEND;VALUE=DATE:20260521
DESCRIPTION:
LOCATION:
SUMMARY:Last Day for Students
END:VEVENT
BEGIN:VEVENT
DTSTAMP:20260420T115853Z
UID:33f50c10-8c22-49da-9971-58816613ffeb
DTSTART;VALUE=DATE:20260521
DTEND;VALUE=DATE:20260522
DESCRIPTION:
LOCATION:
SUMMARY:Last Teacher Day—No School
END:VEVENT
END:VCALENDAR
