BEGIN:VCALENDAR
VERSION:2.0
PRODID:icalendar-ruby
CALSCALE:GREGORIAN
BEGIN:VTIMEZONE
TZID:America/New_York
BEGIN:DAYLIGHT
DTSTART:20260308T030000
TZOFFSETFROM:-0500
TZOFFSETTO:-0400
RRULE:FREQ=YEARLY;BYDAY=2SU;BYMONTH=3
TZNAME:EDT
END:DAYLIGHT
BEGIN:STANDARD
DTSTART:20261101T010000
TZOFFSETFROM:-0400
TZOFFSETTO:-0500
RRULE:FREQ=YEARLY;BYDAY=1SU;BYMONTH=11
TZNAME:EST
END:STANDARD
END:VTIMEZONE
BEGIN:VEVENT
DTSTAMP:20260423T123101Z
UID:402d38ba-8db8-4257-a681-04a858f52864
DTSTART:20260423T073000
DTEND:20260423T073000
DESCRIPTION:
LOCATION:
SUMMARY:EOC Testing - Biology & US History Part 2
END:VEVENT
BEGIN:VEVENT
DTSTAMP:20260423T123101Z
UID:0a165111-677e-4181-a08a-ffff6d9d0f51
DTSTART:20260423T090000
DTEND:20260423T140000
DESCRIPTION:
LOCATION:
SUMMARY:STEM 5th Field Trip
END:VEVENT
BEGIN:VEVENT
DTSTAMP:20260423T123101Z
UID:33f5d782-79bd-4742-a8af-ebd7144c0756
DTSTART:20260424T160000
DTEND:20260424T180000
DESCRIPTION:
LOCATION:
SUMMARY:Senior Cap & Gown Photos
END:VEVENT
BEGIN:VEVENT
DTSTAMP:20260423T123101Z
UID:18cda2b2-20f5-43e3-943c-bff15645ea61
DTSTART:20260424T180000
DTEND:20260424T180000
DESCRIPTION:
LOCATION:
SUMMARY:Drama Spring Production
END:VEVENT
BEGIN:VEVENT
DTSTAMP:20260423T123101Z
UID:26eae800-50d8-4a8f-b558-cb0bb8f06ef0
DTSTART:20260425T100000
DTEND:20260425T120000
DESCRIPTION:
LOCATION:
SUMMARY:Senior Cap & Gown Photos
END:VEVENT
BEGIN:VEVENT
DTSTAMP:20260423T123101Z
UID:9a45a7f5-344e-411e-b16d-cf300030bb21
DTSTART:20260425T180000
DTEND:20260425T180000
DESCRIPTION:
LOCATION:
SUMMARY:Drama Spring Production
END:VEVENT
BEGIN:VEVENT
DTSTAMP:20260423T123101Z
UID:afafe82b-a6a4-4e29-8bba-c845b6b07a2f
DTSTART:20260426T170000
DTEND:20260426T170000
DESCRIPTION:
LOCATION:
SUMMARY:Drama Spring Production 
END:VEVENT
BEGIN:VEVENT
DTSTAMP:20260423T123101Z
UID:5f27ce6f-8249-4226-9fc8-ecddddcae2d1
DTSTART;VALUE=DATE:20260427
DTEND;VALUE=DATE:20260428
DESCRIPTION:
LOCATION:
SUMMARY:4th Grade Big Build Event at Grant CDC
END:VEVENT
BEGIN:VEVENT
DTSTAMP:20260423T123101Z
UID:8410a20c-0236-4e32-9713-d5df1f4f6d0f
DTSTART;VALUE=DATE:20260428
DTEND;VALUE=DATE:20260429
DESCRIPTION:
LOCATION:
SUMMARY:(8th Grade) Ohio State Test - Science\, Part 1
END:VEVENT
BEGIN:VEVENT
DTSTAMP:20260423T123101Z
UID:8d774eb5-440d-401b-96c5-3df5239722e7
DTSTART;VALUE=DATE:20260428
DTEND;VALUE=DATE:20260430
DESCRIPTION:
LOCATION:
SUMMARY:OST Science 5th grade
END:VEVENT
BEGIN:VEVENT
DTSTAMP:20260423T123101Z
UID:c6f0f123-7c92-4940-9c40-612f9659d5b0
DTSTART:20260428T073000
DTEND:20260428T073000
DESCRIPTION:
LOCATION:
SUMMARY:EOC Testing American History  Part 1 & 2
END:VEVENT
BEGIN:VEVENT
DTSTAMP:20260423T123101Z
UID:b6b6c97e-f2d2-47ce-b993-015563480d76
DTSTART:20260428T073000
DTEND:20260428T073000
DESCRIPTION:
LOCATION:
SUMMARY:EOC Testing - Government Part 1 & 2
END:VEVENT
BEGIN:VEVENT
DTSTAMP:20260423T123101Z
UID:0e873941-e5c5-4587-afee-b3ea04e1bdbb
DTSTART;VALUE=DATE:20260429
DTEND;VALUE=DATE:20260430
DESCRIPTION:
LOCATION:
SUMMARY:(8th Grade) Ohio State Test - Science\, Part 2
END:VEVENT
BEGIN:VEVENT
DTSTAMP:20260423T123101Z
UID:0a59a6be-1eee-4443-8eda-82e4148460bc
DTSTART:20260429T073000
DTEND:20260429T073000
DESCRIPTION:
LOCATION:
SUMMARY:EOC Testing - Algebra 1 & Geometry Part 1
END:VEVENT
BEGIN:VEVENT
DTSTAMP:20260423T123101Z
UID:1e331c46-49ee-4c9a-ba08-4cbaf279d93f
DTSTART:20260430T073000
DTEND:20260430T073000
DESCRIPTION:
LOCATION:
SUMMARY:EOC Testing - Algebra 1 & Geometry Part 2
END:VEVENT
BEGIN:VEVENT
DTSTAMP:20260423T123101Z
UID:72b269e1-45ac-4f77-80b1-b3935e1ffd15
DTSTART:20260430T170000
DTEND:20260430T200000
DESCRIPTION:
LOCATION:
SUMMARY:STEM Shopwcase
END:VEVENT
BEGIN:VEVENT
DTSTAMP:20260423T123101Z
UID:36c20dba-83eb-4dd4-bd3e-1181820a8ee1
DTSTART:20260501T084500
DTEND:20260501T104500
DESCRIPTION:
LOCATION:
SUMMARY:NHS Induction Assem.
END:VEVENT
BEGIN:VEVENT
DTSTAMP:20260423T123101Z
UID:dc25fc6c-6d69-4fc7-a37e-d8a86e6d50e0
DTSTART:20260501T190000
DTEND:20260501T223000
DESCRIPTION:
LOCATION:
SUMMARY:Prom @ B&B Riverboats - Board starts 6:00 pm
END:VEVENT
BEGIN:VEVENT
DTSTAMP:20260423T123101Z
UID:062de21f-42fd-47f0-96eb-2b7813ea63da
DTSTART;VALUE=DATE:20260505
DTEND;VALUE=DATE:20260506
DESCRIPTION:
LOCATION:
SUMMARY:No School - Inservice Day
END:VEVENT
BEGIN:VEVENT
DTSTAMP:20260423T123101Z
UID:3e775ed6-84e0-40bb-a8d1-e7b9b13b5283
DTSTART;VALUE=DATE:20260505
DTEND;VALUE=DATE:20260506
DESCRIPTION:
LOCATION:
SUMMARY:Teacher In Service Day No School
END:VEVENT
BEGIN:VEVENT
DTSTAMP:20260423T123101Z
UID:7ae9949c-2b9e-4c07-b695-339e7eace603
DTSTART;VALUE=DATE:20260505
DTEND;VALUE=DATE:20260506
DESCRIPTION:
LOCATION:
SUMMARY:TEACHER IN-SERVICE DAY - NO SCHOOL
END:VEVENT
BEGIN:VEVENT
DTSTAMP:20260423T123101Z
UID:9fe5ec97-e1eb-425e-bd49-ce5a73cd3331
DTSTART:20260505T180000
DTEND:20260505T190000
DESCRIPTION:
LOCATION:
SUMMARY:Bandfest & Art Show @ BTHS Gym
END:VEVENT
BEGIN:VEVENT
DTSTAMP:20260423T123101Z
UID:09d3cd83-5bec-4352-b70c-eaba1481fc95
DTSTART:20260505T180000
DTEND:20260505T193000
DESCRIPTION:
LOCATION:Bethel-Tate High School\, 3420 OH-125\, Bethel\, OH 45106\, USA
SUMMARY:BTHS/BTMS Bandfest
END:VEVENT
BEGIN:VEVENT
DTSTAMP:20260423T123101Z
UID:a252ff01-9edf-43e8-a64a-e2c8821d84a9
DTSTART:20260506T074500
DTEND:20260506T100000
DESCRIPTION:
LOCATION:
SUMMARY:Academic Awards Assembly
END:VEVENT
BEGIN:VEVENT
DTSTAMP:20260423T123101Z
UID:5853fff4-0eb8-49d4-aeaa-64de1c08c3f6
DTSTART:20260507T120000
DTEND:20260507T173000
DESCRIPTION:
LOCATION:
SUMMARY:Cake Roll fundraiser item pick up
END:VEVENT
BEGIN:VEVENT
DTSTAMP:20260423T123101Z
UID:552305cb-f405-4e5e-9925-d8a7b86dcc4f
DTSTART:20260507T170000
DTEND:20260507T183000
DESCRIPTION:
LOCATION:
SUMMARY:Art Show
END:VEVENT
BEGIN:VEVENT
DTSTAMP:20260423T123101Z
UID:278b23d2-14d7-4661-92af-2c98dcfea76c
DTSTART:20260507T170000
DTEND:20260507T190000
DESCRIPTION:
LOCATION:
SUMMARY:Hill Intermediate Art Show
END:VEVENT
BEGIN:VEVENT
DTSTAMP:20260423T123101Z
UID:26cda8ec-8a54-421e-a2b7-162bd169cc2b
DTSTART:20260507T180000
DTEND:20260507T193000
DESCRIPTION:
LOCATION:Bethel-Tate Middle School\, 649 W Plane St\, Bethel\, OH 45106\, U
 SA
SUMMARY:BTHS/BTMS Choirfest
END:VEVENT
BEGIN:VEVENT
DTSTAMP:20260423T123101Z
UID:d52ed490-dab6-4606-a1ba-cf44835dd77c
DTSTART;VALUE=DATE:20260508
DTEND;VALUE=DATE:20260509
DESCRIPTION:
LOCATION:
SUMMARY:Senior Last Day (without Exams)
END:VEVENT
BEGIN:VEVENT
DTSTAMP:20260423T123101Z
UID:5a955589-c22a-4b2d-bdd3-5881a1cc9246
DTSTART:20260508T113000
DTEND:20260508T133000
DESCRIPTION:
LOCATION:
SUMMARY:Senior Picnic
END:VEVENT
BEGIN:VEVENT
DTSTAMP:20260423T123101Z
UID:33abc785-6688-4a16-87cf-9639b841df25
DTSTART;VALUE=DATE:20260511
DTEND;VALUE=DATE:20260512
DESCRIPTION:
LOCATION:
SUMMARY:Senior Exams
END:VEVENT
BEGIN:VEVENT
DTSTAMP:20260423T123101Z
UID:78d15b9a-050c-46bd-9bb5-5de849affdee
DTSTART;VALUE=DATE:20260512
DTEND;VALUE=DATE:20260513
DESCRIPTION:
LOCATION:
SUMMARY:Senior Exams
END:VEVENT
BEGIN:VEVENT
DTSTAMP:20260423T123101Z
UID:68a5ccea-cf38-463d-93d6-4a8c22107f9c
DTSTART:20260512T180000
DTEND:20260512T190000
DESCRIPTION:
LOCATION:
SUMMARY:P.A.W.W.S. PTO mtg Hill Intermediate library
END:VEVENT
BEGIN:VEVENT
DTSTAMP:20260423T123101Z
UID:436b51bf-315e-4526-9203-3febc2f3a539
DTSTART:20260513T084500
DTEND:20260513T104500
DESCRIPTION:
LOCATION:
SUMMARY:Hill Intermediate Spring Music and Band concert
END:VEVENT
BEGIN:VEVENT
DTSTAMP:20260423T123101Z
UID:c32458f0-6f34-41d0-ad8d-bcf9e0c4b9a7
DTSTART:20260513T130000
DTEND:20260513T140000
DESCRIPTION:
LOCATION:
SUMMARY:5th grade students at Middle School for Band presentation
END:VEVENT
BEGIN:VEVENT
DTSTAMP:20260423T123101Z
UID:e9a11d57-f140-4198-ae20-b378d886c9e9
DTSTART;VALUE=DATE:20260514
DTEND;VALUE=DATE:20260515
DESCRIPTION:
LOCATION:
SUMMARY:CogAT 4th grade
END:VEVENT
BEGIN:VEVENT
DTSTAMP:20260423T123101Z
UID:8c26ee7c-556f-4976-8d94-ea04fc12bf9f
DTSTART:20260514T103000
DTEND:20260514T160000
DESCRIPTION:
LOCATION:
SUMMARY:5th Grade Bash
END:VEVENT
BEGIN:VEVENT
DTSTAMP:20260423T123101Z
UID:16e716c8-516e-4ecb-ba55-12c8725e4393
DTSTART;VALUE=DATE:20260515
DTEND;VALUE=DATE:20260516
DESCRIPTION:
LOCATION:
SUMMARY:CogAT 4th grade make up testing
END:VEVENT
BEGIN:VEVENT
DTSTAMP:20260423T123101Z
UID:0517cdf6-3f7b-4813-94e3-893f70e3f99c
DTSTART:20260515T073000
DTEND:20260515T073000
DESCRIPTION:
LOCATION:
SUMMARY:Senior Parade
END:VEVENT
BEGIN:VEVENT
DTSTAMP:20260423T123101Z
UID:852ae1df-8896-4153-83fe-b8c55281341f
DTSTART:20260515T084500
DTEND:20260515T143000
DESCRIPTION:
LOCATION:
SUMMARY:Hill Intermediate Field Day
END:VEVENT
BEGIN:VEVENT
DTSTAMP:20260423T123101Z
UID:70937ae2-6bc1-4131-9c98-34a30bb001ec
DTSTART:20260515T090000
DTEND:20260515T090000
DESCRIPTION:
LOCATION:
SUMMARY:Mandatory Graduation Practice
END:VEVENT
BEGIN:VEVENT
DTSTAMP:20260423T123101Z
UID:ae441c7f-116b-4e69-8614-9f7208975122
DTSTART:20260515T123000
DTEND:20260515T143000
DESCRIPTION:
LOCATION:
SUMMARY:2nd Semester 1st Period Exam
END:VEVENT
BEGIN:VEVENT
DTSTAMP:20260423T123101Z
UID:24005b40-57f7-4e3b-b561-043eaead98ee
DTSTART:20260518T073000
DTEND:20260518T114500
DESCRIPTION:
LOCATION:
SUMMARY:2nd Semester 2nd & 3rd Period Exam
END:VEVENT
BEGIN:VEVENT
DTSTAMP:20260423T123101Z
UID:12117865-c923-49ea-91f2-08b2473c2015
DTSTART:20260518T190000
DTEND:20260518T190000
DESCRIPTION:
LOCATION:
SUMMARY:Graduation @ Crossroads East Side
END:VEVENT
BEGIN:VEVENT
DTSTAMP:20260423T123101Z
UID:f70c37a1-56ec-4805-adc8-b28d534bf12e
DTSTART:20260519T073000
DTEND:20260519T114500
DESCRIPTION:
LOCATION:
SUMMARY:2nd Semester 4th & 5th Period Exam
END:VEVENT
BEGIN:VEVENT
DTSTAMP:20260423T123101Z
UID:65415407-5708-4afb-8585-9b7b01dd2e1c
DTSTART:20260519T131000
DTEND:20260519T131000
DESCRIPTION:
LOCATION:
SUMMARY:BTMS Student Early Release Day
END:VEVENT
BEGIN:VEVENT
DTSTAMP:20260423T123101Z
UID:f191fa14-3b12-413e-be5d-edef45df67cf
DTSTART:20260519T180000
DTEND:20260519T190000
DESCRIPTION:
LOCATION:3420 OH-125\, Bethel\, OH 45106\, USA
SUMMARY:Regular Board Meeting
END:VEVENT
BEGIN:VEVENT
DTSTAMP:20260423T123101Z
UID:2ee96c02-b034-4136-b303-230ca0272942
DTSTART;VALUE=DATE:20260520
DTEND;VALUE=DATE:20260521
DESCRIPTION:
LOCATION:
SUMMARY:Last Day of School for students
END:VEVENT
BEGIN:VEVENT
DTSTAMP:20260423T123101Z
UID:30f71804-d72f-4398-aedf-2ed75bc9964e
DTSTART;VALUE=DATE:20260520
DTEND;VALUE=DATE:20260521
DESCRIPTION:
LOCATION:
SUMMARY:LAST DAY OF SCHOOL FOR STUDENTS
END:VEVENT
BEGIN:VEVENT
DTSTAMP:20260423T123101Z
UID:57485be0-e815-47ce-af69-649024d9fdb0
DTSTART:20260520T073000
DTEND:20260520T114500
DESCRIPTION:
LOCATION:
SUMMARY:2nd Semester 6th & 7th Period Exam
END:VEVENT
BEGIN:VEVENT
DTSTAMP:20260423T123101Z
UID:b0c53c9a-4165-4b6c-bb49-afa8f2e4b71e
DTSTART:20260520T083000
DTEND:20260520T093000
DESCRIPTION:
LOCATION:
SUMMARY:6th Grade: 2nd Semester Awards Assembly
END:VEVENT
BEGIN:VEVENT
DTSTAMP:20260423T123101Z
UID:8da9294b-3b98-4414-9e66-d5afccac1fc1
DTSTART:20260520T084500
DTEND:20260520T104500
DESCRIPTION:
LOCATION:
SUMMARY:Hill Intermediate Awards Assembly All Grades
END:VEVENT
BEGIN:VEVENT
DTSTAMP:20260423T123101Z
UID:0f6cb9c6-baa4-45fa-b5ca-b4a2ca5c48fa
DTSTART:20260520T094500
DTEND:20260520T104500
DESCRIPTION:
LOCATION:
SUMMARY:7th Grade: 2nd Semester Awards Assembly
END:VEVENT
BEGIN:VEVENT
DTSTAMP:20260423T123101Z
UID:efa1d6f9-dcce-4c76-afb5-da43a69ce690
DTSTART:20260520T110000
DTEND:20260520T120000
DESCRIPTION:
LOCATION:
SUMMARY:8th Grade: 2nd Semester Awards Assembly
END:VEVENT
BEGIN:VEVENT
DTSTAMP:20260423T123101Z
UID:f7ed16ae-b38c-438d-aa37-f2da58a63174
DTSTART:20260520T131000
DTEND:20260520T131000
DESCRIPTION:
LOCATION:
SUMMARY:BTMS Student Early Release Day
END:VEVENT
BEGIN:VEVENT
DTSTAMP:20260423T123101Z
UID:4386db82-f7df-434a-8428-0039da3b6e62
DTSTART:20260601T080000
DTEND:20260601T110000
DESCRIPTION:
LOCATION:
SUMMARY:Summer School
END:VEVENT
BEGIN:VEVENT
DTSTAMP:20260423T123101Z
UID:48b3b4e4-9895-4eba-9aaf-32cf8f878626
DTSTART:20260602T080000
DTEND:20260602T110000
DESCRIPTION:
LOCATION:
SUMMARY:Summer School
END:VEVENT
BEGIN:VEVENT
DTSTAMP:20260423T123101Z
UID:cf9e59b7-f96c-4dd6-9f1b-efe68cb8f895
DTSTART:20260603T080000
DTEND:20260603T110000
DESCRIPTION:
LOCATION:
SUMMARY:Summer School
END:VEVENT
BEGIN:VEVENT
DTSTAMP:20260423T123101Z
UID:10b03d8d-715b-4b97-b8ed-0bdb6106acfd
DTSTART:20260604T080000
DTEND:20260604T110000
DESCRIPTION:
LOCATION:
SUMMARY:Summer School
END:VEVENT
BEGIN:VEVENT
DTSTAMP:20260423T123101Z
UID:8fc57c53-edb2-4f9e-b452-913912f90c2b
DTSTART:20260605T080000
DTEND:20260605T110000
DESCRIPTION:
LOCATION:
SUMMARY:Summer School
END:VEVENT
BEGIN:VEVENT
DTSTAMP:20260423T123101Z
UID:b8703f82-2bd1-4d0b-9847-af285652853d
DTSTART:20260608T080000
DTEND:20260608T110000
DESCRIPTION:
LOCATION:
SUMMARY:Summer School
END:VEVENT
BEGIN:VEVENT
DTSTAMP:20260423T123101Z
UID:c1ee2f47-bb65-456f-aab6-d98eef0f6d2e
DTSTART:20260609T080000
DTEND:20260609T110000
DESCRIPTION:
LOCATION:
SUMMARY:Summer School
END:VEVENT
BEGIN:VEVENT
DTSTAMP:20260423T123101Z
UID:17989f8e-217a-4eb3-9cdf-b2adeb8e69f3
DTSTART:20260609T180000
DTEND:20260609T190000
DESCRIPTION:
LOCATION:
SUMMARY:P.A.W.W.S. PTO mtg Hill Intermediate library
END:VEVENT
BEGIN:VEVENT
DTSTAMP:20260423T123101Z
UID:ff0c15f3-6760-4da0-9a36-e747b1984973
DTSTART:20260610T080000
DTEND:20260610T110000
DESCRIPTION:
LOCATION:
SUMMARY:Summer School
END:VEVENT
BEGIN:VEVENT
DTSTAMP:20260423T123101Z
UID:9ca6cc73-34d8-4308-b6ee-8ed58c71d8dd
DTSTART:20260611T080000
DTEND:20260611T110000
DESCRIPTION:
LOCATION:
SUMMARY:Summer School
END:VEVENT
BEGIN:VEVENT
DTSTAMP:20260423T123101Z
UID:5872665d-c235-4507-9814-804c1f3c55e4
DTSTART:20260612T080000
DTEND:20260612T110000
DESCRIPTION:
LOCATION:
SUMMARY:Summer School
END:VEVENT
BEGIN:VEVENT
DTSTAMP:20260423T123101Z
UID:b3399438-0da6-47e9-9eee-aee071f726c0
DTSTART:20260616T100000
DTEND:20260616T150000
DESCRIPTION:
LOCATION:
SUMMARY:Curiosity Cube (BTMS front parking lot)
END:VEVENT
BEGIN:VEVENT
DTSTAMP:20260423T123101Z
UID:c2e67110-5015-4c04-9942-6a8305661ae9
DTSTART:20260616T100000
DTEND:20260616T150000
DESCRIPTION:
LOCATION:
SUMMARY:The Cube education center ( https://cube-education.org/ )
END:VEVENT
BEGIN:VEVENT
DTSTAMP:20260423T123101Z
UID:3a7f453b-e82a-4b12-9329-c8beccfc19c1
DTSTART;VALUE=DATE:20260619
DTEND;VALUE=DATE:20260620
DESCRIPTION:
LOCATION:
SUMMARY:JUNETEENTH HOLIDAY
END:VEVENT
BEGIN:VEVENT
DTSTAMP:20260423T123101Z
UID:470e7330-8de1-4f0f-80ea-48ddeae245dc
DTSTART:20260625T180000
DTEND:20260625T190000
DESCRIPTION:
LOCATION:3420 OH-125\, Bethel\, OH 45106\, USA
SUMMARY:Regular Board Meeting
END:VEVENT
BEGIN:VEVENT
DTSTAMP:20260423T123101Z
UID:e6f46ba7-5edc-4be9-90e2-63fd6435cefe
DTSTART:20260714T180000
DTEND:20260714T190000
DESCRIPTION:
LOCATION:
SUMMARY:P.A.W.W.S. PTO mtg Hill Intermediate library
END:VEVENT
BEGIN:VEVENT
DTSTAMP:20260423T123101Z
UID:704a8691-0fbe-49c7-8222-7af484684f37
DTSTART:20260721T180000
DTEND:20260721T190000
DESCRIPTION:
LOCATION:
SUMMARY:Regular Board Meeting
END:VEVENT
BEGIN:VEVENT
DTSTAMP:20260423T123101Z
UID:2de5a6b3-2d94-4953-81e9-3890c9968e5e
DTSTART:20260811T180000
DTEND:20260811T190000
DESCRIPTION:
LOCATION:
SUMMARY:P.A.W.W.S. PTO mtg Hill Intermediate library
END:VEVENT
BEGIN:VEVENT
DTSTAMP:20260423T123101Z
UID:52a8aed2-9c54-4e7c-ad00-8e52d039a102
DTSTART;VALUE=DATE:20260813
DTEND;VALUE=DATE:20260814
DESCRIPTION:
LOCATION:
SUMMARY:5th/6th Graders First Day of School
END:VEVENT
BEGIN:VEVENT
DTSTAMP:20260423T123101Z
UID:66287197-f8ae-426c-8205-2509334bbdec
DTSTART;VALUE=DATE:20260814
DTEND;VALUE=DATE:20260815
DESCRIPTION:
LOCATION:
SUMMARY:7th/8th Graders First Day of School (6th graders already attending)
END:VEVENT
BEGIN:VEVENT
DTSTAMP:20260423T123101Z
UID:d981a4c5-baf3-4448-ab18-569f7355723c
DTSTART:20260818T180000
DTEND:20260818T190000
DESCRIPTION:
LOCATION:
SUMMARY:Regular Board Meeting
END:VEVENT
BEGIN:VEVENT
DTSTAMP:20260423T123101Z
UID:c22495ed-052e-460b-aa27-5de5a3ae0d69
DTSTART;VALUE=DATE:20260907
DTEND;VALUE=DATE:20260908
DESCRIPTION:
LOCATION:
SUMMARY:No School
END:VEVENT
BEGIN:VEVENT
DTSTAMP:20260423T123101Z
UID:5ac4f576-6176-40d5-b385-1417e0f92395
DTSTART:20260908T180000
DTEND:20260908T190000
DESCRIPTION:
LOCATION:
SUMMARY:P.A.W.W.S. PTO mtg Hill Intermediate library
END:VEVENT
BEGIN:VEVENT
DTSTAMP:20260423T123101Z
UID:ee57cd83-ac33-4a9c-bf21-3104eeb02184
DTSTART:20260915T103000
DTEND:20260925T113000
DESCRIPTION:
LOCATION:
SUMMARY: Fall Fundraiser Hill Intermediate
END:VEVENT
BEGIN:VEVENT
DTSTAMP:20260423T123101Z
UID:5873acef-a5f3-49a9-8213-36027c8832e2
DTSTART:20260915T180000
DTEND:20260915T190000
DESCRIPTION:
LOCATION:
SUMMARY:Regular Board Meeting
END:VEVENT
BEGIN:VEVENT
DTSTAMP:20260423T123101Z
UID:eec5e45d-3e0b-4ebf-a055-997a36ab72cc
DTSTART;VALUE=DATE:20261009
DTEND;VALUE=DATE:20261010
DESCRIPTION:
LOCATION:
SUMMARY:No School
END:VEVENT
BEGIN:VEVENT
DTSTAMP:20260423T123101Z
UID:ccbb645c-484a-4d0c-bd49-f55335ba2126
DTSTART;VALUE=DATE:20261012
DTEND;VALUE=DATE:20261013
DESCRIPTION:
LOCATION:
SUMMARY:No School
END:VEVENT
BEGIN:VEVENT
DTSTAMP:20260423T123101Z
UID:fd23f6d9-81ec-4755-9d8e-751f890d8855
DTSTART;VALUE=DATE:20261013
DTEND;VALUE=DATE:20261014
DESCRIPTION:
LOCATION:
SUMMARY:No School  for Students (Teacher Inservice Day)
END:VEVENT
BEGIN:VEVENT
DTSTAMP:20260423T123101Z
UID:80391a87-a1a1-40f4-a053-80be45d8db1e
DTSTART:20261013T180000
DTEND:20261013T190000
DESCRIPTION:
LOCATION:
SUMMARY:P.A.W.W.S. PTO mtg Hill Intermediate library
END:VEVENT
BEGIN:VEVENT
DTSTAMP:20260423T123101Z
UID:f54dd82f-f37f-4bbc-9303-a01a049d53ee
DTSTART:20261020T180000
DTEND:20261020T190000
DESCRIPTION:
LOCATION:
SUMMARY:Regular Board Meeting
END:VEVENT
BEGIN:VEVENT
DTSTAMP:20260423T123101Z
UID:f9e7d86f-2ac3-4887-9031-99c2e5395d51
DTSTART;VALUE=DATE:20261103
DTEND;VALUE=DATE:20261104
DESCRIPTION:
LOCATION:
SUMMARY:No School  for Students (Teacher Inservice Day)
END:VEVENT
BEGIN:VEVENT
DTSTAMP:20260423T123101Z
UID:7abee3d9-da51-4af2-9cfc-0b0d4b4730dd
DTSTART:20261110T180000
DTEND:20261110T190000
DESCRIPTION:
LOCATION:
SUMMARY:P.A.W.W.S. PTO mtg Hill Intermediate library
END:VEVENT
BEGIN:VEVENT
DTSTAMP:20260423T123101Z
UID:89a46c34-87e2-4a6a-82b6-1846e5a9b8d2
DTSTART:20261117T180000
DTEND:20261117T190000
DESCRIPTION:
LOCATION:
SUMMARY:Regular Board Meeting
END:VEVENT
BEGIN:VEVENT
DTSTAMP:20260423T123101Z
UID:4e87b580-0ed7-459a-8979-3f2ede1e0441
DTSTART;VALUE=DATE:20261123
DTEND;VALUE=DATE:20261128
DESCRIPTION:
LOCATION:
SUMMARY:No School
END:VEVENT
BEGIN:VEVENT
DTSTAMP:20260423T123101Z
UID:4f8e07e6-6b03-45a1-820e-1543672d5d2a
DTSTART:20261208T180000
DTEND:20261208T190000
DESCRIPTION:
LOCATION:
SUMMARY:P.A.W.W.S. PTO mtg Hill Intermediate library
END:VEVENT
BEGIN:VEVENT
DTSTAMP:20260423T123101Z
UID:a195c032-a4d3-403b-8ede-299572051746
DTSTART:20261215T180000
DTEND:20261215T190000
DESCRIPTION:
LOCATION:
SUMMARY:Regular Board Meeting
END:VEVENT
BEGIN:VEVENT
DTSTAMP:20260423T123101Z
UID:c257e00d-41ac-4d44-9633-dc71689fdd92
DTSTART;VALUE=DATE:20261221
DTEND;VALUE=DATE:20261226
DESCRIPTION:
LOCATION:
SUMMARY:No School
END:VEVENT
BEGIN:VEVENT
DTSTAMP:20260423T123101Z
UID:5e088d8e-f5df-405b-8a78-04acfcc07437
DTSTART;VALUE=DATE:20261228
DTEND;VALUE=DATE:20270102
DESCRIPTION:
LOCATION:
SUMMARY:No School
END:VEVENT
BEGIN:VEVENT
DTSTAMP:20260423T123101Z
UID:1a7b46a1-8c99-4d99-a6b4-839ec1d53f90
DTSTART;VALUE=DATE:20270104
DTEND;VALUE=DATE:20270105
DESCRIPTION:
LOCATION:
SUMMARY:No School  for Students (Teacher Inservice Day)
END:VEVENT
BEGIN:VEVENT
DTSTAMP:20260423T123101Z
UID:f41e8f81-2e46-4f3e-872d-ae5586a56494
DTSTART:20270112T180000
DTEND:20270112T190000
DESCRIPTION:
LOCATION:
SUMMARY:P.A.W.W.S. PTO mtg Hill Intermediate library
END:VEVENT
BEGIN:VEVENT
DTSTAMP:20260423T123101Z
UID:c8c108cb-108e-4b6b-a351-792dc948cf9b
DTSTART;VALUE=DATE:20270118
DTEND;VALUE=DATE:20270119
DESCRIPTION:
LOCATION:
SUMMARY:No School
END:VEVENT
BEGIN:VEVENT
DTSTAMP:20260423T123101Z
UID:9a024f5d-a270-45b4-b7db-8f4fca6d3d79
DTSTART:20270209T180000
DTEND:20270209T190000
DESCRIPTION:
LOCATION:
SUMMARY:P.A.W.W.S. PTO mtg Hill Intermediate library
END:VEVENT
BEGIN:VEVENT
DTSTAMP:20260423T123101Z
UID:b6718e70-4915-40e1-8646-1bcdaa870ef7
DTSTART;VALUE=DATE:20270212
DTEND;VALUE=DATE:20270213
DESCRIPTION:
LOCATION:
SUMMARY:No School
END:VEVENT
BEGIN:VEVENT
DTSTAMP:20260423T123101Z
UID:4c7bde95-f612-4840-b823-9a455c009da6
DTSTART;VALUE=DATE:20270215
DTEND;VALUE=DATE:20270216
DESCRIPTION:
LOCATION:
SUMMARY:No School
END:VEVENT
BEGIN:VEVENT
DTSTAMP:20260423T123101Z
UID:f7291e6c-dee7-4081-886a-2470c226265f
DTSTART:20270309T180000
DTEND:20270309T190000
DESCRIPTION:
LOCATION:
SUMMARY:P.A.W.W.S. PTO mtg Hill Intermediate library
END:VEVENT
BEGIN:VEVENT
DTSTAMP:20260423T123101Z
UID:00ecd2c6-7855-4fe0-bea4-9a53ffa8304c
DTSTART;VALUE=DATE:20270322
DTEND;VALUE=DATE:20270327
DESCRIPTION:
LOCATION:
SUMMARY:No School
END:VEVENT
BEGIN:VEVENT
DTSTAMP:20260423T123101Z
UID:c747b196-1e99-4229-b6e3-d0fd2c8d29f4
DTSTART;VALUE=DATE:20270329
DTEND;VALUE=DATE:20270330
DESCRIPTION:
LOCATION:
SUMMARY:No School  for Students (Teacher Inservice Day)
END:VEVENT
BEGIN:VEVENT
DTSTAMP:20260423T123101Z
UID:2bed3607-c970-4692-9ce4-f6b1738c4f0a
DTSTART;VALUE=DATE:20270504
DTEND;VALUE=DATE:20270505
DESCRIPTION:
LOCATION:
SUMMARY:No School  for Students (Teacher Inservice Day)
END:VEVENT
BEGIN:VEVENT
DTSTAMP:20260423T123101Z
UID:29232130-5856-4e26-882f-736caff601af
DTSTART;VALUE=DATE:20270525
DTEND;VALUE=DATE:20270526
DESCRIPTION:
LOCATION:
SUMMARY:Last Day of School
END:VEVENT
END:VCALENDAR
