BEGIN:VCALENDAR
VERSION:2.0
PRODID:icalendar-ruby
CALSCALE:GREGORIAN
BEGIN:VTIMEZONE
TZID:America/New_York
BEGIN:DAYLIGHT
DTSTART:20260308T030000
TZOFFSETFROM:-0500
TZOFFSETTO:-0400
RRULE:FREQ=YEARLY;BYDAY=2SU;BYMONTH=3
TZNAME:EDT
END:DAYLIGHT
BEGIN:STANDARD
DTSTART:20261101T010000
TZOFFSETFROM:-0400
TZOFFSETTO:-0500
RRULE:FREQ=YEARLY;BYDAY=1SU;BYMONTH=11
TZNAME:EST
END:STANDARD
END:VTIMEZONE
BEGIN:VEVENT
DTSTAMP:20260426T042939Z
UID:1f20fbe4-2a61-4948-8cee-5e6b69ad2e0c
DTSTART;VALUE=DATE:20260429
DTEND;VALUE=DATE:20260430
DESCRIPTION:
LOCATION:
SUMMARY:NGSA (Science) Testing - Grade 11  ONLY
END:VEVENT
BEGIN:VEVENT
DTSTAMP:20260426T042939Z
UID:c459ffc9-a820-44f5-b4e9-58dd830bd9ce
DTSTART:20260430T190000
DTEND:20260430T210000
DESCRIPTION:
LOCATION:
SUMMARY:Toll Gate Spring Chorus Concert
END:VEVENT
BEGIN:VEVENT
DTSTAMP:20260426T042939Z
UID:061f943b-0373-44a6-8bb3-e38e0f87b7dc
DTSTART;VALUE=DATE:20260504
DTEND;VALUE=DATE:20260509
DESCRIPTION:
LOCATION:
SUMMARY:AP Exams
END:VEVENT
BEGIN:VEVENT
DTSTAMP:20260426T042939Z
UID:1561c572-2af5-439c-982e-29972585ea28
DTSTART;VALUE=DATE:20260507
DTEND;VALUE=DATE:20260508
DESCRIPTION:
LOCATION:
SUMMARY:Senior Capstone Presentations (Early Release for All Grade Levels)
END:VEVENT
BEGIN:VEVENT
DTSTAMP:20260426T042939Z
UID:eb54fe4a-6a67-4e63-a161-7013321ba023
DTSTART;VALUE=DATE:20260510
DTEND;VALUE=DATE:20260511
DESCRIPTION:
LOCATION:
SUMMARY:Mother's Day
END:VEVENT
BEGIN:VEVENT
DTSTAMP:20260426T042939Z
UID:803de61d-1350-4b03-8789-4abb21afe462
DTSTART:20260516T180000
DTEND:20260516T220000
DESCRIPTION:
LOCATION:
SUMMARY:Toll Gate Junior Prom
END:VEVENT
BEGIN:VEVENT
DTSTAMP:20260426T042939Z
UID:1efaf3b2-76c9-4725-8808-54f3aa85883e
DTSTART:20260519T140000
DTEND:20260519T150000
DESCRIPTION:
LOCATION:
SUMMARY:Faculty Meeting - 2 PM
END:VEVENT
BEGIN:VEVENT
DTSTAMP:20260426T042939Z
UID:55a671d8-074b-4930-956c-f876cf17b3f9
DTSTART:20260519T180000
DTEND:20260519T200000
DESCRIPTION:
LOCATION:
SUMMARY:Toll Gate Honors Night
END:VEVENT
BEGIN:VEVENT
DTSTAMP:20260426T042939Z
UID:0fe21e17-db62-47f5-8818-8e8b0e8c2500
DTSTART:20260520T180000
DTEND:20260520T200000
DESCRIPTION:
LOCATION:
SUMMARY:WACTC Senior Recognition Night
END:VEVENT
BEGIN:VEVENT
DTSTAMP:20260426T042939Z
UID:f67509cb-854f-4345-a0ab-620b8c766d6b
DTSTART:20260522T080000
DTEND:20260522T140000
DESCRIPTION:
LOCATION:
SUMMARY:Blood Drive
END:VEVENT
BEGIN:VEVENT
DTSTAMP:20260426T042939Z
UID:48882ef7-af86-4142-ae6e-2a75b0b373d9
DTSTART;VALUE=DATE:20260525
DTEND;VALUE=DATE:20260526
DESCRIPTION:
LOCATION:
SUMMARY:Memorial Day - NO SCHOOL
END:VEVENT
BEGIN:VEVENT
DTSTAMP:20260426T042939Z
UID:3b8123da-c268-4bc0-bb26-86b1bd73fcd6
DTSTART;VALUE=DATE:20260527
DTEND;VALUE=DATE:20260530
DESCRIPTION:
LOCATION:
SUMMARY:Senior Exams
END:VEVENT
BEGIN:VEVENT
DTSTAMP:20260426T042939Z
UID:ddbc5cbc-36fb-4b0f-ad0c-411e9bd7e9e7
DTSTART:20260527T180000
DTEND:20260527T200000
DESCRIPTION:
LOCATION:
SUMMARY:Toll Gate RI Honor Society Inductions
END:VEVENT
BEGIN:VEVENT
DTSTAMP:20260426T042939Z
UID:48aa0a6e-31f3-44a6-a4e1-1ccfb7ef8922
DTSTART;VALUE=DATE:20260601
DTEND;VALUE=DATE:20260606
DESCRIPTION:
LOCATION:
SUMMARY:Nat'l Automotive Service Professional's Week
END:VEVENT
BEGIN:VEVENT
DTSTAMP:20260426T042939Z
UID:04bc4e9b-86cc-4f48-ae19-fa026c37ff3c
DTSTART;VALUE=DATE:20260601
DTEND;VALUE=DATE:20260603
DESCRIPTION:
LOCATION:
SUMMARY:Senior Exams
END:VEVENT
BEGIN:VEVENT
DTSTAMP:20260426T042939Z
UID:73614012-26be-4b26-a3dc-17324f9cb6f1
DTSTART;VALUE=DATE:20260603
DTEND;VALUE=DATE:20260604
DESCRIPTION:
LOCATION:
SUMMARY:Senior Grades Due
END:VEVENT
BEGIN:VEVENT
DTSTAMP:20260426T042939Z
UID:5f2ec4ca-2973-41a7-8a86-515ae5f70a67
DTSTART:20260605T180000
DTEND:20260605T220000
DESCRIPTION:
LOCATION:950 N Quidnessett Rd\, North Kingstown\, RI 02852\, USA
SUMMARY:Toll Gate Senior Prom
END:VEVENT
BEGIN:VEVENT
DTSTAMP:20260426T042939Z
UID:f116b943-d35a-4e07-bbdb-004c56f50ade
DTSTART;VALUE=DATE:20260608
DTEND;VALUE=DATE:20260609
DESCRIPTION:
LOCATION:
SUMMARY:W. Warwick Last Day at WACTC
END:VEVENT
BEGIN:VEVENT
DTSTAMP:20260426T042939Z
UID:2c892eed-01eb-4864-b063-433430ba8de7
DTSTART;VALUE=DATE:20260610
DTEND;VALUE=DATE:20260611
DESCRIPTION:
LOCATION:
SUMMARY:Toll Gate / WACTC Graduation
END:VEVENT
BEGIN:VEVENT
DTSTAMP:20260426T042939Z
UID:829d9878-2148-459f-bc94-568642e4ddbc
DTSTART;VALUE=DATE:20260610
DTEND;VALUE=DATE:20260613
DESCRIPTION:
LOCATION:
SUMMARY:Underclassmen Final Exams
END:VEVENT
BEGIN:VEVENT
DTSTAMP:20260426T042939Z
UID:84753e6b-3227-4703-8f17-5b45c890701d
DTSTART:20260612T140000
DTEND:20260612T150000
DESCRIPTION:
LOCATION:
SUMMARY:Year-End Faculty Meeting - 2 PM
END:VEVENT
BEGIN:VEVENT
DTSTAMP:20260426T042939Z
UID:916465af-7276-4bd8-996b-bc5c17dfac10
DTSTART;VALUE=DATE:20260614
DTEND;VALUE=DATE:20260615
DESCRIPTION:
LOCATION:
SUMMARY:WACTC Golf Tournament
END:VEVENT
BEGIN:VEVENT
DTSTAMP:20260426T042939Z
UID:f96498fc-e6a5-4565-b3b8-baf76098ca5e
DTSTART;VALUE=DATE:20260615
DTEND;VALUE=DATE:20260616
DESCRIPTION:
LOCATION:
SUMMARY:Underclassmen Final Exams
END:VEVENT
BEGIN:VEVENT
DTSTAMP:20260426T042939Z
UID:720f8518-5e3a-47fb-b622-050a71e92978
DTSTART;VALUE=DATE:20260616
DTEND;VALUE=DATE:20260617
DESCRIPTION:
LOCATION:
SUMMARY:Last Day of School
END:VEVENT
BEGIN:VEVENT
DTSTAMP:20260426T042939Z
UID:5335f5bc-62c7-40ff-a12f-3fcf5d88011a
DTSTART;VALUE=DATE:20260616
DTEND;VALUE=DATE:20260617
DESCRIPTION:
LOCATION:
SUMMARY:Quarter 4 Grades Due
END:VEVENT
BEGIN:VEVENT
DTSTAMP:20260426T042939Z
UID:e18e2dc8-c877-4137-89d5-cb6b26454f9f
DTSTART;VALUE=DATE:20260619
DTEND;VALUE=DATE:20260620
DESCRIPTION:
LOCATION:
SUMMARY:Juneteenth - DISTRICT CLOSED
END:VEVENT
BEGIN:VEVENT
DTSTAMP:20260426T042939Z
UID:955ad62a-2719-4932-8495-8622e17d3f7e
DTSTART;VALUE=DATE:20260621
DTEND;VALUE=DATE:20260622
DESCRIPTION:
LOCATION:
SUMMARY:Father's Day
END:VEVENT
BEGIN:VEVENT
DTSTAMP:20260426T042939Z
UID:41d8be3e-ebe3-4547-87ec-62447c585d9e
DTSTART;VALUE=DATE:20260701
DTEND;VALUE=DATE:20260702
DESCRIPTION:
LOCATION:
SUMMARY:National Culinary Arts Month Begins
END:VEVENT
BEGIN:VEVENT
DTSTAMP:20260426T042939Z
UID:6769f7d6-5214-4452-8d87-dfedd2eecd06
DTSTART;VALUE=DATE:20260703
DTEND;VALUE=DATE:20260704
DESCRIPTION:
LOCATION:
SUMMARY:Independence Day (Obs.) - DISTRICT CLOSED
END:VEVENT
BEGIN:VEVENT
DTSTAMP:20260426T042939Z
UID:8e83ec09-e86a-48bb-ac8d-d0e69b59e2f1
DTSTART:20260704T080000
DTEND:20260704T090000
DESCRIPTION:
LOCATION:
SUMMARY:Independence Day
END:VEVENT
END:VCALENDAR
