BEGIN:VCALENDAR
VERSION:2.0
PRODID:icalendar-ruby
CALSCALE:GREGORIAN
BEGIN:VTIMEZONE
TZID:America/New_York
BEGIN:DAYLIGHT
DTSTART:20260308T030000
TZOFFSETFROM:-0500
TZOFFSETTO:-0400
RRULE:FREQ=YEARLY;BYDAY=2SU;BYMONTH=3
TZNAME:EDT
END:DAYLIGHT
BEGIN:STANDARD
DTSTART:20261101T010000
TZOFFSETFROM:-0400
TZOFFSETTO:-0500
RRULE:FREQ=YEARLY;BYDAY=1SU;BYMONTH=11
TZNAME:EST
END:STANDARD
END:VTIMEZONE
BEGIN:VEVENT
DTSTAMP:20260426T000757Z
UID:02fa5bc7-d274-475b-a258-54b3b0344251
DTSTART;VALUE=DATE:20260427
DTEND;VALUE=DATE:20260428
DESCRIPTION:
LOCATION:
SUMMARY:Last Day to Buy a Yearbook!
END:VEVENT
BEGIN:VEVENT
DTSTAMP:20260426T000757Z
UID:8f635b63-1cab-419e-9be5-133a02de8ca7
DTSTART:20260427T163000
DTEND:20260427T183000
DESCRIPTION:
LOCATION:25 Park View Blvd\, Cranston\, RI 02910\, USA
SUMMARY:Baseball vs. Park View
END:VEVENT
BEGIN:VEVENT
DTSTAMP:20260426T000757Z
UID:cf3c3d4e-fa66-4b07-b875-1cda3212792b
DTSTART:20260428T163000
DTEND:20260428T183000
DESCRIPTION:
LOCATION:25 Park View Blvd\, Cranston\, RI 02910\, USA
SUMMARY:Softball vs. Park View
END:VEVENT
BEGIN:VEVENT
DTSTAMP:20260426T000757Z
UID:697ca626-c0bd-4a20-9b61-130c574c44ec
DTSTART:20260429T163000
DTEND:20260429T183000
DESCRIPTION:
LOCATION:2401 W Shore Rd\, Warwick\, RI 02889\, USA
SUMMARY:Baseball vs. Hope Highlands
END:VEVENT
BEGIN:VEVENT
DTSTAMP:20260426T000757Z
UID:3568046e-3e7f-4938-b7c0-1f64a46006fc
DTSTART:20260429T163000
DTEND:20260429T183000
DESCRIPTION:
LOCATION:2401 W Shore Rd\, Warwick\, RI 02889\, USA
SUMMARY:Track Meet
END:VEVENT
BEGIN:VEVENT
DTSTAMP:20260426T000757Z
UID:acde585c-5e51-47c9-a21e-42150230f9e5
DTSTART:20260430T163000
DTEND:20260430T183000
DESCRIPTION:
LOCATION:2401 W Shore Rd\, Warwick\, RI 02889\, USA
SUMMARY:Softball vs. Hope Highlands
END:VEVENT
BEGIN:VEVENT
DTSTAMP:20260426T000757Z
UID:80ebe826-2a6f-4fab-8b12-e18faffea75f
DTSTART:20260504T163000
DTEND:20260504T183000
DESCRIPTION:
LOCATION:2401 W Shore Rd\, Warwick\, RI 02889\, USA
SUMMARY:Tennis vs. Jamestown
END:VEVENT
BEGIN:VEVENT
DTSTAMP:20260426T000757Z
UID:2b1702bd-918f-4aed-b44e-a0e3f43bcb60
DTSTART;VALUE=DATE:20260505
DTEND;VALUE=DATE:20260506
DESCRIPTION:
LOCATION:
SUMMARY:Math RICAS Testing
END:VEVENT
BEGIN:VEVENT
DTSTAMP:20260426T000757Z
UID:20f21361-295a-4ab0-b267-a2d66257b262
DTSTART:20260505T163000
DTEND:20260505T183000
DESCRIPTION:
LOCATION:1583 Hartford Ave\, Johnston\, RI 02919\, USA
SUMMARY:Baseball vs. Ferri
END:VEVENT
BEGIN:VEVENT
DTSTAMP:20260426T000757Z
UID:1b24f738-cf6a-47f3-a966-fcd37857a16c
DTSTART:20260505T163000
DTEND:20260505T183000
DESCRIPTION:
LOCATION:1583 Hartford Ave\, Johnston\, RI 02919\, USA
SUMMARY:Softball vs. Ferri
END:VEVENT
BEGIN:VEVENT
DTSTAMP:20260426T000757Z
UID:bc0fc447-26a6-4baf-9f1c-7a8c2962c9ac
DTSTART:20260506T150000
DTEND:20260506T170000
DESCRIPTION:
LOCATION:2401 W Shore Rd\, Warwick\, RI 02889\, USA
SUMMARY:Tennis vs. Lincoln School
END:VEVENT
BEGIN:VEVENT
DTSTAMP:20260426T000757Z
UID:48257586-5cc1-4651-9897-641003740fed
DTSTART:20260506T163000
DTEND:20260506T183000
DESCRIPTION:
LOCATION:2401 W Shore Rd\, Warwick\, RI 02889\, USA
SUMMARY:Track Meet
END:VEVENT
BEGIN:VEVENT
DTSTAMP:20260426T000757Z
UID:310fe27f-4095-40e5-97e7-6def0578903d
DTSTART;VALUE=DATE:20260507
DTEND;VALUE=DATE:20260508
DESCRIPTION:
LOCATION:
SUMMARY:Math RICAS Testing
END:VEVENT
BEGIN:VEVENT
DTSTAMP:20260426T000757Z
UID:929d401e-4024-4e6c-a086-1ca4ed3b6a51
DTSTART:20260507T163000
DTEND:20260507T183000
DESCRIPTION:
LOCATION:2401 W Shore Rd\, Warwick\, RI 02889\, USA
SUMMARY:Baseball vs. Deering
END:VEVENT
BEGIN:VEVENT
DTSTAMP:20260426T000757Z
UID:c539ad1c-32d5-4963-a126-a3c63c432265
DTSTART:20260507T163000
DTEND:20260507T183000
DESCRIPTION:
LOCATION:2401 W Shore Rd\, Warwick\, RI 02889\, USA
SUMMARY:Softball vs. Deering
END:VEVENT
BEGIN:VEVENT
DTSTAMP:20260426T000757Z
UID:c56677e2-2eed-49ee-ac9e-73b54cd164aa
DTSTART:20260511T170000
DTEND:20260511T190000
DESCRIPTION:
LOCATION:612 Academy Ave\, Providence\, RI 02908\, USA
SUMMARY:Baseball vs. De La Salle
END:VEVENT
BEGIN:VEVENT
DTSTAMP:20260426T000757Z
UID:e55499f7-e5c9-49bc-8ecf-a9873f287b7f
DTSTART:20260511T170000
DTEND:20260511T190000
DESCRIPTION:
LOCATION:612 Academy Ave\, Providence\, RI 02908\, USA
SUMMARY:Softball vs. De La Salle
END:VEVENT
BEGIN:VEVENT
DTSTAMP:20260426T000757Z
UID:e58a5f0c-b4a5-4598-9b82-873c8504e0c5
DTSTART;VALUE=DATE:20260512
DTEND;VALUE=DATE:20260513
DESCRIPTION:
LOCATION:
SUMMARY:Science NGSA Testing
END:VEVENT
BEGIN:VEVENT
DTSTAMP:20260426T000757Z
UID:4995a423-2b42-4c04-ac6e-c3b6e26c208c
DTSTART:20260512T183000
DTEND:20260512T193000
DESCRIPTION:
LOCATION:2401 W Shore Rd\, Warwick\, RI 02889\, USA
SUMMARY:PTSA Meeting
END:VEVENT
BEGIN:VEVENT
DTSTAMP:20260426T000757Z
UID:e1d1f236-db7d-4998-b521-cb1bd8906360
DTSTART:20260512T183000
DTEND:20260512T203000
DESCRIPTION:
LOCATION:2401 W Shore Rd\, Warwick\, RI 02889\, USA
SUMMARY:School Committee Meeting
END:VEVENT
BEGIN:VEVENT
DTSTAMP:20260426T000757Z
UID:c6a22636-bb4a-4f18-9acf-1ac53e8fa731
DTSTART;VALUE=DATE:20260513
DTEND;VALUE=DATE:20260514
DESCRIPTION:
LOCATION:
SUMMARY:Midquarter
END:VEVENT
BEGIN:VEVENT
DTSTAMP:20260426T000757Z
UID:11698f6b-8b8b-4d0a-87f7-dc3aaae95120
DTSTART:20260513T150000
DTEND:20260513T170000
DESCRIPTION:
LOCATION:2401 W Shore Rd\, Warwick\, RI 02889\, USA
SUMMARY:Tennis vs. Newport
END:VEVENT
BEGIN:VEVENT
DTSTAMP:20260426T000757Z
UID:e7cb6153-d302-4fb2-b090-eb85a5643faa
DTSTART:20260513T163000
DTEND:20260513T183000
DESCRIPTION:
LOCATION:2401 W Shore Rd\, Warwick\, RI 02889\, USA
SUMMARY:Baseball vs. Bain
END:VEVENT
BEGIN:VEVENT
DTSTAMP:20260426T000757Z
UID:fb670088-e64b-44ab-a57e-59ccb7d2b0b8
DTSTART:20260513T163000
DTEND:20260513T183000
DESCRIPTION:
LOCATION:2401 W Shore Rd\, Warwick\, RI 02889\, USA
SUMMARY:Softball vs. Bain
END:VEVENT
BEGIN:VEVENT
DTSTAMP:20260426T000757Z
UID:8dbce41c-72aa-43eb-a829-5a24a1e5f3da
DTSTART:20260513T163000
DTEND:20260513T183000
DESCRIPTION:
LOCATION:2401 W Shore Rd\, Warwick\, RI 02889\, USA
SUMMARY:Track Meet
END:VEVENT
BEGIN:VEVENT
DTSTAMP:20260426T000757Z
UID:b795d553-a9be-47c5-ba61-37a190ecc2be
DTSTART:20260518T163000
DTEND:20260518T183000
DESCRIPTION:
LOCATION:2401 W Shore Rd\, Warwick\, RI 02889\, USA
SUMMARY:Softball vs. Winman
END:VEVENT
BEGIN:VEVENT
DTSTAMP:20260426T000757Z
UID:4f70630a-6a75-4a2b-8a39-0020e2834fd1
DTSTART:20260519T180000
DTEND:20260519T190000
DESCRIPTION:
LOCATION:2401 W Shore Rd\, Warwick\, RI 02889\, USA
SUMMARY:5th Grade Parent Night
END:VEVENT
BEGIN:VEVENT
DTSTAMP:20260426T000757Z
UID:302bf45a-9eb2-4210-9498-9acdadac1ac4
DTSTART;VALUE=DATE:20260525
DTEND;VALUE=DATE:20260526
DESCRIPTION:
LOCATION:
SUMMARY:Memorial Day - No School
END:VEVENT
BEGIN:VEVENT
DTSTAMP:20260426T000757Z
UID:0a381df6-565d-49a2-b759-9e809a49a7ff
DTSTART:20260528T180000
DTEND:20260528T203000
DESCRIPTION:
LOCATION:60 Rhodes Pl\, Cranston\, RI 02905\, USA
SUMMARY:8th Grade Social Dance
END:VEVENT
BEGIN:VEVENT
DTSTAMP:20260426T000757Z
UID:10b7a7f6-542b-40f6-82de-87f916034755
DTSTART:20260604T180000
DTEND:20260604T200000
DESCRIPTION:
LOCATION:2401 W Shore Rd\, Warwick\, RI 02889\, USA
SUMMARY:8th Grade Honors Night
END:VEVENT
BEGIN:VEVENT
DTSTAMP:20260426T000757Z
UID:c1dc8abe-fa8e-4603-ae62-32010087fc04
DTSTART:20260608T170000
DTEND:20260608T200000
DESCRIPTION:
LOCATION:2401 W Shore Rd\, Warwick\, RI 02889\, USA
SUMMARY:Orchestra Concert
END:VEVENT
BEGIN:VEVENT
DTSTAMP:20260426T000757Z
UID:5440f967-fc51-4085-b97b-b0159ce13f50
DTSTART;VALUE=DATE:20260609
DTEND;VALUE=DATE:20260611
DESCRIPTION:
LOCATION:
SUMMARY:World Language Final Exams
END:VEVENT
BEGIN:VEVENT
DTSTAMP:20260426T000757Z
UID:a8c5d5c0-5486-4ce7-b1b9-7dbec65680f0
DTSTART:20260609T183000
DTEND:20260609T203000
DESCRIPTION:
LOCATION:2401 W Shore Rd\, Warwick\, RI 02889\, USA
SUMMARY:School Committee Meeting
END:VEVENT
BEGIN:VEVENT
DTSTAMP:20260426T000757Z
UID:69ca037f-d4a0-4a09-b36c-d44dfaa7aee2
DTSTART:20260610T170000
DTEND:20260610T200000
DESCRIPTION:
LOCATION:2401 W Shore Rd\, Warwick\, RI 02889\, USA
SUMMARY:Band Concert
END:VEVENT
BEGIN:VEVENT
DTSTAMP:20260426T000757Z
UID:3b39c8de-e786-44da-99a6-e11c8a8b28a2
DTSTART;VALUE=DATE:20260618
DTEND;VALUE=DATE:20260619
DESCRIPTION:
LOCATION:
SUMMARY:Last Day of 4th Quarter
END:VEVENT
BEGIN:VEVENT
DTSTAMP:20260426T000757Z
UID:8718ea05-4301-4e39-8bcf-265cb4351488
DTSTART;VALUE=DATE:20260619
DTEND;VALUE=DATE:20260620
DESCRIPTION:
LOCATION:
SUMMARY:Report Cards Published
END:VEVENT
BEGIN:VEVENT
DTSTAMP:20260426T000757Z
UID:ebd84b24-0147-4a0e-ba72-05e31f779880
DTSTART;VALUE=DATE:20260619
DTEND;VALUE=DATE:20260620
DESCRIPTION:
LOCATION:
SUMMARY:Juneteenth - No School
END:VEVENT
BEGIN:VEVENT
DTSTAMP:20260426T000757Z
UID:0b88ade9-95b7-434f-8c4d-b1483320c310
DTSTART:20260714T183000
DTEND:20260714T203000
DESCRIPTION:
LOCATION:2401 W Shore Rd\, Warwick\, RI 02889\, USA
SUMMARY:School Committee Meeting
END:VEVENT
BEGIN:VEVENT
DTSTAMP:20260426T000757Z
UID:0b20dc20-903b-4e66-b347-635fb655ec0a
DTSTART:20260811T183000
DTEND:20260811T203000
DESCRIPTION:
LOCATION:2401 W Shore Rd\, Warwick\, RI 02889\, USA
SUMMARY:School Committee Meeting
END:VEVENT
BEGIN:VEVENT
DTSTAMP:20260426T000757Z
UID:d9ea4ec5-06d3-4c9c-afb1-74b8959f8147
DTSTART:20260910T183000
DTEND:20260910T203000
DESCRIPTION:
LOCATION:2401 W Shore Rd\, Warwick\, RI 02889\, USA
SUMMARY:School Committee Meeting
END:VEVENT
BEGIN:VEVENT
DTSTAMP:20260426T000757Z
UID:3a5c8e5d-2363-4c51-9089-e2ecdc4c5491
DTSTART:20261013T183000
DTEND:20261013T203000
DESCRIPTION:
LOCATION:2401 W Shore Rd\, Warwick\, RI 02889\, USA
SUMMARY:School Committee Meeting
END:VEVENT
BEGIN:VEVENT
DTSTAMP:20260426T000757Z
UID:03957ed4-96ae-4d59-97e9-0b8ea475d66e
DTSTART:20261110T183000
DTEND:20261110T203000
DESCRIPTION:
LOCATION:2401 W Shore Rd\, Warwick\, RI 02889\, USA
SUMMARY:School Committee Meeting
END:VEVENT
BEGIN:VEVENT
DTSTAMP:20260426T000757Z
UID:59da5fc5-923a-4201-a705-e2124136db54
DTSTART:20261209T183000
DTEND:20261209T203000
DESCRIPTION:
LOCATION:2401 W Shore Rd\, Warwick\, RI 02889\, USA
SUMMARY:School Committee Meeting
END:VEVENT
END:VCALENDAR
