BEGIN:VCALENDAR
VERSION:2.0
PRODID:icalendar-ruby
CALSCALE:GREGORIAN
BEGIN:VTIMEZONE
TZID:America/New_York
BEGIN:DAYLIGHT
DTSTART:20260308T030000
TZOFFSETFROM:-0500
TZOFFSETTO:-0400
RRULE:FREQ=YEARLY;BYDAY=2SU;BYMONTH=3
TZNAME:EDT
END:DAYLIGHT
BEGIN:STANDARD
DTSTART:20261101T010000
TZOFFSETFROM:-0400
TZOFFSETTO:-0500
RRULE:FREQ=YEARLY;BYDAY=1SU;BYMONTH=11
TZNAME:EST
END:STANDARD
END:VTIMEZONE
BEGIN:VEVENT
DTSTAMP:20260421T035840Z
UID:1600e6bd-168e-4977-a22e-b34b668278d7
DTSTART:20260420T082500
DTEND:20260420T150000
DESCRIPTION:
LOCATION:
SUMMARY:Spring Vacation
END:VEVENT
BEGIN:VEVENT
DTSTAMP:20260421T035840Z
UID:443b2851-f94d-4ca9-a465-c9b14d956486
DTSTART:20260421T082500
DTEND:20260421T150000
DESCRIPTION:
LOCATION:
SUMMARY:Spring Vacation
END:VEVENT
BEGIN:VEVENT
DTSTAMP:20260421T035840Z
UID:b4b6fbc1-8858-442c-97f6-9104ba6f3a43
DTSTART:20260422T082500
DTEND:20260422T150000
DESCRIPTION:
LOCATION:
SUMMARY:Spring Vacation
END:VEVENT
BEGIN:VEVENT
DTSTAMP:20260421T035840Z
UID:a50b7d98-fc1d-49c4-b38a-e08f666d06ec
DTSTART:20260423T082500
DTEND:20260423T150000
DESCRIPTION:
LOCATION:
SUMMARY:Spring Vacation
END:VEVENT
BEGIN:VEVENT
DTSTAMP:20260421T035840Z
UID:497b7028-8225-4e37-bc84-a26e07ade499
DTSTART:20260424T082500
DTEND:20260424T150000
DESCRIPTION:
LOCATION:
SUMMARY:Spring Vacation
END:VEVENT
BEGIN:VEVENT
DTSTAMP:20260421T035840Z
UID:bbaf9d6f-7ec8-4695-8979-8bac16fda95f
DTSTART:20260505T085000
DTEND:20260505T095000
DESCRIPTION:
LOCATION:(Events)-Whittemore-School Calendar
SUMMARY:Latino Parent Coffee
END:VEVENT
BEGIN:VEVENT
DTSTAMP:20260421T035840Z
UID:58eb32f3-fd6c-4209-b399-f31b52e65114
DTSTART:20260525T082500
DTEND:20260525T150000
DESCRIPTION:
LOCATION:
SUMMARY:No School - Memorial Day
END:VEVENT
BEGIN:VEVENT
DTSTAMP:20260421T035840Z
UID:ed384764-4cc1-40fc-acdf-38cd43c12a66
DTSTART:20260602T085000
DTEND:20260602T095000
DESCRIPTION:
LOCATION:(Events)-Whittemore-School Calendar
SUMMARY:Latino Parent Coffee
END:VEVENT
BEGIN:VEVENT
DTSTAMP:20260421T035840Z
UID:9c17c32a-53f9-4b40-831b-4aa0645692c2
DTSTART:20260609T093000
DTEND:20260609T110000
DESCRIPTION:
LOCATION:
SUMMARY:Spring Concert
END:VEVENT
BEGIN:VEVENT
DTSTAMP:20260421T035840Z
UID:e7a50143-51f9-4c16-91a3-0341dc36ff87
DTSTART:20260619T082500
DTEND:20260619T150000
DESCRIPTION:
LOCATION:
SUMMARY:No School - Juneteenth (if school in session)
END:VEVENT
BEGIN:VEVENT
DTSTAMP:20260421T035840Z
UID:63c2437f-eb4b-4d97-900c-12bfaafdc184
DTSTART;VALUE=DATE:20260622
DTEND;VALUE=DATE:20260623
DESCRIPTION:
LOCATION:
SUMMARY:Last Day of School for WPS students in grades K-11
END:VEVENT
END:VCALENDAR
