BEGIN:VCALENDAR
VERSION:2.0
PRODID:icalendar-ruby
CALSCALE:GREGORIAN
BEGIN:VTIMEZONE
TZID:America/New_York
BEGIN:DAYLIGHT
DTSTART:20260308T030000
TZOFFSETFROM:-0500
TZOFFSETTO:-0400
RRULE:FREQ=YEARLY;BYDAY=2SU;BYMONTH=3
TZNAME:EDT
END:DAYLIGHT
BEGIN:STANDARD
DTSTART:20261101T010000
TZOFFSETFROM:-0400
TZOFFSETTO:-0500
RRULE:FREQ=YEARLY;BYDAY=1SU;BYMONTH=11
TZNAME:EST
END:STANDARD
END:VTIMEZONE
BEGIN:VEVENT
DTSTAMP:20260425T102633Z
UID:ac5e1662-0ba1-4e82-b341-ec138d6ff52e
DTSTART:20260427T080000
DTEND:20260427T090000
DESCRIPTION:
LOCATION:
SUMMARY:Spring school picture day
END:VEVENT
BEGIN:VEVENT
DTSTAMP:20260425T102633Z
UID:9ed08e28-b267-4464-9e2c-cca777e30bbb
DTSTART:20260501T090000
DTEND:20260501T100000
DESCRIPTION:
LOCATION:
SUMMARY:Lunch aide appreciation day
END:VEVENT
BEGIN:VEVENT
DTSTAMP:20260425T102633Z
UID:181fac21-65c4-4a45-aef1-c7ecfe11bc69
DTSTART;VALUE=DATE:20260504
DTEND;VALUE=DATE:20260509
DESCRIPTION:
LOCATION:
SUMMARY:National Teacher Appreciation Week
END:VEVENT
BEGIN:VEVENT
DTSTAMP:20260425T102633Z
UID:759efc3e-396f-463e-b7a8-f0e6b28636b9
DTSTART:20260504T080000
DTEND:20260508T090000
DESCRIPTION:
LOCATION:
SUMMARY:TEACHER APPRECIATION WEEK
END:VEVENT
BEGIN:VEVENT
DTSTAMP:20260425T102633Z
UID:4b5799e6-38a2-49d3-ac24-9a8174b1eeff
DTSTART;VALUE=DATE:20260506
DTEND;VALUE=DATE:20260507
DESCRIPTION:
LOCATION:
SUMMARY:National Nurses Day
END:VEVENT
BEGIN:VEVENT
DTSTAMP:20260425T102633Z
UID:150a9b3b-9612-4733-8ee8-f56efc0720e1
DTSTART:20260506T080000
DTEND:20260506T090000
DESCRIPTION:
LOCATION:
SUMMARY:School nurse Appreciation Day
END:VEVENT
BEGIN:VEVENT
DTSTAMP:20260425T102633Z
UID:65e3d170-4742-4e60-ba8d-38af23cd05e2
DTSTART:20260507T190000
DTEND:20260507T200000
DESCRIPTION:all City concert at Pilgrim with Norwood\, Hoxsie & Sherman
LOCATION:Pilgrim High School\, 111 Pilgrim Pkwy\, Warwick\, RI 02888\, USA
SUMMARY:All City Concert
END:VEVENT
BEGIN:VEVENT
DTSTAMP:20260425T102633Z
UID:aa2f80d3-4a0e-4f28-9e95-a02df3ab53a4
DTSTART;VALUE=DATE:20260510
DTEND;VALUE=DATE:20260511
DESCRIPTION:
LOCATION:
SUMMARY:Mother's Day
END:VEVENT
BEGIN:VEVENT
DTSTAMP:20260425T102633Z
UID:2ad58335-0312-4e0b-bfe6-d7714dd29f04
DTSTART:20260516T093000
DTEND:20260516T113000
DESCRIPTION:
LOCATION:Bend St\, Warwick\, RI 02889\, USA
SUMMARY:WNES PTA Color run
END:VEVENT
BEGIN:VEVENT
DTSTAMP:20260425T102633Z
UID:6077c1bf-5ce8-4a50-b344-4004306e570f
DTSTART:20260520T093000
DTEND:20260520T103000
DESCRIPTION:
LOCATION:
SUMMARY:Kids Day-incoming K students
END:VEVENT
BEGIN:VEVENT
DTSTAMP:20260425T102633Z
UID:9607f174-0fd4-494e-bfbe-522340df0bc1
DTSTART;VALUE=DATE:20260525
DTEND;VALUE=DATE:20260526
DESCRIPTION:
LOCATION:
SUMMARY:Memorial Day - NO SCHOOL
END:VEVENT
BEGIN:VEVENT
DTSTAMP:20260425T102633Z
UID:cd47338c-e8e3-4986-aaf5-57d73ac84c4b
DTSTART:20260528T141500
DTEND:20260528T144500
DESCRIPTION:
LOCATION:
SUMMARY:WNES Staff & student chorus concert
END:VEVENT
BEGIN:VEVENT
DTSTAMP:20260425T102633Z
UID:2abfe13e-3e6b-4bb9-b80a-0e8d1fbae511
DTSTART:20260601T100000
DTEND:20260601T110000
DESCRIPTION:<p>In school assembly</p>
LOCATION:
SUMMARY:PTA Bucket drummers assembly
END:VEVENT
BEGIN:VEVENT
DTSTAMP:20260425T102633Z
UID:2c495cdb-6d60-487d-b311-f171c0526145
DTSTART:20260604T140000
DTEND:20260604T144500
DESCRIPTION:
LOCATION:
SUMMARY:WNS Family concert
END:VEVENT
BEGIN:VEVENT
DTSTAMP:20260425T102633Z
UID:46026177-b02a-49ef-be0e-67f382d8946d
DTSTART:20260605T090000
DTEND:20260605T100000
DESCRIPTION:<p>rain date 6/8</p>
LOCATION:
SUMMARY:WNES All school Field Day
END:VEVENT
BEGIN:VEVENT
DTSTAMP:20260425T102633Z
UID:3a439623-7061-4d89-93ed-0a045348facc
DTSTART:20260610T060000
DTEND:20260610T070000
DESCRIPTION:
LOCATION:
SUMMARY:Hearing screening
END:VEVENT
BEGIN:VEVENT
DTSTAMP:20260425T102633Z
UID:5ff68720-054b-4ae8-9ca1-4a993d225a9b
DTSTART:20260611T093000
DTEND:20260611T143000
DESCRIPTION:
LOCATION:1 Rocky Point Ave\, Warwick\, RI 02889\, USA
SUMMARY:5th grade field day Rocky Point
END:VEVENT
BEGIN:VEVENT
DTSTAMP:20260425T102633Z
UID:6e463c68-c549-47d6-a458-e3546d2a7e09
DTSTART;VALUE=DATE:20260619
DTEND;VALUE=DATE:20260620
DESCRIPTION:
LOCATION:
SUMMARY:Juneteenth - DISTRICT CLOSED
END:VEVENT
BEGIN:VEVENT
DTSTAMP:20260425T102633Z
UID:913dd200-dcd2-47d4-b8fa-bb4b2f93ee5c
DTSTART;VALUE=DATE:20260621
DTEND;VALUE=DATE:20260622
DESCRIPTION:
LOCATION:
SUMMARY:Father's Day
END:VEVENT
BEGIN:VEVENT
DTSTAMP:20260425T102633Z
UID:61204177-8e82-4504-a14b-59350f6914e3
DTSTART:20260831T090000
DTEND:20260831T090000
DESCRIPTION:
LOCATION:
SUMMARY:First day of school!
END:VEVENT
END:VCALENDAR
