BEGIN:VCALENDAR
VERSION:2.0
PRODID:icalendar-ruby
CALSCALE:GREGORIAN
BEGIN:VTIMEZONE
TZID:America/Denver
BEGIN:DAYLIGHT
DTSTART:20260308T030000
TZOFFSETFROM:-0700
TZOFFSETTO:-0600
RRULE:FREQ=YEARLY;BYDAY=2SU;BYMONTH=3
TZNAME:MDT
END:DAYLIGHT
BEGIN:STANDARD
DTSTART:20261101T010000
TZOFFSETFROM:-0600
TZOFFSETTO:-0700
RRULE:FREQ=YEARLY;BYDAY=1SU;BYMONTH=11
TZNAME:MST
END:STANDARD
END:VTIMEZONE
BEGIN:VEVENT
DTSTAMP:20260423T214811Z
UID:370ead35-7e1b-4c8b-9f57-45d5075bcaad
DTSTART;VALUE=DATE:20260424
DTEND;VALUE=DATE:20260425
DESCRIPTION:
LOCATION:
SUMMARY:No Teacher Meetings
END:VEVENT
BEGIN:VEVENT
DTSTAMP:20260423T214811Z
UID:ab2ff0ac-db99-4b55-b682-8c3f498df834
DTSTART:20260501T080000
DTEND:20260501T160000
DESCRIPTION:Teacher Workday
LOCATION:
SUMMARY:Teacher Workday
END:VEVENT
BEGIN:VEVENT
DTSTAMP:20260423T214811Z
UID:89df6344-5cad-4748-a66f-511b7068fd6f
DTSTART:20260507T084500
DTEND:20260507T093000
DESCRIPTION:
LOCATION:
SUMMARY:Lungs (vaping for 5th grade specials)
END:VEVENT
BEGIN:VEVENT
DTSTAMP:20260423T214811Z
UID:ca84dace-a831-49d5-8428-d833efe00bf5
DTSTART;VALUE=DATE:20260508
DTEND;VALUE=DATE:20260509
DESCRIPTION:
LOCATION:
SUMMARY:No Teacher Meetings
END:VEVENT
BEGIN:VEVENT
DTSTAMP:20260423T214811Z
UID:7e23445f-a3b0-49df-b86e-1df87ad12c31
DTSTART;VALUE=DATE:20260512
DTEND;VALUE=DATE:20260513
DESCRIPTION:Contact your individual school for exact times
LOCATION:CRTC
SUMMARY:Graduation CRTC
END:VEVENT
BEGIN:VEVENT
DTSTAMP:20260423T214811Z
UID:6daa9633-67e5-45cd-b0be-e6aad7a0136b
DTSTART;VALUE=DATE:20260514
DTEND;VALUE=DATE:20260515
DESCRIPTION:Contact your individual school for exact times
LOCATION:CHS
SUMMARY:Graduation CHS
END:VEVENT
BEGIN:VEVENT
DTSTAMP:20260423T214811Z
UID:09b29835-a191-4004-805b-60d6214d104d
DTSTART:20260515T080000
DTEND:20260515T160000
DESCRIPTION:Teacher Workday
LOCATION:
SUMMARY:Teacher Workday
END:VEVENT
BEGIN:VEVENT
DTSTAMP:20260423T214811Z
UID:8008c79d-ab4f-49e8-b050-8b215f1b30ab
DTSTART;VALUE=DATE:20260520
DTEND;VALUE=DATE:20260521
DESCRIPTION:Contact your individual school for exact times
LOCATION:RRHS
SUMMARY:Graduation RRHS
END:VEVENT
BEGIN:VEVENT
DTSTAMP:20260423T214811Z
UID:1add0fb9-54ff-45df-acff-2af10a12eab7
DTSTART;VALUE=DATE:20260521
DTEND;VALUE=DATE:20260522
DESCRIPTION:Contact your individual school for exact times
LOCATION:OHS
SUMMARY:Graduation OHS
END:VEVENT
BEGIN:VEVENT
DTSTAMP:20260423T214811Z
UID:50329532-d3ac-46fd-ba40-2b29f7789911
DTSTART;VALUE=DATE:20260522
DTEND;VALUE=DATE:20260523
DESCRIPTION:
LOCATION:
SUMMARY:No Teacher Meetings
END:VEVENT
BEGIN:VEVENT
DTSTAMP:20260423T214811Z
UID:3ba2154a-f6ad-4805-8fc9-087aa7359d17
DTSTART;VALUE=DATE:20260525
DTEND;VALUE=DATE:20260526
DESCRIPTION:Memorial Day
LOCATION:
SUMMARY:Vacation
END:VEVENT
BEGIN:VEVENT
DTSTAMP:20260423T214811Z
UID:1fa461e2-aedd-4b51-9c99-331226882abc
DTSTART;VALUE=DATE:20260526
DTEND;VALUE=DATE:20260527
DESCRIPTION:Contact your individual school for exact times
LOCATION:DHS
SUMMARY:Graduation DHS
END:VEVENT
BEGIN:VEVENT
DTSTAMP:20260423T214811Z
UID:2bda3198-98c7-4e8b-bf81-bac4ee1a7932
DTSTART;VALUE=DATE:20260527
DTEND;VALUE=DATE:20260528
DESCRIPTION:Contact your individual school for exact times
LOCATION:BHS
SUMMARY:Graduation BHS
END:VEVENT
BEGIN:VEVENT
DTSTAMP:20260423T214811Z
UID:0bfa686a-5995-4dfc-9f4c-491c287f3e31
DTSTART;VALUE=DATE:20260528
DTEND;VALUE=DATE:20260529
DESCRIPTION:Last Day of School
LOCATION:
SUMMARY:End of 4th Quarter
END:VEVENT
BEGIN:VEVENT
DTSTAMP:20260423T214811Z
UID:323955bd-9409-4b41-8663-4405f892ea3e
DTSTART:20260528T123000
DTEND:20260528T133000
DESCRIPTION:Last Day of School
LOCATION:
SUMMARY:Early School Release
END:VEVENT
BEGIN:VEVENT
DTSTAMP:20260423T214811Z
UID:baa34012-054b-4026-914e-8ef1d6eabcd4
DTSTART:20260529T080000
DTEND:20260529T160000
DESCRIPTION:Teacher Workday
LOCATION:
SUMMARY:Teacher Workday
END:VEVENT
BEGIN:VEVENT
DTSTAMP:20260423T214811Z
UID:65783819-8a8b-4067-aee2-fc9329c0e194
DTSTART;VALUE=DATE:20260608
DTEND;VALUE=DATE:20260609
DESCRIPTION:
LOCATION:CHS
SUMMARY:Summer School Begins
END:VEVENT
BEGIN:VEVENT
DTSTAMP:20260423T214811Z
UID:aa40b27d-908f-4dca-af84-a6c48e59ed8e
DTSTART;VALUE=DATE:20260703
DTEND;VALUE=DATE:20260704
DESCRIPTION:Independence Day
LOCATION:
SUMMARY:Vacation
END:VEVENT
BEGIN:VEVENT
DTSTAMP:20260423T214811Z
UID:3b27898e-4b04-4731-af93-c3a3c78319e3
DTSTART;VALUE=DATE:20260724
DTEND;VALUE=DATE:20260725
DESCRIPTION:
LOCATION:CHS
SUMMARY:Summer School Ends
END:VEVENT
END:VCALENDAR
