BEGIN:VCALENDAR
VERSION:2.0
PRODID:icalendar-ruby
CALSCALE:GREGORIAN
BEGIN:VTIMEZONE
TZID:America/New_York
BEGIN:DAYLIGHT
DTSTART:20260308T030000
TZOFFSETFROM:-0500
TZOFFSETTO:-0400
RRULE:FREQ=YEARLY;BYDAY=2SU;BYMONTH=3
TZNAME:EDT
END:DAYLIGHT
BEGIN:STANDARD
DTSTART:20261101T010000
TZOFFSETFROM:-0400
TZOFFSETTO:-0500
RRULE:FREQ=YEARLY;BYDAY=1SU;BYMONTH=11
TZNAME:EST
END:STANDARD
END:VTIMEZONE
BEGIN:VEVENT
DTSTAMP:20260420T141535Z
UID:4b1c88a4-de1d-450b-8f40-7c9c83a92013
DTSTART:20260420T150000
DTEND:20260420T180000
DESCRIPTION:
LOCATION:
SUMMARY:Kindergarten Registration Help at Elementary Schools 
END:VEVENT
BEGIN:VEVENT
DTSTAMP:20260420T141535Z
UID:01e48526-d698-41d2-aacb-3c79533e1806
DTSTART:20260420T190000
DTEND:20260420T200000
DESCRIPTION:
LOCATION:18818 Asheville Hwy\, Campobello\, SC 29322\, USA
SUMMARY:Board Meeting at Landrum High School 
END:VEVENT
BEGIN:VEVENT
DTSTAMP:20260420T141535Z
UID:8d114635-1747-4df1-8ed5-ab739115842a
DTSTART;VALUE=DATE:20260421
DTEND;VALUE=DATE:20260422
DESCRIPTION:
LOCATION:
SUMMARY:Progress Reports
END:VEVENT
BEGIN:VEVENT
DTSTAMP:20260420T141535Z
UID:93d79350-a133-4fb1-8d82-42a923737245
DTSTART:20260511T190000
DTEND:20260511T200000
DESCRIPTION:
LOCATION:121 Wheeler St\, Campobello\, SC 29322\, USA
SUMMARY:Board Meeting 
END:VEVENT
BEGIN:VEVENT
DTSTAMP:20260420T141535Z
UID:9d5608be-a298-477f-a7e8-0d41138baf04
DTSTART:20260514T190000
DTEND:20260514T200000
DESCRIPTION:
LOCATION:1420 Compton Bridge Rd\, Inman\, SC 29349\, USA
SUMMARY:Chapman High School Graduation 
END:VEVENT
BEGIN:VEVENT
DTSTAMP:20260420T141535Z
UID:bff4cda1-6a68-400c-a2e7-1d47ed28e6a0
DTSTART:20260521T190000
DTEND:20260521T200000
DESCRIPTION:
LOCATION:18818 Asheville Hwy\, Campobello\, SC 29322\, USA
SUMMARY:Landrum High School Graduation 
END:VEVENT
BEGIN:VEVENT
DTSTAMP:20260420T141535Z
UID:ec4ca654-ae09-48d5-982a-f737935d640d
DTSTART;VALUE=DATE:20260522
DTEND;VALUE=DATE:20260523
DESCRIPTION:
LOCATION:
SUMMARY:Last Student Day\, Half Day\, and Report Cards 
END:VEVENT
BEGIN:VEVENT
DTSTAMP:20260420T141535Z
UID:a34ca3f5-f9f8-4d67-9395-4dc3a6dd72d3
DTSTART;VALUE=DATE:20260525
DTEND;VALUE=DATE:20260526
DESCRIPTION:
LOCATION:
SUMMARY:Memorial Day Holiday 
END:VEVENT
BEGIN:VEVENT
DTSTAMP:20260420T141535Z
UID:1e5da569-7149-4c35-99b7-8ed5d720fb0c
DTSTART;VALUE=DATE:20260526
DTEND;VALUE=DATE:20260527
DESCRIPTION:
LOCATION:
SUMMARY:Staff Development Day
END:VEVENT
END:VCALENDAR
