BEGIN:VCALENDAR
VERSION:2.0
PRODID:icalendar-ruby
CALSCALE:GREGORIAN
BEGIN:VTIMEZONE
TZID:America/Indiana/Indianapolis
BEGIN:DAYLIGHT
DTSTART:20260308T030000
TZOFFSETFROM:-0500
TZOFFSETTO:-0400
RRULE:FREQ=YEARLY;BYDAY=2SU;BYMONTH=3
TZNAME:EDT
END:DAYLIGHT
BEGIN:STANDARD
DTSTART:20261101T010000
TZOFFSETFROM:-0400
TZOFFSETTO:-0500
RRULE:FREQ=YEARLY;BYDAY=1SU;BYMONTH=11
TZNAME:EST
END:STANDARD
END:VTIMEZONE
BEGIN:VEVENT
DTSTAMP:20260424T082539Z
UID:a6f61c83-88ba-459f-9fb4-4f13f9d5f3fa
DTSTART:20260420T080000
DTEND:20260424T150000
DESCRIPTION:<p>TCE Scholastic Bookfair takes place this week.  Please look 
 for information through e-mails and your child(s) backpacks.</p>
LOCATION:
SUMMARY:TCE Scholastic Bookfiar
END:VEVENT
BEGIN:VEVENT
DTSTAMP:20260424T082539Z
UID:0d4bb9c5-3f43-40c1-a5be-847f27860db6
DTSTART:20260424T093000
DTEND:20260424T110000
DESCRIPTION:<p>Preschool students and their parents/guardians are invited t
 o Family Friday.  Additional information will be coming home about this fu
 n event.</p>
LOCATION:Tri-Central Elementary Cafeteria
SUMMARY:Pre-School Family Friday
END:VEVENT
BEGIN:VEVENT
DTSTAMP:20260424T082539Z
UID:2ee416a2-9948-4c87-b3e1-ad43fccd1725
DTSTART:20260501T070000
DTEND:20260501T080000
DESCRIPTION:<p>Please join us for our annual event - Mornings with Mom.  Do
 nuts and drinks will be available in our cafeteria.  This event ends at 8:
 00 AM.</p>
LOCATION:2115 W 500 N\, Sharpsville\, IN 46068\, USA
SUMMARY:TCE PTO Mornings w/Mom
END:VEVENT
BEGIN:VEVENT
DTSTAMP:20260424T082539Z
UID:457268c8-597c-4c5f-ae32-7dfb549c6d1e
DTSTART:20260501T131500
DTEND:20260501T143000
DESCRIPTION:<p>Our high school assistant principal\, Mrs. Jill Reehling\, w
 ill be speaking to our current 5th grade students about next school year a
 s they enter Tri-Central Middle School.</p>
LOCATION:
SUMMARY:Fifth Grade Orientation to Sixth Grade
END:VEVENT
BEGIN:VEVENT
DTSTAMP:20260424T082539Z
UID:e1857b14-88e2-412f-8500-70de8eb0b88c
DTSTART:20260505T150000
DTEND:20260505T170000
DESCRIPTION:<p>2026 Spring Art Camp for students K - 5.  There will be 2 ca
 mps available\; May 5 - 7\, and May 12 - 14.  Art Camp will be held in the
  elementary art room.  The cost is $40.  Please contact Mrs. Sayers at asa
 yers@tccs.k12.in.us.</p>
LOCATION:
SUMMARY:Spring Art Camp
END:VEVENT
BEGIN:VEVENT
DTSTAMP:20260424T082539Z
UID:58030dfd-3a31-4c9e-bbdf-be76c6398467
DTSTART:20260507T120000
DTEND:20260507T140000
DESCRIPTION:<p>TCE 5th grade students will be celebrating their DARE accomp
 lishments during lunch today.</p>
LOCATION:TCE Elementary cafeteria
SUMMARY:DARE - 5th grade students
END:VEVENT
BEGIN:VEVENT
DTSTAMP:20260424T082539Z
UID:8fe84618-a3ed-4061-b51b-5167dabeb3fa
DTSTART;VALUE=DATE:20260512
DTEND;VALUE=DATE:20260513
DESCRIPTION:<p>All students who have earned 10 points in Accelerated Readin
 g get to enjoy ice cream as their reward.</p>
LOCATION:N 200 W\, Sharpsville\, IN 46068\, USA
SUMMARY:Accelerated Reading Ice Cream reward
END:VEVENT
BEGIN:VEVENT
DTSTAMP:20260424T082539Z
UID:34eced29-d79d-44b9-ab5c-dd23413518d9
DTSTART;VALUE=DATE:20260514
DTEND;VALUE=DATE:20260515
DESCRIPTION:<p>Preschool students and their parents/guardians are invited t
 o a year-end picnic.  More information will be coming.</p>
LOCATION:N 200 W\, Sharpsville\, IN 46068\, USA
SUMMARY:Pre-School Family Picnic
END:VEVENT
BEGIN:VEVENT
DTSTAMP:20260424T082539Z
UID:22ec4ce7-e4e9-4c34-a5c4-a83416197122
DTSTART;VALUE=DATE:20260519
DTEND;VALUE=DATE:20260520
DESCRIPTION:<p></p>
LOCATION:
SUMMARY:TCE Field Day
END:VEVENT
BEGIN:VEVENT
DTSTAMP:20260424T082539Z
UID:8fd4ee96-4742-4aab-9471-d8586458d5ef
DTSTART;VALUE=DATE:20260521
DTEND;VALUE=DATE:20260522
DESCRIPTION:
LOCATION:
SUMMARY:Students Last Day
END:VEVENT
BEGIN:VEVENT
DTSTAMP:20260424T082539Z
UID:a9f017de-c8a7-4891-aa8f-48673d1a8dc1
DTSTART;VALUE=DATE:20260521
DTEND;VALUE=DATE:20260522
DESCRIPTION:
LOCATION:
SUMMARY:TCE Field Day (rain date)
END:VEVENT
BEGIN:VEVENT
DTSTAMP:20260424T082539Z
UID:5217f58b-096a-4c00-8794-056f5a02bc2b
DTSTART:20260522T080000
DTEND:20260522T090000
DESCRIPTION:
LOCATION:
SUMMARY:Teacher Work Day
END:VEVENT
BEGIN:VEVENT
DTSTAMP:20260424T082539Z
UID:610349e4-4969-434a-81c8-504f848c4594
DTSTART:20260523T080000
DTEND:20260523T090000
DESCRIPTION:
LOCATION:
SUMMARY:Graduation
END:VEVENT
END:VCALENDAR
