BEGIN:VCALENDAR
VERSION:2.0
PRODID:icalendar-ruby
CALSCALE:GREGORIAN
BEGIN:VTIMEZONE
TZID:America/New_York
BEGIN:DAYLIGHT
DTSTART:20260308T030000
TZOFFSETFROM:-0500
TZOFFSETTO:-0400
RRULE:FREQ=YEARLY;BYDAY=2SU;BYMONTH=3
TZNAME:EDT
END:DAYLIGHT
BEGIN:STANDARD
DTSTART:20261101T010000
TZOFFSETFROM:-0400
TZOFFSETTO:-0500
RRULE:FREQ=YEARLY;BYDAY=1SU;BYMONTH=11
TZNAME:EST
END:STANDARD
END:VTIMEZONE
BEGIN:VEVENT
DTSTAMP:20260423T132217Z
UID:49af5633-3681-4c69-bff6-755a1de16276
DTSTART;VALUE=DATE:20260501
DTEND;VALUE=DATE:20260502
DESCRIPTION:
LOCATION:
SUMMARY:Oaks Day - No School
END:VEVENT
BEGIN:VEVENT
DTSTAMP:20260423T132217Z
UID:719d9b30-3254-46a1-ae25-2b325cbf1f54
DTSTART;VALUE=DATE:20260519
DTEND;VALUE=DATE:20260520
DESCRIPTION:
LOCATION:
SUMMARY:Professional Learning Day - No School for students
END:VEVENT
BEGIN:VEVENT
DTSTAMP:20260423T132217Z
UID:0ee71523-cd43-4d79-9545-c17eff7004b9
DTSTART;VALUE=DATE:20260528
DTEND;VALUE=DATE:20260529
DESCRIPTION:<p>Enjoy your summer break\, and we will see you in the fall!</
 p>
LOCATION:
SUMMARY:Last Day of School!!
END:VEVENT
BEGIN:VEVENT
DTSTAMP:20260423T132217Z
UID:9e82a2f6-9fcd-4b90-94c1-185ba5982af4
DTSTART;VALUE=DATE:20260529
DTEND;VALUE=DATE:20260530
DESCRIPTION:
LOCATION:
SUMMARY:Closing Day for Staff
END:VEVENT
BEGIN:VEVENT
DTSTAMP:20260423T132217Z
UID:c5914fff-a305-440f-abfd-0c6df6919e22
DTSTART;VALUE=DATE:20260601
DTEND;VALUE=DATE:20260602
DESCRIPTION:
LOCATION:
SUMMARY:Professional Learning Day - No School for students
END:VEVENT
END:VCALENDAR
