BEGIN:VCALENDAR
VERSION:2.0
PRODID:icalendar-ruby
CALSCALE:GREGORIAN
BEGIN:VTIMEZONE
TZID:America/New_York
BEGIN:DAYLIGHT
DTSTART:20260308T030000
TZOFFSETFROM:-0500
TZOFFSETTO:-0400
RRULE:FREQ=YEARLY;BYDAY=2SU;BYMONTH=3
TZNAME:EDT
END:DAYLIGHT
BEGIN:STANDARD
DTSTART:20261101T010000
TZOFFSETFROM:-0400
TZOFFSETTO:-0500
RRULE:FREQ=YEARLY;BYDAY=1SU;BYMONTH=11
TZNAME:EST
END:STANDARD
END:VTIMEZONE
BEGIN:VEVENT
DTSTAMP:20260423T142541Z
UID:3f808128-dab0-4299-bc67-776eb6687271
DTSTART:20260501T084000
DTEND:20260501T155000
DESCRIPTION:
LOCATION:
SUMMARY:Oakes Day-No School
END:VEVENT
BEGIN:VEVENT
DTSTAMP:20260423T142541Z
UID:2af69036-bd3e-4c4a-bc4c-fbd62d1069e4
DTSTART:20260506T193000
DTEND:20260506T203000
DESCRIPTION:<p>Conference Room</p>
LOCATION:1430 Brooks Hill Rd\, Brooks\, KY 40109\, USA
SUMMARY:PTO Meeting
END:VEVENT
BEGIN:VEVENT
DTSTAMP:20260423T142541Z
UID:11a4d528-0453-4e21-aad7-8c4b106067e6
DTSTART:20260514T163000
DTEND:20260514T173000
DESCRIPTION:<p>Conference Room</p>
LOCATION:1430 Brooks Hill Rd\, Brooks\, KY 40109\, USA
SUMMARY:SBDM Meeting
END:VEVENT
BEGIN:VEVENT
DTSTAMP:20260423T142541Z
UID:ac408eef-2edd-4f6b-a385-cb07faf668a7
DTSTART:20260519T084000
DTEND:20260519T155000
DESCRIPTION:
LOCATION:
SUMMARY:Professional Development-No School
END:VEVENT
BEGIN:VEVENT
DTSTAMP:20260423T142541Z
UID:1008df9a-faa3-4d0f-93f3-8844cb5120c6
DTSTART:20260520T093000
DTEND:20260520T150000
DESCRIPTION:<p>***This date is subject to change due to snow days or other 
 calendar interruptions.***</p><p>Stellar Stallions 9:30-10</p><p>Infinity 
 Squad 10-10:30</p><p>Lunar Legends 10:30-11</p><p>Star Gazers 1-1:30</p><p
 >Shooting Starts 2:30-3</p>
LOCATION:1430 Brooks Hill Rd\, Brooks\, KY 40109\, USA
SUMMARY:Shindig
END:VEVENT
BEGIN:VEVENT
DTSTAMP:20260423T142541Z
UID:a47c8bff-f8a3-4c93-91be-8bbe451c8a31
DTSTART:20260522T084000
DTEND:20260522T155000
DESCRIPTION:
LOCATION:
SUMMARY:Field Day
END:VEVENT
BEGIN:VEVENT
DTSTAMP:20260423T142541Z
UID:76908c4d-0271-4f77-a6df-ff50831972b0
DTSTART:20260522T084000
DTEND:20260522T155000
DESCRIPTION:
LOCATION:
SUMMARY:Last Day for Students
END:VEVENT
END:VCALENDAR
