BEGIN:VCALENDAR
VERSION:2.0
PRODID:icalendar-ruby
CALSCALE:GREGORIAN
BEGIN:VTIMEZONE
TZID:America/New_York
BEGIN:DAYLIGHT
DTSTART:20260308T030000
TZOFFSETFROM:-0500
TZOFFSETTO:-0400
RRULE:FREQ=YEARLY;BYDAY=2SU;BYMONTH=3
TZNAME:EDT
END:DAYLIGHT
BEGIN:STANDARD
DTSTART:20261101T010000
TZOFFSETFROM:-0400
TZOFFSETTO:-0500
RRULE:FREQ=YEARLY;BYDAY=1SU;BYMONTH=11
TZNAME:EST
END:STANDARD
END:VTIMEZONE
BEGIN:VEVENT
DTSTAMP:20260423T131743Z
UID:5a08fafe-c636-492f-97eb-250ca5868461
DTSTART;VALUE=DATE:20260424
DTEND;VALUE=DATE:20260425
DESCRIPTION:
LOCATION:
SUMMARY:Big Smiles Dental Program
END:VEVENT
BEGIN:VEVENT
DTSTAMP:20260423T131743Z
UID:eb591d51-4e41-4f94-b2ab-c131a8558c84
DTSTART;VALUE=DATE:20260424
DTEND;VALUE=DATE:20260425
DESCRIPTION:
LOCATION:
SUMMARY:STLP at State
END:VEVENT
BEGIN:VEVENT
DTSTAMP:20260423T131743Z
UID:c063e2de-d493-4894-97f1-d56711078a3c
DTSTART;VALUE=DATE:20260428
DTEND;VALUE=DATE:20260429
DESCRIPTION:
LOCATION:
SUMMARY:Big Smiles Dental Program day 2
END:VEVENT
BEGIN:VEVENT
DTSTAMP:20260423T131743Z
UID:1ad725f5-4011-47f7-a457-fac9bd75014b
DTSTART;VALUE=DATE:20260428
DTEND;VALUE=DATE:20260429
DESCRIPTION:
LOCATION:
SUMMARY:Bus Driver appreciation day
END:VEVENT
BEGIN:VEVENT
DTSTAMP:20260423T131743Z
UID:acc32d02-1d16-4c56-92a3-65e199418134
DTSTART:20260428T093000
DTEND:20260428T140000
DESCRIPTION:
LOCATION:
SUMMARY:Zoo Field trip: 2nd\, 4th\, MSD
END:VEVENT
BEGIN:VEVENT
DTSTAMP:20260423T131743Z
UID:e752632c-cb8e-4b65-8dd2-a03915e99fd0
DTSTART:20260428T160000
DTEND:20260428T170000
DESCRIPTION:
LOCATION:
SUMMARY:SBDM Mtg
END:VEVENT
BEGIN:VEVENT
DTSTAMP:20260423T131743Z
UID:147e14ae-3e1f-42af-b24a-47aa12bf72b8
DTSTART:20260430T114500
DTEND:20260430T151500
DESCRIPTION:
LOCATION:
SUMMARY:iReady Celebration - Foam Party
END:VEVENT
BEGIN:VEVENT
DTSTAMP:20260423T131743Z
UID:f2c7bd72-c962-475c-a33c-cf8db523c946
DTSTART;VALUE=DATE:20260504
DTEND;VALUE=DATE:20260505
DESCRIPTION:
LOCATION:
SUMMARY:Snacks - PTA
END:VEVENT
BEGIN:VEVENT
DTSTAMP:20260423T131743Z
UID:91bab7ff-868b-4dd4-860c-9f5c5fe15698
DTSTART;VALUE=DATE:20260505
DTEND;VALUE=DATE:20260506
DESCRIPTION:
LOCATION:
SUMMARY:Breakfast to go-PTA
END:VEVENT
BEGIN:VEVENT
DTSTAMP:20260423T131743Z
UID:60fc0e5f-13a3-4493-8c4a-3c54d2307fde
DTSTART;VALUE=DATE:20260505
DTEND;VALUE=DATE:20260506
DESCRIPTION:
LOCATION:
SUMMARY:Lunch from Little Flock
END:VEVENT
BEGIN:VEVENT
DTSTAMP:20260423T131743Z
UID:5ad943e6-d69b-47c4-a159-ae3fcd6b61ee
DTSTART;VALUE=DATE:20260506
DTEND;VALUE=DATE:20260507
DESCRIPTION:
LOCATION:
SUMMARY:Potato Bar Lunch-PTA
END:VEVENT
BEGIN:VEVENT
DTSTAMP:20260423T131743Z
UID:f73f5b9e-9b6d-4e03-807f-755672c33748
DTSTART:20260506T093000
DTEND:20260506T100000
DESCRIPTION:
LOCATION:
SUMMARY:KSA Draft Pick
END:VEVENT
BEGIN:VEVENT
DTSTAMP:20260423T131743Z
UID:eaf34b5a-8bf1-4a74-b308-28fbf68c8235
DTSTART;VALUE=DATE:20260507
DTEND;VALUE=DATE:20260508
DESCRIPTION:
LOCATION:
SUMMARY:Jamie at LTM
END:VEVENT
BEGIN:VEVENT
DTSTAMP:20260423T131743Z
UID:dbcde78e-03f5-441b-be28-5960f1f5bd49
DTSTART;VALUE=DATE:20260507
DTEND;VALUE=DATE:20260508
DESCRIPTION:
LOCATION:
SUMMARY:Papa John's Pizza
END:VEVENT
BEGIN:VEVENT
DTSTAMP:20260423T131743Z
UID:dc5eb7dc-4b9c-4b85-87c9-0c2d85651ec7
DTSTART;VALUE=DATE:20260508
DTEND;VALUE=DATE:20260509
DESCRIPTION:
LOCATION:
SUMMARY:Taco Bar lunch
END:VEVENT
BEGIN:VEVENT
DTSTAMP:20260423T131743Z
UID:edc3e2f0-6338-4a8c-bc20-c8d4d31d516c
DTSTART:20260508T140000
DTEND:20260508T150000
DESCRIPTION:
LOCATION:
SUMMARY:KSA Staff vs Students Basketball Game
END:VEVENT
BEGIN:VEVENT
DTSTAMP:20260423T131743Z
UID:ac6bc9cb-1002-45b4-ba66-d4573cba5ebc
DTSTART;VALUE=DATE:20260511
DTEND;VALUE=DATE:20260516
DESCRIPTION:
LOCATION:
SUMMARY:KSA testing
END:VEVENT
BEGIN:VEVENT
DTSTAMP:20260423T131743Z
UID:e00f9d5a-c9b8-41a8-b4a1-15d2c08c885d
DTSTART:20260513T123000
DTEND:20260513T133000
DESCRIPTION:
LOCATION:Maryville Elementary School\, 4504 Summers Dr.\, Louisville\, KY 4
 0229
SUMMARY:MES/OES FRC Advisory Council Mtg
END:VEVENT
BEGIN:VEVENT
DTSTAMP:20260423T131743Z
UID:161a8b6a-1eea-46cf-81aa-bb0cc7797f44
DTSTART:20260519T160000
DTEND:20260519T170000
DESCRIPTION:
LOCATION:
SUMMARY:SBDM Mtg
END:VEVENT
BEGIN:VEVENT
DTSTAMP:20260423T131743Z
UID:1faa9da5-2810-41be-82f0-9834f815db4e
DTSTART;VALUE=DATE:20260522
DTEND;VALUE=DATE:20260523
DESCRIPTION:
LOCATION:
SUMMARY:Field Day
END:VEVENT
BEGIN:VEVENT
DTSTAMP:20260423T131743Z
UID:cd3f09d4-8d9c-4d29-b72a-f619affe71e3
DTSTART;VALUE=DATE:20260526
DTEND;VALUE=DATE:20260527
DESCRIPTION:
LOCATION:
SUMMARY:5th Grade Hangout
END:VEVENT
BEGIN:VEVENT
DTSTAMP:20260423T131743Z
UID:ada11e24-b496-4689-8833-d5c4d7715495
DTSTART:20260526T133000
DTEND:20260526T143000
DESCRIPTION:
LOCATION:
SUMMARY:5th Grade Silent Disco
END:VEVENT
BEGIN:VEVENT
DTSTAMP:20260423T131743Z
UID:92f0ccb0-18a7-47ba-badf-7ec17d0c0020
DTSTART;VALUE=DATE:20260727
DTEND;VALUE=DATE:20260730
DESCRIPTION:
LOCATION:
SUMMARY:Kindergarten Camp
END:VEVENT
BEGIN:VEVENT
DTSTAMP:20260423T131743Z
UID:e62c29db-b34e-4b00-82dc-20404866ff10
DTSTART;VALUE=DATE:20260804
DTEND;VALUE=DATE:20260805
DESCRIPTION:
LOCATION:
SUMMARY:Kindergarten Kickoff
END:VEVENT
END:VCALENDAR
