BEGIN:VCALENDAR
VERSION:2.0
PRODID:icalendar-ruby
CALSCALE:GREGORIAN
BEGIN:VTIMEZONE
TZID:America/New_York
BEGIN:DAYLIGHT
DTSTART:20260308T030000
TZOFFSETFROM:-0500
TZOFFSETTO:-0400
RRULE:FREQ=YEARLY;BYDAY=2SU;BYMONTH=3
TZNAME:EDT
END:DAYLIGHT
BEGIN:STANDARD
DTSTART:20261101T010000
TZOFFSETFROM:-0400
TZOFFSETTO:-0500
RRULE:FREQ=YEARLY;BYDAY=1SU;BYMONTH=11
TZNAME:EST
END:STANDARD
END:VTIMEZONE
BEGIN:VEVENT
DTSTAMP:20260423T214945Z
UID:71f32447-1ba5-4566-b64d-7fe47533a64e
DTSTART:20260501T080000
DTEND:20260501T150000
DESCRIPTION:
LOCATION:
SUMMARY:No School
END:VEVENT
BEGIN:VEVENT
DTSTAMP:20260423T214945Z
UID:349770b8-5036-4c9c-aadb-afd06d9e7896
DTSTART:20260519T080000
DTEND:20260519T150000
DESCRIPTION:
LOCATION:
SUMMARY:Professional Development- No School
END:VEVENT
BEGIN:VEVENT
DTSTAMP:20260423T214945Z
UID:690c85db-9380-4a6e-8b2c-2cfd90574084
DTSTART:20260522T080000
DTEND:20260522T150000
DESCRIPTION:
LOCATION:
SUMMARY:Last day for Students
END:VEVENT
BEGIN:VEVENT
DTSTAMP:20260423T214945Z
UID:fcd64492-3113-413f-9d84-e746aeb05762
DTSTART:20260525T080000
DTEND:20260525T090000
DESCRIPTION:
LOCATION:
SUMMARY:No School
END:VEVENT
BEGIN:VEVENT
DTSTAMP:20260423T214945Z
UID:174730dd-0eb2-4050-8ea9-89330ecb3704
DTSTART:20260526T080000
DTEND:20260526T150000
DESCRIPTION:
LOCATION:
SUMMARY:Closing Day for teachers
END:VEVENT
END:VCALENDAR
