BEGIN:VCALENDAR
VERSION:2.0
PRODID:icalendar-ruby
CALSCALE:GREGORIAN
BEGIN:VTIMEZONE
TZID:America/New_York
BEGIN:DAYLIGHT
DTSTART:20260308T030000
TZOFFSETFROM:-0500
TZOFFSETTO:-0400
RRULE:FREQ=YEARLY;BYDAY=2SU;BYMONTH=3
TZNAME:EDT
END:DAYLIGHT
BEGIN:STANDARD
DTSTART:20261101T010000
TZOFFSETFROM:-0400
TZOFFSETTO:-0500
RRULE:FREQ=YEARLY;BYDAY=1SU;BYMONTH=11
TZNAME:EST
END:STANDARD
END:VTIMEZONE
BEGIN:VEVENT
DTSTAMP:20260425T034550Z
UID:5007f933-ec87-401d-96f2-b7cebcd5eb6f
DTSTART:20260424T150000
DTEND:20260425T210000
DESCRIPTION:
LOCATION:
SUMMARY:Archery Tournament 
END:VEVENT
BEGIN:VEVENT
DTSTAMP:20260425T034550Z
UID:f48f1c32-3e6e-4331-ab00-38ad9c38f693
DTSTART:20260424T183000
DTEND:20260424T200000
DESCRIPTION:
LOCATION:
SUMMARY:Baseball practice 
END:VEVENT
BEGIN:VEVENT
DTSTAMP:20260425T034550Z
UID:7d03b788-0d39-4f9e-9ad3-9599aa159a55
DTSTART:20260426T153000
DTEND:20260426T163000
DESCRIPTION:
LOCATION:
SUMMARY:Basketball 
END:VEVENT
BEGIN:VEVENT
DTSTAMP:20260425T034550Z
UID:eb7062e3-4aed-46d5-8623-11e0857f7995
DTSTART:20260428T170000
DTEND:20260428T190000
DESCRIPTION:
LOCATION:
SUMMARY:Girls BBall Open Gym
END:VEVENT
BEGIN:VEVENT
DTSTAMP:20260425T034550Z
UID:60767c05-a602-4c31-8737-39346cf53ee4
DTSTART:20260428T190000
DTEND:20260428T210000
DESCRIPTION:
LOCATION:
SUMMARY:Archery Practice 
END:VEVENT
BEGIN:VEVENT
DTSTAMP:20260425T034550Z
UID:76792ab8-7ee0-4d6f-a40e-1152b5765a46
DTSTART:20260429T170000
DTEND:20260429T190000
DESCRIPTION:
LOCATION:
SUMMARY:East Elite Practice
END:VEVENT
BEGIN:VEVENT
DTSTAMP:20260425T034550Z
UID:1c41166d-3dc4-4c95-9e9c-fa721973e39f
DTSTART:20260429T180000
DTEND:20260429T200000
DESCRIPTION:
LOCATION:
SUMMARY:Charger Softball Practice on Field
END:VEVENT
BEGIN:VEVENT
DTSTAMP:20260425T034550Z
UID:bd47486c-1161-45e0-88be-bd7e20ad2ee5
DTSTART:20260430T150000
DTEND:20260430T170000
DESCRIPTION:
LOCATION:
SUMMARY:Drama Club Dance
END:VEVENT
BEGIN:VEVENT
DTSTAMP:20260425T034550Z
UID:a3edb9de-8391-402e-9e95-00e951e325b7
DTSTART:20260430T190000
DTEND:20260430T210000
DESCRIPTION:
LOCATION:
SUMMARY:Archery Practice 
END:VEVENT
BEGIN:VEVENT
DTSTAMP:20260425T034550Z
UID:3160b3ed-0d67-48da-b6ba-d841ab77d377
DTSTART:20260501T080000
DTEND:20260504T210000
DESCRIPTION:
LOCATION:
SUMMARY:Maintenance GYM Floors 
END:VEVENT
BEGIN:VEVENT
DTSTAMP:20260425T034550Z
UID:49203b40-db37-45ed-895e-b6494e486be4
DTSTART:20260505T170000
DTEND:20260505T190000
DESCRIPTION:
LOCATION:
SUMMARY:Girls BBall Open Gym
END:VEVENT
BEGIN:VEVENT
DTSTAMP:20260425T034550Z
UID:e1f05daf-27c8-44f2-bf13-05b4aeadf615
DTSTART:20260505T170000
DTEND:20260505T190000
DESCRIPTION:
LOCATION:
SUMMARY:Softball Practice 
END:VEVENT
BEGIN:VEVENT
DTSTAMP:20260425T034550Z
UID:90486dd9-d4f0-4ce1-b5f0-0b37910fb715
DTSTART:20260505T190000
DTEND:20260505T210000
DESCRIPTION:
LOCATION:
SUMMARY:Archery Practice 
END:VEVENT
BEGIN:VEVENT
DTSTAMP:20260425T034550Z
UID:9fb52985-e123-499d-94c9-8c6b00b54343
DTSTART:20260506T180000
DTEND:20260506T200000
DESCRIPTION:
LOCATION:
SUMMARY:Charger Softball Practice on Field
END:VEVENT
BEGIN:VEVENT
DTSTAMP:20260425T034550Z
UID:d0bfd17c-0241-48d0-ad65-ab4ed8b0bc06
DTSTART:20260507T190000
DTEND:20260507T210000
DESCRIPTION:
LOCATION:
SUMMARY:Archery Practice 
END:VEVENT
BEGIN:VEVENT
DTSTAMP:20260425T034550Z
UID:b3900f01-72dd-45e0-a19d-e9a0e14c80a9
DTSTART:20260508T153000
DTEND:20260508T163000
DESCRIPTION:
LOCATION:
SUMMARY:Bike -A-Thon on the Walking Track
END:VEVENT
BEGIN:VEVENT
DTSTAMP:20260425T034550Z
UID:1d55f201-0ea7-482b-a1fa-7806ef913ea3
DTSTART:20260512T150000
DTEND:20260512T170000
DESCRIPTION:
LOCATION:
SUMMARY:BE BASKETBALL OPEN GYM 
END:VEVENT
BEGIN:VEVENT
DTSTAMP:20260425T034550Z
UID:a1f76d75-e1c8-46f5-8346-dce736974f90
DTSTART:20260512T170000
DTEND:20260512T190000
DESCRIPTION:
LOCATION:
SUMMARY:Girls BBall Open Gym
END:VEVENT
BEGIN:VEVENT
DTSTAMP:20260425T034550Z
UID:7c0da3d9-de18-4657-b99f-786b52544b20
DTSTART:20260512T190000
DTEND:20260512T210000
DESCRIPTION:
LOCATION:
SUMMARY:Archery Practice 
END:VEVENT
BEGIN:VEVENT
DTSTAMP:20260425T034550Z
UID:ec217af9-5385-4797-875c-89035aa8a996
DTSTART:20260513T180000
DTEND:20260513T200000
DESCRIPTION:
LOCATION:
SUMMARY:Charger Softball Practice on Field
END:VEVENT
BEGIN:VEVENT
DTSTAMP:20260425T034550Z
UID:970f255b-44f3-4947-9da3-1d86a9e102c2
DTSTART:20260514T150000
DTEND:20260514T173000
DESCRIPTION:
LOCATION:
SUMMARY:BE BASKETBALL OPEN GYM 
END:VEVENT
BEGIN:VEVENT
DTSTAMP:20260425T034550Z
UID:c23b44b0-f24f-4bdc-bdff-4f16ea61511b
DTSTART:20260514T190000
DTEND:20260514T210000
DESCRIPTION:
LOCATION:
SUMMARY:Archery Practice 
END:VEVENT
BEGIN:VEVENT
DTSTAMP:20260425T034550Z
UID:e72cce29-02f9-451f-a7a0-8e57ef9c95d4
DTSTART:20260519T170000
DTEND:20260519T190000
DESCRIPTION:
LOCATION:
SUMMARY:Girls BBall Open Gym
END:VEVENT
BEGIN:VEVENT
DTSTAMP:20260425T034550Z
UID:bd1ad925-f2dd-4f62-ac83-13338b80f65f
DTSTART:20260519T190000
DTEND:20260519T210000
DESCRIPTION:
LOCATION:
SUMMARY:Archery Practice 
END:VEVENT
BEGIN:VEVENT
DTSTAMP:20260425T034550Z
UID:26beb08d-a6e1-4e4a-a425-20493ba7806b
DTSTART:20260520T180000
DTEND:20260520T200000
DESCRIPTION:
LOCATION:
SUMMARY:Charger Softball Practice on Field
END:VEVENT
BEGIN:VEVENT
DTSTAMP:20260425T034550Z
UID:e980f38f-e318-42c8-b5aa-1a7425d7e279
DTSTART:20260521T150000
DTEND:20260521T173000
DESCRIPTION:
LOCATION:
SUMMARY:BE Boys Basketball
END:VEVENT
BEGIN:VEVENT
DTSTAMP:20260425T034550Z
UID:b618b070-3d77-49ee-865f-50ed9071c7bf
DTSTART:20260526T174500
DTEND:20260526T211500
DESCRIPTION:
LOCATION:
SUMMARY:BE Volleyball Open Gym
END:VEVENT
BEGIN:VEVENT
DTSTAMP:20260425T034550Z
UID:1e932d34-09aa-4b05-b19d-c5a03f090548
DTSTART:20260526T190000
DTEND:20260526T210000
DESCRIPTION:
LOCATION:
SUMMARY:Archery Practice 
END:VEVENT
BEGIN:VEVENT
DTSTAMP:20260425T034550Z
UID:3b70219c-2173-475d-86d2-2afec2b5c410
DTSTART:20260527T180000
DTEND:20260527T200000
DESCRIPTION:
LOCATION:
SUMMARY:Charger Softball Practice on Field
END:VEVENT
BEGIN:VEVENT
DTSTAMP:20260425T034550Z
UID:d83f6762-d34c-4392-a051-589ac9b5f28c
DTSTART:20260528T174500
DTEND:20260528T211500
DESCRIPTION:
LOCATION:
SUMMARY:BE Volleyball Open Gym
END:VEVENT
BEGIN:VEVENT
DTSTAMP:20260425T034550Z
UID:88935bc9-976a-47ea-87bd-7c42d0f6ad96
DTSTART:20260528T190000
DTEND:20260528T210000
DESCRIPTION:
LOCATION:
SUMMARY:Archery Practice 
END:VEVENT
BEGIN:VEVENT
DTSTAMP:20260425T034550Z
UID:8de2dbef-6bbe-4b7f-a44f-730ac187272d
DTSTART:20260531T090000
DTEND:20260531T190000
DESCRIPTION:
LOCATION:
SUMMARY:Dance Unlimited and BE Dance Team Showcase
END:VEVENT
BEGIN:VEVENT
DTSTAMP:20260425T034550Z
UID:d028b390-032b-45ed-a7b4-2cd16cca8ae0
DTSTART:20260602T174500
DTEND:20260602T211500
DESCRIPTION:
LOCATION:
SUMMARY:BE Volleyball Open Gym
END:VEVENT
BEGIN:VEVENT
DTSTAMP:20260425T034550Z
UID:f41888ce-e348-4c46-acaa-a0b1942c5b63
DTSTART:20260604T160000
DTEND:20260604T201500
DESCRIPTION:
LOCATION:
SUMMARY:Charger Volleyball Camp
END:VEVENT
BEGIN:VEVENT
DTSTAMP:20260425T034550Z
UID:5052d11f-b693-44fb-88e7-3d2efcab60d1
DTSTART:20260605T160000
DTEND:20260605T201500
DESCRIPTION:
LOCATION:
SUMMARY:Charger Volleyball Camp
END:VEVENT
BEGIN:VEVENT
DTSTAMP:20260425T034550Z
UID:595f6ad3-460c-4453-a44e-516385c6a6d6
DTSTART:20260606T093000
DTEND:20260606T141500
DESCRIPTION:
LOCATION:
SUMMARY:Charger Volleyball Camp
END:VEVENT
BEGIN:VEVENT
DTSTAMP:20260425T034550Z
UID:af44832f-18a4-43f7-b4ab-dea9031f27fb
DTSTART:20260608T160000
DTEND:20260608T203000
DESCRIPTION:
LOCATION:
SUMMARY:MWFCA Meetings 
END:VEVENT
BEGIN:VEVENT
DTSTAMP:20260425T034550Z
UID:99b31b4a-bc95-4e75-b013-6e88eb852c2a
DTSTART:20260609T174500
DTEND:20260609T211500
DESCRIPTION:
LOCATION:
SUMMARY:BE Volleyball Open Gym
END:VEVENT
BEGIN:VEVENT
DTSTAMP:20260425T034550Z
UID:63f6093b-fb6b-4e45-bb6a-1d5d402a7bc6
DTSTART:20260611T174500
DTEND:20260611T211500
DESCRIPTION:
LOCATION:
SUMMARY:BE Volleyball Open Gym
END:VEVENT
BEGIN:VEVENT
DTSTAMP:20260425T034550Z
UID:c009e2d7-d798-49d7-883f-dbfaccb9094c
DTSTART:20260616T174500
DTEND:20260616T211500
DESCRIPTION:
LOCATION:
SUMMARY:BE Volleyball Open Gym
END:VEVENT
BEGIN:VEVENT
DTSTAMP:20260425T034550Z
UID:af807ec9-1fbf-464b-9503-5f3b6265c7ee
DTSTART:20260618T174500
DTEND:20260618T211500
DESCRIPTION:
LOCATION:
SUMMARY:BE Volleyball Open Gym
END:VEVENT
BEGIN:VEVENT
DTSTAMP:20260425T034550Z
UID:0fa0af2f-6546-4818-a37f-3ec830b2decd
DTSTART:20260623T174500
DTEND:20260623T211500
DESCRIPTION:
LOCATION:
SUMMARY:BE Volleyball Open Gym
END:VEVENT
BEGIN:VEVENT
DTSTAMP:20260425T034550Z
UID:f0f05e8a-9211-47a5-b8da-912646de3011
DTSTART:20260713T174500
DTEND:20260713T211500
DESCRIPTION:
LOCATION:
SUMMARY:BE Volleyball Open Gym
END:VEVENT
BEGIN:VEVENT
DTSTAMP:20260425T034550Z
UID:79c3cdc8-ba54-46e2-9467-239202c442b0
DTSTART:20260714T170000
DTEND:20260714T190000
DESCRIPTION:
LOCATION:
SUMMARY:Girls BBall Open Gym
END:VEVENT
BEGIN:VEVENT
DTSTAMP:20260425T034550Z
UID:69b49391-4efc-4180-8edd-831251b4cd8c
DTSTART:20260714T190000
DTEND:20260714T210000
DESCRIPTION:
LOCATION:
SUMMARY:BE Volleyball Open Gym
END:VEVENT
BEGIN:VEVENT
DTSTAMP:20260425T034550Z
UID:fc766b62-d755-491a-b9cd-711d7a41cc01
DTSTART:20260715T093000
DTEND:20260715T160000
DESCRIPTION:
LOCATION:
SUMMARY:BE Volleyball Tryouts 
END:VEVENT
BEGIN:VEVENT
DTSTAMP:20260425T034550Z
UID:f9990069-704e-4b38-b257-b87447d76323
DTSTART:20260716T170000
DTEND:20260716T190000
DESCRIPTION:
LOCATION:
SUMMARY:Girls BBall Open Gym
END:VEVENT
BEGIN:VEVENT
DTSTAMP:20260425T034550Z
UID:f47863a5-9ea0-466a-b9a1-d76bddd4eaf2
DTSTART:20260721T170000
DTEND:20260721T190000
DESCRIPTION:
LOCATION:
SUMMARY:Girls BBall Open Gym
END:VEVENT
BEGIN:VEVENT
DTSTAMP:20260425T034550Z
UID:efe306be-6865-4485-90f9-c0f8387bfe0e
DTSTART:20260723T170000
DTEND:20260723T190000
DESCRIPTION:
LOCATION:
SUMMARY:Girls BBall Open Gym
END:VEVENT
BEGIN:VEVENT
DTSTAMP:20260425T034550Z
UID:be2bb9c4-5e8e-46ba-b07b-970c72843028
DTSTART:20260728T170000
DTEND:20260728T190000
DESCRIPTION:
LOCATION:
SUMMARY:Girls BBall Open Gym
END:VEVENT
BEGIN:VEVENT
DTSTAMP:20260425T034550Z
UID:8396bfba-918a-4fdd-a753-833c43f27530
DTSTART:20260730T170000
DTEND:20260730T190000
DESCRIPTION:
LOCATION:
SUMMARY:Girls BBall Open Gym
END:VEVENT
BEGIN:VEVENT
DTSTAMP:20260425T034550Z
UID:56407235-8478-4a8e-9c7b-efb176580a5d
DTSTART:20260813T170000
DTEND:20260813T190000
DESCRIPTION:
LOCATION:
SUMMARY:Girls BBALL Tryouts 
END:VEVENT
BEGIN:VEVENT
DTSTAMP:20260425T034550Z
UID:adee2176-5c15-41b6-8602-04339b4e30d3
DTSTART:20260814T170000
DTEND:20260814T190000
DESCRIPTION:
LOCATION:
SUMMARY:Girls BBALL Tryouts 
END:VEVENT
END:VCALENDAR
