BEGIN:VCALENDAR
VERSION:2.0
PRODID:icalendar-ruby
CALSCALE:GREGORIAN
BEGIN:VTIMEZONE
TZID:America/New_York
BEGIN:DAYLIGHT
DTSTART:20260308T030000
TZOFFSETFROM:-0500
TZOFFSETTO:-0400
RRULE:FREQ=YEARLY;BYDAY=2SU;BYMONTH=3
TZNAME:EDT
END:DAYLIGHT
BEGIN:STANDARD
DTSTART:20261101T010000
TZOFFSETFROM:-0400
TZOFFSETTO:-0500
RRULE:FREQ=YEARLY;BYDAY=1SU;BYMONTH=11
TZNAME:EST
END:STANDARD
END:VTIMEZONE
BEGIN:VEVENT
DTSTAMP:20260423T131657Z
UID:0a237cfa-d991-43e4-9643-00bcfdd2412b
DTSTART:20260423T094000
DTEND:20260423T104000
DESCRIPTION:
LOCATION:
SUMMARY:Q3 AB Honor Roll Breakfast
END:VEVENT
BEGIN:VEVENT
DTSTAMP:20260423T131657Z
UID:50c8089f-f220-4022-9754-1e7e3c646b1b
DTSTART;VALUE=DATE:20260501
DTEND;VALUE=DATE:20260502
DESCRIPTION:
LOCATION:
SUMMARY:Oaks Day (No School)
END:VEVENT
BEGIN:VEVENT
DTSTAMP:20260423T131657Z
UID:b386ae6e-4443-487b-ab9d-b1121f1dee02
DTSTART;VALUE=DATE:20260519
DTEND;VALUE=DATE:20260520
DESCRIPTION:
LOCATION:
SUMMARY:Professional Development Day (No School)
END:VEVENT
BEGIN:VEVENT
DTSTAMP:20260423T131657Z
UID:a405c2a9-e865-4f90-ab52-ddd154de14d8
DTSTART;VALUE=DATE:20260528
DTEND;VALUE=DATE:20260529
DESCRIPTION:
LOCATION:
SUMMARY:Last Day of School
END:VEVENT
END:VCALENDAR
