BEGIN:VCALENDAR
VERSION:2.0
PRODID:icalendar-ruby
CALSCALE:GREGORIAN
BEGIN:VTIMEZONE
TZID:America/New_York
BEGIN:DAYLIGHT
DTSTART:20260308T030000
TZOFFSETFROM:-0500
TZOFFSETTO:-0400
RRULE:FREQ=YEARLY;BYDAY=2SU;BYMONTH=3
TZNAME:EDT
END:DAYLIGHT
BEGIN:STANDARD
DTSTART:20261101T010000
TZOFFSETFROM:-0400
TZOFFSETTO:-0500
RRULE:FREQ=YEARLY;BYDAY=1SU;BYMONTH=11
TZNAME:EST
END:STANDARD
END:VTIMEZONE
BEGIN:VEVENT
DTSTAMP:20260423T130849Z
UID:74fbfb21-c74e-423c-910b-780f83fcb4da
DTSTART:20260423T160000
DTEND:20260423T170000
DESCRIPTION:
LOCATION:
SUMMARY:Cover to Cover Book Club with Mrs. Kimball
END:VEVENT
BEGIN:VEVENT
DTSTAMP:20260423T130849Z
UID:70f61398-9d0d-4814-8c47-8b0f281ae459
DTSTART:20260424T080000
DTEND:20260424T090000
DESCRIPTION:<p>At Rupp Arena</p>
LOCATION:430 W Vine St\, Lexington\, KY 40507\, USA
SUMMARY:STLP  Kentucky State Championship *TENTATIVE*
END:VEVENT
BEGIN:VEVENT
DTSTAMP:20260423T130849Z
UID:af8c320f-5163-4029-aae3-5da5dc636e4e
DTSTART:20260430T160000
DTEND:20260430T170000
DESCRIPTION:
LOCATION:
SUMMARY:Cover to Cover Book Club with Mrs. Kimball
END:VEVENT
BEGIN:VEVENT
DTSTAMP:20260423T130849Z
UID:ad21d81f-27b0-4c3b-822f-897b2d01e3c3
DTSTART;VALUE=DATE:20260501
DTEND;VALUE=DATE:20260502
DESCRIPTION:
LOCATION:
SUMMARY:Oaks Day No School
END:VEVENT
BEGIN:VEVENT
DTSTAMP:20260423T130849Z
UID:aad5d827-1cca-4130-9290-f0ee38b04da0
DTSTART:20260512T160000
DTEND:20260512T170000
DESCRIPTION:
LOCATION:
SUMMARY:FCA Huddle
END:VEVENT
BEGIN:VEVENT
DTSTAMP:20260423T130849Z
UID:f5779150-815f-4d0f-8cdf-9dcd2eee578c
DTSTART;VALUE=DATE:20260519
DTEND;VALUE=DATE:20260520
DESCRIPTION:
LOCATION:
SUMMARY:PD Day No School
END:VEVENT
BEGIN:VEVENT
DTSTAMP:20260423T130849Z
UID:90fe567a-6b7c-49dd-8642-b1a8335ec666
DTSTART:20260520T130000
DTEND:20260520T150000
DESCRIPTION:
LOCATION:
SUMMARY:Legacy Lives On Event
END:VEVENT
BEGIN:VEVENT
DTSTAMP:20260423T130849Z
UID:2dced11f-8ff1-4e71-bf11-9143b9b2c5d6
DTSTART;VALUE=DATE:20260522
DTEND;VALUE=DATE:20260523
DESCRIPTION:
LOCATION:
SUMMARY:Field Day
END:VEVENT
BEGIN:VEVENT
DTSTAMP:20260423T130849Z
UID:949d976c-e9b1-4ab1-b455-e889dacab97f
DTSTART;VALUE=DATE:20260525
DTEND;VALUE=DATE:20260526
DESCRIPTION:
LOCATION:
SUMMARY:Memorial Day No School
END:VEVENT
BEGIN:VEVENT
DTSTAMP:20260423T130849Z
UID:6fe2f5bf-4bf7-43d7-9607-be157b2bb295
DTSTART;VALUE=DATE:20260526
DTEND;VALUE=DATE:20260527
DESCRIPTION:
LOCATION:
SUMMARY:Field Day (Weather Make-up Day)
END:VEVENT
BEGIN:VEVENT
DTSTAMP:20260423T130849Z
UID:b6c7846b-1518-42fa-b0d0-9d974c3b48d7
DTSTART:20260526T080000
DTEND:20260526T090000
DESCRIPTION:
LOCATION:
SUMMARY:5th Grade Breakfast
END:VEVENT
BEGIN:VEVENT
DTSTAMP:20260423T130849Z
UID:bdec5e00-8ae0-4140-aa34-718a7740ed47
DTSTART:20260527T130000
DTEND:20260527T150000
DESCRIPTION:
LOCATION:
SUMMARY:Foam Party!
END:VEVENT
BEGIN:VEVENT
DTSTAMP:20260423T130849Z
UID:efac49af-11c7-4fe9-ac12-c18d2f8d527a
DTSTART;VALUE=DATE:20260528
DTEND;VALUE=DATE:20260529
DESCRIPTION:
LOCATION:
SUMMARY:Last Day of School!
END:VEVENT
END:VCALENDAR
