BEGIN:VCALENDAR
VERSION:2.0
PRODID:icalendar-ruby
CALSCALE:GREGORIAN
BEGIN:VTIMEZONE
TZID:America/New_York
BEGIN:DAYLIGHT
DTSTART:20260308T030000
TZOFFSETFROM:-0500
TZOFFSETTO:-0400
RRULE:FREQ=YEARLY;BYDAY=2SU;BYMONTH=3
TZNAME:EDT
END:DAYLIGHT
BEGIN:STANDARD
DTSTART:20261101T010000
TZOFFSETFROM:-0400
TZOFFSETTO:-0500
RRULE:FREQ=YEARLY;BYDAY=1SU;BYMONTH=11
TZNAME:EST
END:STANDARD
END:VTIMEZONE
BEGIN:VEVENT
DTSTAMP:20260423T215320Z
UID:6b5821e8-f601-4e70-b946-263d3e142156
DTSTART;VALUE=DATE:20260424
DTEND;VALUE=DATE:20260425
DESCRIPTION:
LOCATION:
SUMMARY:Thunder Over OMES
END:VEVENT
BEGIN:VEVENT
DTSTAMP:20260423T215320Z
UID:b9897929-236d-4b0f-98de-0291b7ae6ccb
DTSTART:20260424T170000
DTEND:20260424T180000
DESCRIPTION:
LOCATION:
SUMMARY:Thunder Over OMES
END:VEVENT
BEGIN:VEVENT
DTSTAMP:20260423T215320Z
UID:9e05dce4-694f-433b-9fbc-7679de2ab68e
DTSTART;VALUE=DATE:20260425
DTEND;VALUE=DATE:20260426
DESCRIPTION:
LOCATION:
SUMMARY:Archery Tournament @ Eastside Middle School
END:VEVENT
BEGIN:VEVENT
DTSTAMP:20260423T215320Z
UID:266aca74-25b7-44c6-aaba-b5da0c23d7c2
DTSTART:20260425T110000
DTEND:20260425T120000
DESCRIPTION:
LOCATION:
SUMMARY:Lily vball Count 1
END:VEVENT
BEGIN:VEVENT
DTSTAMP:20260423T215320Z
UID:b87c1c1d-4534-4364-99e7-80eec33a7fdd
DTSTART:20260428T180000
DTEND:20260428T200000
DESCRIPTION:
LOCATION:
SUMMARY:Kindergarten plays start at 6 PM
END:VEVENT
BEGIN:VEVENT
DTSTAMP:20260423T215320Z
UID:1d01aa42-f3c9-47e1-b2f0-615d3db1cc3c
DTSTART:20260429T160000
DTEND:20260429T173000
DESCRIPTION:
LOCATION:
SUMMARY:Archery Practice
END:VEVENT
BEGIN:VEVENT
DTSTAMP:20260423T215320Z
UID:98e7dc38-8f97-4ef8-8df2-cbcbde95bdf6
DTSTART;VALUE=DATE:20260501
DTEND;VALUE=DATE:20260502
DESCRIPTION:
LOCATION:
SUMMARY:No School-Oaks
END:VEVENT
BEGIN:VEVENT
DTSTAMP:20260423T215320Z
UID:f79dcaef-ce29-4837-839e-18ab4ac31653
DTSTART;VALUE=DATE:20260504
DTEND;VALUE=DATE:20260509
DESCRIPTION:
LOCATION:
SUMMARY:Teacher Appreciation Week
END:VEVENT
BEGIN:VEVENT
DTSTAMP:20260423T215320Z
UID:ff05c88a-c7ce-40ee-96f5-43be39f20ab9
DTSTART:20260504T160000
DTEND:20260504T170000
DESCRIPTION:
LOCATION:
SUMMARY:PTO Meeting
END:VEVENT
BEGIN:VEVENT
DTSTAMP:20260423T215320Z
UID:77116310-d8f4-4ec2-9d49-c5f2fd8b896e
DTSTART:20260506T160000
DTEND:20260506T173000
DESCRIPTION:
LOCATION:
SUMMARY:Archery Practice
END:VEVENT
BEGIN:VEVENT
DTSTAMP:20260423T215320Z
UID:28db8ace-5177-43bf-94ab-5d3b95424585
DTSTART:20260509T110000
DTEND:20260509T120000
DESCRIPTION:
LOCATION:
SUMMARY:Lily vball Court 1
END:VEVENT
BEGIN:VEVENT
DTSTAMP:20260423T215320Z
UID:9836ca7b-e955-4267-a0fb-58b3b73cc5a3
DTSTART:20260513T160000
DTEND:20260513T173000
DESCRIPTION:
LOCATION:
SUMMARY:Archery Practice
END:VEVENT
BEGIN:VEVENT
DTSTAMP:20260423T215320Z
UID:f87d9c40-0f8e-4f84-8e8c-6cf02e2900fc
DTSTART:20260520T160000
DTEND:20260520T173000
DESCRIPTION:
LOCATION:
SUMMARY:Archery Practice
END:VEVENT
BEGIN:VEVENT
DTSTAMP:20260423T215320Z
UID:1e62ee1f-6202-4c73-a421-3e19c2432175
DTSTART:20260523T090000
DTEND:20260523T100000
DESCRIPTION:
LOCATION:
SUMMARY:Lily vball Court 2
END:VEVENT
BEGIN:VEVENT
DTSTAMP:20260423T215320Z
UID:dfe81f1e-f414-40a8-bbec-5a1f85a9839f
DTSTART:20260530T100000
DTEND:20260530T110000
DESCRIPTION:
LOCATION:
SUMMARY:Lily vball Court 2
END:VEVENT
BEGIN:VEVENT
DTSTAMP:20260423T215320Z
UID:37f26ed9-2b8b-4ba5-a358-079463499a76
DTSTART:20260606T090000
DTEND:20260606T100000
DESCRIPTION:
LOCATION:
SUMMARY:Lily vball Court 2
END:VEVENT
BEGIN:VEVENT
DTSTAMP:20260423T215320Z
UID:a61fe1cd-0f8d-434f-b325-e0b7dbb89dc3
DTSTART:20260620T100000
DTEND:20260620T110000
DESCRIPTION:
LOCATION:
SUMMARY:Lily vball Court 2
END:VEVENT
BEGIN:VEVENT
DTSTAMP:20260423T215320Z
UID:209d86a1-a540-46c5-9663-ac7eb957c966
DTSTART:20260627T090000
DTEND:20260627T100000
DESCRIPTION:
LOCATION:
SUMMARY:Lily vball Court 1
END:VEVENT
BEGIN:VEVENT
DTSTAMP:20260423T215320Z
UID:34712019-305b-4aa9-9c3f-3037d6d4a7d5
DTSTART:20260711T090000
DTEND:20260711T120000
DESCRIPTION:
LOCATION:
SUMMARY:Lily vball Tournament
END:VEVENT
END:VCALENDAR
