BEGIN:VCALENDAR
VERSION:2.0
PRODID:icalendar-ruby
CALSCALE:GREGORIAN
BEGIN:VTIMEZONE
TZID:America/Detroit
BEGIN:DAYLIGHT
DTSTART:20260308T030000
TZOFFSETFROM:-0500
TZOFFSETTO:-0400
RRULE:FREQ=YEARLY;BYDAY=2SU;BYMONTH=3
TZNAME:EDT
END:DAYLIGHT
BEGIN:STANDARD
DTSTART:20261101T010000
TZOFFSETFROM:-0400
TZOFFSETTO:-0500
RRULE:FREQ=YEARLY;BYDAY=1SU;BYMONTH=11
TZNAME:EST
END:STANDARD
END:VTIMEZONE
BEGIN:VEVENT
DTSTAMP:20260425T113151Z
UID:2977c2ac-477a-4d70-8a81-a6fb43286736
DTSTART:20260428T190000
DTEND:20260428T203000
DESCRIPTION:
LOCATION:
SUMMARY:7th Grade Band Concert at WHHS
END:VEVENT
BEGIN:VEVENT
DTSTAMP:20260425T113151Z
UID:bdc071bb-d0d7-4c53-804c-85c701faffee
DTSTART:20260430T190000
DTEND:20260430T203000
DESCRIPTION:
LOCATION:
SUMMARY:8th Grade Band Concert at WHHS 
END:VEVENT
BEGIN:VEVENT
DTSTAMP:20260425T113151Z
UID:c8eaa010-0ec3-46cf-a288-7fdf4e4a0c12
DTSTART:20260504T080000
DTEND:20260504T083000
DESCRIPTION:
LOCATION:
SUMMARY:Student of the Quarter
END:VEVENT
BEGIN:VEVENT
DTSTAMP:20260425T113151Z
UID:7c5065da-5bb4-4963-8a43-94410d36ccc8
DTSTART:20260506T074000
DTEND:20260506T121500
DESCRIPTION:
LOCATION:
SUMMARY:Half Day of School-Teacher Professional Development
END:VEVENT
BEGIN:VEVENT
DTSTAMP:20260425T113151Z
UID:60547eb4-d853-4ba2-b03f-ce266080f594
DTSTART;VALUE=DATE:20260525
DTEND;VALUE=DATE:20260526
DESCRIPTION:
LOCATION:
SUMMARY:Bailey Band Marching in Memorial Day Parade
END:VEVENT
BEGIN:VEVENT
DTSTAMP:20260425T113151Z
UID:66bf95c4-10d3-4563-81b3-b11c8c04e5a4
DTSTART;VALUE=DATE:20260525
DTEND;VALUE=DATE:20260526
DESCRIPTION:
LOCATION:
SUMMARY:No School-Memorial Day
END:VEVENT
BEGIN:VEVENT
DTSTAMP:20260425T113151Z
UID:5e35a032-5434-48b5-9c6e-a6898b1d39e4
DTSTART;VALUE=DATE:20260604
DTEND;VALUE=DATE:20260605
DESCRIPTION:
LOCATION:
SUMMARY:Student of the Quarter
END:VEVENT
BEGIN:VEVENT
DTSTAMP:20260425T113151Z
UID:9d623027-f9d1-4e02-b8c8-ff547b3aecf7
DTSTART:20260612T090000
DTEND:20260612T130000
DESCRIPTION:
LOCATION:
SUMMARY:8th Grade Field Day at WHHS
END:VEVENT
BEGIN:VEVENT
DTSTAMP:20260425T113151Z
UID:13219ac1-8e27-4546-baa5-b77fadcba15b
DTSTART:20260615T083000
DTEND:20260615T093000
DESCRIPTION:
LOCATION:
SUMMARY:Team 5 Promotion Ceremony
END:VEVENT
BEGIN:VEVENT
DTSTAMP:20260425T113151Z
UID:47e006a3-6cae-44e0-9c98-716cab86a1ee
DTSTART:20260615T110000
DTEND:20260615T120000
DESCRIPTION:
LOCATION:
SUMMARY:Team 6 Promotion Ceremony
END:VEVENT
BEGIN:VEVENT
DTSTAMP:20260425T113151Z
UID:20090c5f-b0cc-41bb-afae-e579a8efa779
DTSTART:20260615T180000
DTEND:20260615T200000
DESCRIPTION:
LOCATION:
SUMMARY:8th Grade School Dance
END:VEVENT
BEGIN:VEVENT
DTSTAMP:20260425T113151Z
UID:4397ed67-8941-4021-8a52-fc34f6f90176
DTSTART:20260616T083000
DTEND:20260616T093000
DESCRIPTION:
LOCATION:
SUMMARY:Team 7 Promotion Ceremony
END:VEVENT
BEGIN:VEVENT
DTSTAMP:20260425T113151Z
UID:13dc959b-bc14-4719-92a6-4c16de694381
DTSTART:20260616T110000
DTEND:20260616T120000
DESCRIPTION:
LOCATION:
SUMMARY:Team 8 Promotion Ceremony
END:VEVENT
BEGIN:VEVENT
DTSTAMP:20260425T113151Z
UID:27897f4e-6013-42f8-93b2-9764f5fb4b67
DTSTART:20260617T083000
DTEND:20260617T093000
DESCRIPTION:
LOCATION:
SUMMARY:Team 9\, 10 and 11 Promotion Ceremony
END:VEVENT
BEGIN:VEVENT
DTSTAMP:20260425T113151Z
UID:66f93314-3fa5-432d-9672-95b383253a63
DTSTART:20260619T073000
DTEND:20260619T080000
DESCRIPTION:
LOCATION:
SUMMARY:Last Day of School
END:VEVENT
END:VCALENDAR
