BEGIN:VCALENDAR
VERSION:2.0
PRODID:icalendar-ruby
CALSCALE:GREGORIAN
BEGIN:VTIMEZONE
TZID:America/Detroit
BEGIN:DAYLIGHT
DTSTART:20260308T030000
TZOFFSETFROM:-0500
TZOFFSETTO:-0400
RRULE:FREQ=YEARLY;BYDAY=2SU;BYMONTH=3
TZNAME:EDT
END:DAYLIGHT
BEGIN:STANDARD
DTSTART:20261101T010000
TZOFFSETFROM:-0400
TZOFFSETTO:-0500
RRULE:FREQ=YEARLY;BYDAY=1SU;BYMONTH=11
TZNAME:EST
END:STANDARD
END:VTIMEZONE
BEGIN:VEVENT
DTSTAMP:20260424T135603Z
UID:9f18ebcb-e848-4b5a-a707-a47443adbef1
DTSTART;VALUE=DATE:20260424
DTEND;VALUE=DATE:20260425
DESCRIPTION:<html><head><meta http-equiv="Content-Type" content="text/html\
 ; charset=utf-8"></head><body><div class="elementToProof" style="font-fami
 ly:Aptos\,Aptos_EmbeddedFont\,Aptos_MSFontService\,Calibri\,Helvetica\,san
 s-serif\; font-size:12pt\; color:rgb(0\,0\,0)">Wear Blue or Mackrille Spir
 it Wear</div></body></html>
LOCATION:
SUMMARY:School Spirit Day - Donation $1.00
END:VEVENT
BEGIN:VEVENT
DTSTAMP:20260424T135603Z
UID:f1534ed7-9a29-4153-8f8e-629605877661
DTSTART:20260429T180000
DTEND:20260429T193000
DESCRIPTION:
LOCATION:
SUMMARY:PTA Family International Night
END:VEVENT
BEGIN:VEVENT
DTSTAMP:20260424T135603Z
UID:079b8e80-5ba9-4756-85fc-b1d428486407
DTSTART:20260513T190000
DTEND:20260513T193000
DESCRIPTION:
LOCATION:
SUMMARY:PTA Meeting
END:VEVENT
BEGIN:VEVENT
DTSTAMP:20260424T135603Z
UID:e793ff80-978e-4e0d-9979-0231440fdef5
DTSTART;VALUE=DATE:20260605
DTEND;VALUE=DATE:20260606
DESCRIPTION:<html><head><meta http-equiv="Content-Type" content="text/html\
 ; charset=utf-8"></head><body><div style="font-family:Aptos\,Aptos_Embedde
 dFont\,Aptos_MSFontService\,Calibri\,Helvetica\,sans-serif\; font-size:12p
 t\; color:rgb(0\,0\,0)">Rain Date: 6/6/25</div></body></html>
LOCATION:
SUMMARY:Field Day
END:VEVENT
END:VCALENDAR
