BEGIN:VCALENDAR
VERSION:2.0
PRODID:icalendar-ruby
CALSCALE:GREGORIAN
BEGIN:VTIMEZONE
TZID:America/Denver
BEGIN:DAYLIGHT
DTSTART:20260308T030000
TZOFFSETFROM:-0700
TZOFFSETTO:-0600
RRULE:FREQ=YEARLY;BYDAY=2SU;BYMONTH=3
TZNAME:MDT
END:DAYLIGHT
BEGIN:STANDARD
DTSTART:20261101T010000
TZOFFSETFROM:-0600
TZOFFSETTO:-0700
RRULE:FREQ=YEARLY;BYDAY=1SU;BYMONTH=11
TZNAME:MST
END:STANDARD
END:VTIMEZONE
BEGIN:VEVENT
DTSTAMP:20260425T102919Z
UID:8dc5376b-55a5-4761-8a7e-279c0ac42b82
DTSTART:20260430T170000
DTEND:20260430T180000
DESCRIPTION:Kindergarten Round-Up is an introductory event designed to welc
 ome incoming kindergarten students and their families. It provides an oppo
 rtunity to meet staff\, learn about school expectations and routines\, and
  receive important information about registration and student support. Thi
 s event supports a smooth transition into the school environment while fos
 tering early family engagement and student readiness.
LOCATION:WD Carroll Elementary School\, 301 C. del Escuela\, Bernalillo\, N
 M 87004\, USA
SUMMARY:WDCES Kindergarten Round Up
END:VEVENT
BEGIN:VEVENT
DTSTAMP:20260425T102919Z
UID:3dede014-3978-4571-8261-ee6f6f337dfe
DTSTART:20260512T163000
DTEND:20260512T193000
DESCRIPTION:W.D. Carroll Elementary proudly invites families and community 
 members to join us for Sandia Math Family Night by Explora\, an engaging e
 vening focused on making math fun\, interactive\, and accessible for all!\
 n\nThis special event\, led in partnership with Explora\, will feature han
 ds-on math activities\, interactive learning stations\, and exciting chall
 enges designed to spark curiosity and build confidence in math skills. Stu
 dents and their families will have the opportunity to explore real-world m
 ath concepts together in a supportive and playful environment.\n\nSandia M
 ath Family Night is all about strengthening the connection between school\
 , families\, and the community while celebrating the joy of learning. Whet
 her your child is a math enthusiast or still building confidence\, there w
 ill be something for everyone to enjoy!
LOCATION:WD Carroll Elementary School Cafeteria\, 301 C. del Escuela\, Bern
 alillo\, NM 87004\, USA
SUMMARY:WDCES Sandia Family Math Night by Explora
END:VEVENT
BEGIN:VEVENT
DTSTAMP:20260425T102919Z
UID:49e1e768-a301-432a-8e1a-a6856df07a1c
DTSTART:20260515T080000
DTEND:20260515T150000
DESCRIPTION:Cultural Day showcasing the diversity of our school: performanc
 es by local community members and student performances as well as other ac
 tivities.
LOCATION:WD Carroll Elementary School\, 301 C. del Escuela\, Bernalillo\, N
 M 87004\, USA
SUMMARY:WDCES Cultural Day
END:VEVENT
BEGIN:VEVENT
DTSTAMP:20260425T102919Z
UID:9dfe7ee6-7b4c-43e9-9e03-a591876d5d4c
DTSTART:20260602T080000
DTEND:20260602T150000
DESCRIPTION:
LOCATION:WD Carroll Elementary School\, 301 C. del Escuela\, Bernalillo\, N
 M 87004\, USA
SUMMARY:WDCES Promotion Ceremonies
END:VEVENT
BEGIN:VEVENT
DTSTAMP:20260425T102919Z
UID:fa62b629-ce1d-44c0-8101-2e59d3e83842
DTSTART;VALUE=DATE:20260605
DTEND;VALUE=DATE:20260606
DESCRIPTION:
LOCATION:
SUMMARY:Last Day of School
END:VEVENT
END:VCALENDAR
