BEGIN:VCALENDAR
VERSION:2.0
PRODID:icalendar-ruby
CALSCALE:GREGORIAN
BEGIN:VTIMEZONE
TZID:America/Denver
BEGIN:DAYLIGHT
DTSTART:20260308T030000
TZOFFSETFROM:-0700
TZOFFSETTO:-0600
RRULE:FREQ=YEARLY;BYDAY=2SU;BYMONTH=3
TZNAME:MDT
END:DAYLIGHT
BEGIN:STANDARD
DTSTART:20261101T010000
TZOFFSETFROM:-0600
TZOFFSETTO:-0700
RRULE:FREQ=YEARLY;BYDAY=1SU;BYMONTH=11
TZNAME:MST
END:STANDARD
END:VTIMEZONE
BEGIN:VEVENT
DTSTAMP:20260425T030632Z
UID:de5df0a4-8532-4b3a-ab56-b632ed92f001
DTSTART:20260603T120000
DTEND:20260603T130000
DESCRIPTION:
LOCATION:Santo Domingo School\, 100 NM-22\, Kewa Pueblo\, NM 87052\, USA
SUMMARY:SDES Kindergarten Promotion Ceremony
END:VEVENT
BEGIN:VEVENT
DTSTAMP:20260425T030632Z
UID:77e7c1e1-40f9-4556-97c7-f929a8e03f4a
DTSTART:20260603T133000
DTEND:20260603T143000
DESCRIPTION:
LOCATION:Santo Domingo School\, 100 NM-22\, Kewa Pueblo\, NM 87052\, USA
SUMMARY:SDMS 8th Grade Promotion Ceremony
END:VEVENT
BEGIN:VEVENT
DTSTAMP:20260425T030632Z
UID:dceff00a-4411-4359-9763-448794114c79
DTSTART;VALUE=DATE:20260605
DTEND;VALUE=DATE:20260606
DESCRIPTION:
LOCATION:
SUMMARY:Last Day of School
END:VEVENT
END:VCALENDAR
