BEGIN:VCALENDAR
VERSION:2.0
PRODID:icalendar-ruby
CALSCALE:GREGORIAN
BEGIN:VTIMEZONE
TZID:America/Denver
BEGIN:DAYLIGHT
DTSTART:20260308T030000
TZOFFSETFROM:-0700
TZOFFSETTO:-0600
RRULE:FREQ=YEARLY;BYDAY=2SU;BYMONTH=3
TZNAME:MDT
END:DAYLIGHT
BEGIN:STANDARD
DTSTART:20261101T010000
TZOFFSETFROM:-0600
TZOFFSETTO:-0700
RRULE:FREQ=YEARLY;BYDAY=1SU;BYMONTH=11
TZNAME:MST
END:STANDARD
END:VTIMEZONE
BEGIN:VEVENT
DTSTAMP:20260425T143223Z
UID:93f00903-22cb-4e07-b8d2-a23fdea36ec9
DTSTART:20260603T080000
DTEND:20260603T084500
DESCRIPTION:
LOCATION:Cochiti Elementary School\, 800 Quail Hill Trail\, Peña Blanca\, 
 NM 87041\, USA
SUMMARY:CES 4Y Promotion Ceremony
END:VEVENT
BEGIN:VEVENT
DTSTAMP:20260425T143223Z
UID:f4e69fd1-ccc0-46ba-a2ff-1f4c67f1664f
DTSTART:20260603T090000
DTEND:20260603T100000
DESCRIPTION:
LOCATION:Cochiti Elementary School\, 800 Quail Hill Trail\, Peña Blanca\, 
 NM 87041\, USA
SUMMARY:CES Kindergarten Promotion Ceremony
END:VEVENT
BEGIN:VEVENT
DTSTAMP:20260425T143223Z
UID:33046014-1fbd-4119-8ee1-86e840cc528a
DTSTART:20260603T103000
DTEND:20260603T113000
DESCRIPTION:
LOCATION:Cochiti Elementary School\, 800 Quail Hill Trail\, Peña Blanca\, 
 NM 87041\, USA
SUMMARY:CMS 8th Grade Promotion Ceremony
END:VEVENT
BEGIN:VEVENT
DTSTAMP:20260425T143223Z
UID:25d7b2af-1502-489d-acd3-1d70e15725e7
DTSTART;VALUE=DATE:20260605
DTEND;VALUE=DATE:20260606
DESCRIPTION:
LOCATION:
SUMMARY:Last Day of School
END:VEVENT
END:VCALENDAR
