BEGIN:VCALENDAR
VERSION:2.0
PRODID:icalendar-ruby
CALSCALE:GREGORIAN
BEGIN:VTIMEZONE
TZID:America/Denver
BEGIN:DAYLIGHT
DTSTART:20260308T030000
TZOFFSETFROM:-0700
TZOFFSETTO:-0600
RRULE:FREQ=YEARLY;BYDAY=2SU;BYMONTH=3
TZNAME:MDT
END:DAYLIGHT
BEGIN:STANDARD
DTSTART:20261101T010000
TZOFFSETFROM:-0600
TZOFFSETTO:-0700
RRULE:FREQ=YEARLY;BYDAY=1SU;BYMONTH=11
TZNAME:MST
END:STANDARD
END:VTIMEZONE
BEGIN:VEVENT
DTSTAMP:20260425T031034Z
UID:9807e7fc-98b9-47f5-9546-a5beab8e0c03
DTSTART:20260424T180000
DTEND:20260424T200000
DESCRIPTION:
LOCATION:Spartan Learning Academy\, 485 Camino Don Tomas\, Bernalillo\, NM 
 87004\, USA
SUMMARY:BHS / SLA Cheerleading Banquet
END:VEVENT
BEGIN:VEVENT
DTSTAMP:20260425T031034Z
UID:d7980a73-1242-4ac7-a830-ca270977f0b3
DTSTART:20260504T173000
DTEND:20260504T183000
DESCRIPTION:
LOCATION:Spartan Learning Academy Auditorium\, 485 Camino Don Tomas\, Berna
 lillo\, NM 87004\, USA
SUMMARY:SLA Guitar and Band Spring Concert
END:VEVENT
BEGIN:VEVENT
DTSTAMP:20260425T031034Z
UID:3a2f1e7e-1e60-4a45-8207-8a212b10177a
DTSTART:20260513T123000
DTEND:20260513T143000
DESCRIPTION:
LOCATION:Spartan Learning Academy Auxiliary Gym\, 485 Camino Don Tomas\, Be
 rnalillo\, NM 87004\, USA
SUMMARY:SLA NJHS Food Distribution
END:VEVENT
BEGIN:VEVENT
DTSTAMP:20260425T031035Z
UID:b81b0f27-6744-4fca-8888-6ad36dc8d070
DTSTART:20260601T120000
DTEND:20260601T130000
DESCRIPTION:
LOCATION:Spartan Learning Academy\, 485 Camino Don Tomas\, Bernalillo\, NM 
 87004\, USA
SUMMARY:SLA 8th Grade Promotion Ceremony
END:VEVENT
BEGIN:VEVENT
DTSTAMP:20260425T031035Z
UID:48ca73f5-e5b6-4517-8357-8e8d37228ce8
DTSTART;VALUE=DATE:20260605
DTEND;VALUE=DATE:20260606
DESCRIPTION:
LOCATION:
SUMMARY:Last Day of School
END:VEVENT
BEGIN:VEVENT
DTSTAMP:20260425T031035Z
UID:52b70174-0415-42de-a9a5-46242df6c56f
DTSTART;VALUE=DATE:20260606
DTEND;VALUE=DATE:20260615
DESCRIPTION:
LOCATION:Boston and NYC
SUMMARY:SLA 8th Grade Fieldtrip 
END:VEVENT
END:VCALENDAR
