BEGIN:VCALENDAR
VERSION:2.0
PRODID:icalendar-ruby
CALSCALE:GREGORIAN
BEGIN:VTIMEZONE
TZID:America/Denver
BEGIN:DAYLIGHT
DTSTART:20260308T030000
TZOFFSETFROM:-0700
TZOFFSETTO:-0600
RRULE:FREQ=YEARLY;BYDAY=2SU;BYMONTH=3
TZNAME:MDT
END:DAYLIGHT
BEGIN:STANDARD
DTSTART:20261101T010000
TZOFFSETFROM:-0600
TZOFFSETTO:-0700
RRULE:FREQ=YEARLY;BYDAY=1SU;BYMONTH=11
TZNAME:MST
END:STANDARD
END:VTIMEZONE
BEGIN:VEVENT
DTSTAMP:20260425T102730Z
UID:66ca1090-10f4-44f1-a078-0aa2843a8add
DTSTART:20260428T180000
DTEND:20260428T200000
DESCRIPTION:
LOCATION:Bernalillo High School Cafeteria
SUMMARY:BHS FFA End of Year Banquet
END:VEVENT
BEGIN:VEVENT
DTSTAMP:20260425T102730Z
UID:6cc69470-185b-4e06-974e-95e86f07538f
DTSTART;VALUE=DATE:20260505
DTEND;VALUE=DATE:20260515
DESCRIPTION:
LOCATION:
SUMMARY:AP Testing 
END:VEVENT
BEGIN:VEVENT
DTSTAMP:20260425T102730Z
UID:f2c4d675-f672-43c0-8df8-4466a6c5cdb3
DTSTART:20260512T180000
DTEND:20260512T190000
DESCRIPTION:
LOCATION:Prairie Star Restaurant & Wine Bar\, 288 Prairie Star Rd\, Santa A
 na Pueblo\, NM 87004\, USA
SUMMARY:Phoenix Dinner 
END:VEVENT
BEGIN:VEVENT
DTSTAMP:20260425T102730Z
UID:63005f32-7f09-40e0-b000-f159899f4673
DTSTART:20260513T180000
DTEND:20260513T190000
DESCRIPTION:BHS Aux Gym
LOCATION:Bernalillo High School\, 148 Spartan Alley\, Bernalillo\, NM 87004
 \, USA
SUMMARY:Bilingual Seal Ceremony 
END:VEVENT
BEGIN:VEVENT
DTSTAMP:20260425T102730Z
UID:1e45bc15-cda5-46ba-a8d7-ecbbb5b11b95
DTSTART:20260515T140000
DTEND:20260515T150000
DESCRIPTION:
LOCATION:
SUMMARY:Deadline for CR Online courses 
END:VEVENT
BEGIN:VEVENT
DTSTAMP:20260425T102730Z
UID:b4315ab1-fed0-4998-87c7-54ed2e760874
DTSTART;VALUE=DATE:20260520
DTEND;VALUE=DATE:20260522
DESCRIPTION:
LOCATION:
SUMMARY:Senior Finals 
END:VEVENT
BEGIN:VEVENT
DTSTAMP:20260425T102730Z
UID:8e13b280-9055-4e8f-9376-cbb76469db9a
DTSTART:20260520T180000
DTEND:20260520T200000
DESCRIPTION:
LOCATION:Bernalillo High School Main Gym\, 148 Spartan Alley\, Bernalillo\,
  NM 87004\, USA
SUMMARY:BHS Spartan Booster Club Meeting
END:VEVENT
BEGIN:VEVENT
DTSTAMP:20260425T102730Z
UID:7c44b2ac-62ed-47f2-ae62-0aa64c6285a1
DTSTART;VALUE=DATE:20260522
DTEND;VALUE=DATE:20260523
DESCRIPTION:
LOCATION:
SUMMARY:Finals Make Ups 
END:VEVENT
BEGIN:VEVENT
DTSTAMP:20260425T102730Z
UID:cfcab76e-f8c0-4d75-a1b9-464a5f6b3ee6
DTSTART:20260522T100000
DTEND:20260522T120000
DESCRIPTION:
LOCATION:Bernalillo High School\, 148 Spartan Alley\, Bernalillo\, NM 87004
 \, USA
SUMMARY:Senior Check-out 
END:VEVENT
BEGIN:VEVENT
DTSTAMP:20260425T102730Z
UID:d012f483-68be-4428-9bd0-c9e8d2a60d71
DTSTART:20260522T100000
DTEND:20260522T120000
DESCRIPTION:
LOCATION:Bernalillo High School\, 148 Spartan Alley\, Bernalillo\, NM 87004
 \, USA
SUMMARY:Senior Check-out 
END:VEVENT
BEGIN:VEVENT
DTSTAMP:20260425T102730Z
UID:fd0c8f22-e908-49e9-bf74-84e85cf4c3cd
DTSTART:20260524T100000
DTEND:20260524T110000
DESCRIPTION:Seniors wear cap and gown
LOCATION:Our Lady of Sorrows Catholic Church\, 301 S Camino Del Pueblo\, Be
 rnalillo\, NM 87004\, USA
SUMMARY:Teen Baccalaureate Mass 
END:VEVENT
BEGIN:VEVENT
DTSTAMP:20260425T102730Z
UID:d0b7b4b3-a9d2-434b-aaed-261ea0fbdaf0
DTSTART:20260526T080000
DTEND:20260526T090000
DESCRIPTION:All BPS Schools ( Students wear cap and gown)
LOCATION:
SUMMARY:Senior Elementary Walk 
END:VEVENT
BEGIN:VEVENT
DTSTAMP:20260425T102730Z
UID:74ba557d-6c3d-465b-96c5-6b32ebd74c5c
DTSTART:20260528T180000
DTEND:20260528T190000
DESCRIPTION:BHS gym
LOCATION:Bernalillo High School\, 148 Spartan Alley\, Bernalillo\, NM 87004
 \, USA
SUMMARY:Senior Robing/Awards 
END:VEVENT
BEGIN:VEVENT
DTSTAMP:20260425T102730Z
UID:caa8ceda-8dbd-4ae5-98e5-bac16850b9b2
DTSTART:20260529T090000
DTEND:20260529T100000
DESCRIPTION:Spartan Stadium
LOCATION:Bernalillo High School\, 148 Spartan Alley\, Bernalillo\, NM 87004
 \, USA
SUMMARY:Grad Rehearsal 
END:VEVENT
BEGIN:VEVENT
DTSTAMP:20260425T102730Z
UID:a4b73874-ea85-4e19-8392-6d28c8dab091
DTSTART:20260530T090000
DTEND:20260530T110000
DESCRIPTION:
LOCATION:Bernalillo High School Spartan Stadium\, 148 Spartan Alley\, Berna
 lillo\, NM 87004\, USA
SUMMARY:2026 BHS Graduation 
END:VEVENT
BEGIN:VEVENT
DTSTAMP:20260425T102730Z
UID:48d52e7b-6d9b-4d4e-9fb9-e9fcef421bd3
DTSTART;VALUE=DATE:20260602
DTEND;VALUE=DATE:20260603
DESCRIPTION:Bernalillo High School Aux Gym
LOCATION:Bernalillo High School\, 148 Spartan Alley\, Bernalillo\, NM 87004
 \, USA
SUMMARY:Sandoval County Election Day 
END:VEVENT
BEGIN:VEVENT
DTSTAMP:20260425T102730Z
UID:7ecb36e8-3be1-4b26-87f9-066138d449c6
DTSTART;VALUE=DATE:20260605
DTEND;VALUE=DATE:20260606
DESCRIPTION:
LOCATION:
SUMMARY:Last Day of School
END:VEVENT
BEGIN:VEVENT
DTSTAMP:20260425T102730Z
UID:34cb0597-bc4c-4868-8889-fea6a2e0523e
DTSTART:20260617T180000
DTEND:20260617T200000
DESCRIPTION:
LOCATION:Bernalillo High School Main Gym\, 148 Spartan Alley\, Bernalillo\,
  NM 87004\, USA
SUMMARY:BHS Spartan Booster Club Meeting
END:VEVENT
BEGIN:VEVENT
DTSTAMP:20260425T102730Z
UID:26df7fb8-da54-423b-8e00-3881dc564e61
DTSTART:20260625T103000
DTEND:20260625T113000
DESCRIPTION:Summer School
LOCATION:Bernalillo High School\, 148 Spartan Alley\, Bernalillo\, NM 87004
 \, USA
SUMMARY:End of session for Graduating Seniors 
END:VEVENT
BEGIN:VEVENT
DTSTAMP:20260425T102730Z
UID:79d9da09-301d-425d-b3c5-f52fe26f630e
DTSTART:20260630T180000
DTEND:20260630T190000
DESCRIPTION:Location TBD
LOCATION:
SUMMARY:Summer School Graduation 
END:VEVENT
BEGIN:VEVENT
DTSTAMP:20260425T102730Z
UID:8bbec1dd-2c23-43b8-b7cc-528c745bfc7a
DTSTART;VALUE=DATE:20261103
DTEND;VALUE=DATE:20261104
DESCRIPTION:Bernalillo High School Aux Gym
LOCATION:Bernalillo High School\, 148 Spartan Alley\, Bernalillo\, NM 87004
 \, USA
SUMMARY:Sandoval County Election Day 
END:VEVENT
BEGIN:VEVENT
DTSTAMP:20260425T102730Z
UID:c93a0253-c7aa-4f4d-bf69-63899fdfc7bd
DTSTART;VALUE=DATE:20271102
DTEND;VALUE=DATE:20271103
DESCRIPTION:Bernalillo High School Aux Gym
LOCATION:Bernalillo High School\, 148 Spartan Alley\, Bernalillo\, NM 87004
 \, USA
SUMMARY:Sandoval County Election Day 
END:VEVENT
END:VCALENDAR
