BEGIN:VCALENDAR
VERSION:2.0
PRODID:icalendar-ruby
CALSCALE:GREGORIAN
BEGIN:VTIMEZONE
TZID:America/Detroit
BEGIN:DAYLIGHT
DTSTART:20260308T030000
TZOFFSETFROM:-0500
TZOFFSETTO:-0400
RRULE:FREQ=YEARLY;BYDAY=2SU;BYMONTH=3
TZNAME:EDT
END:DAYLIGHT
BEGIN:STANDARD
DTSTART:20261101T010000
TZOFFSETFROM:-0400
TZOFFSETTO:-0500
RRULE:FREQ=YEARLY;BYDAY=1SU;BYMONTH=11
TZNAME:EST
END:STANDARD
END:VTIMEZONE
BEGIN:VEVENT
DTSTAMP:20260425T105804Z
UID:9705dc13-83fd-4824-a633-768ff1a74cc5
DTSTART:20260504T180000
DTEND:20260504T200000
DESCRIPTION:
LOCATION:
SUMMARY:Board of Education Meeting 
END:VEVENT
BEGIN:VEVENT
DTSTAMP:20260425T105804Z
UID:f7f05b14-722c-470c-8ffd-51c812c5d5b1
DTSTART:20260518T180000
DTEND:20260518T200000
DESCRIPTION:
LOCATION:
SUMMARY:Board of Education Meeting 
END:VEVENT
BEGIN:VEVENT
DTSTAMP:20260425T105804Z
UID:a05ee8f2-58fe-4c4e-8c6a-6881b3e5fccf
DTSTART;VALUE=DATE:20260525
DTEND;VALUE=DATE:20260526
DESCRIPTION:
LOCATION:
SUMMARY:No School - Memorial Day
END:VEVENT
BEGIN:VEVENT
DTSTAMP:20260425T105804Z
UID:11c5b475-f09f-4893-b0f4-9319d984ebef
DTSTART;VALUE=DATE:20260525
DTEND;VALUE=DATE:20260526
DESCRIPTION:
LOCATION:
SUMMARY:No School - Memorial Day
END:VEVENT
BEGIN:VEVENT
DTSTAMP:20260425T105804Z
UID:e39fa3f2-5b68-49f7-b9fc-34e3bbb08b42
DTSTART:20260601T180000
DTEND:20260601T200000
DESCRIPTION:
LOCATION:
SUMMARY:Board of Education Meeting 
END:VEVENT
BEGIN:VEVENT
DTSTAMP:20260425T105804Z
UID:47165bb8-4f95-4171-9a9d-b94329fc8df5
DTSTART;VALUE=DATE:20260612
DTEND;VALUE=DATE:20260613
DESCRIPTION:
LOCATION:
SUMMARY:Report Cards - MP3 (Elementary)
END:VEVENT
BEGIN:VEVENT
DTSTAMP:20260425T105804Z
UID:2bc53b92-6195-4132-bd6d-f6cb8cc521e6
DTSTART;VALUE=DATE:20260612
DTEND;VALUE=DATE:20260613
DESCRIPTION:
LOCATION:
SUMMARY:Report Cards - MP4 (Carrigan)
END:VEVENT
BEGIN:VEVENT
DTSTAMP:20260425T105804Z
UID:4bfc60c7-eb50-45c2-9132-3724e8caffde
DTSTART;VALUE=DATE:20260612
DTEND;VALUE=DATE:20260613
DESCRIPTION:
LOCATION:
SUMMARY:Scheduled Last Day of School (Pending No Show Days\, etc.)
END:VEVENT
BEGIN:VEVENT
DTSTAMP:20260425T105804Z
UID:abc95190-861e-4c85-9e42-3c5009b5ad87
DTSTART;VALUE=DATE:20260612
DTEND;VALUE=DATE:20260613
DESCRIPTION:
LOCATION:
SUMMARY:Last Day of School (pending no show days\, etc.)
END:VEVENT
BEGIN:VEVENT
DTSTAMP:20260425T105804Z
UID:cfea22fa-74a7-47d5-a94e-8ffbbdda219c
DTSTART;VALUE=DATE:20260612
DTEND;VALUE=DATE:20260613
DESCRIPTION:
LOCATION:
SUMMARY:Report Cards - MP3 (Elementary)
END:VEVENT
BEGIN:VEVENT
DTSTAMP:20260425T105804Z
UID:62a118a5-c0b0-48ff-8d7f-5313b42a0826
DTSTART;VALUE=DATE:20260612
DTEND;VALUE=DATE:20260613
DESCRIPTION:
LOCATION:
SUMMARY:Report Cards - MP4 (Carrigan)
END:VEVENT
BEGIN:VEVENT
DTSTAMP:20260425T105804Z
UID:4c6debf8-6cb2-4fed-9d99-fdb070dc6e6f
DTSTART:20260720T180000
DTEND:20260720T200000
DESCRIPTION:
LOCATION:
SUMMARY:Board of Education Meeting 
END:VEVENT
END:VCALENDAR
