BEGIN:VCALENDAR
VERSION:2.0
PRODID:icalendar-ruby
CALSCALE:GREGORIAN
BEGIN:VTIMEZONE
TZID:America/Chicago
BEGIN:DAYLIGHT
DTSTART:20260308T030000
TZOFFSETFROM:-0600
TZOFFSETTO:-0500
RRULE:FREQ=YEARLY;BYDAY=2SU;BYMONTH=3
TZNAME:CDT
END:DAYLIGHT
BEGIN:STANDARD
DTSTART:20261101T010000
TZOFFSETFROM:-0500
TZOFFSETTO:-0600
RRULE:FREQ=YEARLY;BYDAY=1SU;BYMONTH=11
TZNAME:CST
END:STANDARD
END:VTIMEZONE
BEGIN:VEVENT
DTSTAMP:20260419T125051Z
UID:a5186444-5248-4721-a918-169c0fb48a95
DTSTART;VALUE=DATE:20260401
DTEND;VALUE=DATE:20260501
DESCRIPTION:
LOCATION:
SUMMARY:Autism Awareness Month
END:VEVENT
BEGIN:VEVENT
DTSTAMP:20260419T125051Z
UID:9f0eaa09-0c51-4b77-9054-9f8e5876baa7
DTSTART;VALUE=DATE:20260401
DTEND;VALUE=DATE:20260501
DESCRIPTION:
LOCATION:
SUMMARY:National Poetry Month
END:VEVENT
BEGIN:VEVENT
DTSTAMP:20260419T125051Z
UID:8fa3aeca-4d1d-4296-8df3-b5913de4b1f9
DTSTART;VALUE=DATE:20260401
DTEND;VALUE=DATE:20260501
DESCRIPTION:
LOCATION:
SUMMARY:Occupational Therapy Month
END:VEVENT
BEGIN:VEVENT
DTSTAMP:20260419T125051Z
UID:077912fc-2e56-4bee-bb24-d15064475ce0
DTSTART;VALUE=DATE:20260420
DTEND;VALUE=DATE:20260425
DESCRIPTION:
LOCATION:
SUMMARY:National Library Week
END:VEVENT
BEGIN:VEVENT
DTSTAMP:20260419T125051Z
UID:e764e660-6918-46d8-8bab-de4b86bf028e
DTSTART;VALUE=DATE:20260420
DTEND;VALUE=DATE:20260425
DESCRIPTION:
LOCATION:
SUMMARY:STAAR
END:VEVENT
BEGIN:VEVENT
DTSTAMP:20260419T125051Z
UID:d9a36d19-6bdd-46c1-b5d1-6c6e3b19c6c0
DTSTART;VALUE=DATE:20260422
DTEND;VALUE=DATE:20260423
DESCRIPTION:
LOCATION:
SUMMARY:Earth Day
END:VEVENT
BEGIN:VEVENT
DTSTAMP:20260419T125051Z
UID:1d03e490-8a9d-44e4-8df1-c37a48ea9df2
DTSTART;VALUE=DATE:20260422
DTEND;VALUE=DATE:20260423
DESCRIPTION:
LOCATION:
SUMMARY:Secretary's Day
END:VEVENT
BEGIN:VEVENT
DTSTAMP:20260419T125051Z
UID:4ab7e1a7-c11a-457c-affa-4ba024368e8c
DTSTART;VALUE=DATE:20260427
DTEND;VALUE=DATE:20260501
DESCRIPTION:
LOCATION:
SUMMARY:STAAR
END:VEVENT
BEGIN:VEVENT
DTSTAMP:20260419T125051Z
UID:502fade5-d1f0-4199-b5f7-6fbc580c4864
DTSTART;VALUE=DATE:20260501
DTEND;VALUE=DATE:20260502
DESCRIPTION:
LOCATION:
SUMMARY:Happy Principal Appreciation Day
END:VEVENT
BEGIN:VEVENT
DTSTAMP:20260419T125051Z
UID:fcf7cb81-ba35-4538-a5c1-c7242939fa1d
DTSTART;VALUE=DATE:20260501
DTEND;VALUE=DATE:20260502
DESCRIPTION:
LOCATION:
SUMMARY:School Lunch Hero Day
END:VEVENT
BEGIN:VEVENT
DTSTAMP:20260419T125051Z
UID:75fdb9c9-389f-4d97-b2c0-16905a1e1f3c
DTSTART;VALUE=DATE:20260504
DTEND;VALUE=DATE:20260509
DESCRIPTION:
LOCATION:
SUMMARY:Happy Teacher Appreciation Week
END:VEVENT
BEGIN:VEVENT
DTSTAMP:20260419T125051Z
UID:6164d389-f92f-4fe4-99bb-e8eb2d3c334c
DTSTART;VALUE=DATE:20260510
DTEND;VALUE=DATE:20260511
DESCRIPTION:
LOCATION:
SUMMARY:Happy Mother's Day
END:VEVENT
BEGIN:VEVENT
DTSTAMP:20260419T125051Z
UID:f2d00bc4-5c80-460f-857d-a98d57b73c57
DTSTART;VALUE=DATE:20260511
DTEND;VALUE=DATE:20260516
DESCRIPTION:
LOCATION:
SUMMARY:Mental Health Awareness Week
END:VEVENT
BEGIN:VEVENT
DTSTAMP:20260419T125051Z
UID:7455649d-5a10-43cb-b6ce-d1d345730361
DTSTART;VALUE=DATE:20260511
DTEND;VALUE=DATE:20260516
DESCRIPTION:
LOCATION:
SUMMARY:National Police Week
END:VEVENT
BEGIN:VEVENT
DTSTAMP:20260419T125051Z
UID:efe55042-dbd2-4ae5-84e0-04cfe669cddd
DTSTART;VALUE=DATE:20260512
DTEND;VALUE=DATE:20260513
DESCRIPTION:
LOCATION:
SUMMARY:LISD Service Award
END:VEVENT
BEGIN:VEVENT
DTSTAMP:20260419T125051Z
UID:d4ab3328-6d3a-4039-8e7f-cbf9bf5b99f9
DTSTART;VALUE=DATE:20260513
DTEND;VALUE=DATE:20260514
DESCRIPTION:
LOCATION:
SUMMARY:LISD Retirement Banquet
END:VEVENT
BEGIN:VEVENT
DTSTAMP:20260419T125051Z
UID:48bc1c89-dded-4ef1-8f99-1a17fec50da4
DTSTART;VALUE=DATE:20260514
DTEND;VALUE=DATE:20260515
DESCRIPTION:
LOCATION:
SUMMARY:LISD Employee of the Year Celebration
END:VEVENT
BEGIN:VEVENT
DTSTAMP:20260419T125051Z
UID:bdafb2d6-7bb5-4a8a-b5d0-413d43ce1a3b
DTSTART;VALUE=DATE:20260518
DTEND;VALUE=DATE:20260523
DESCRIPTION:
LOCATION:
SUMMARY:Child Nutrition Appreciation Week
END:VEVENT
BEGIN:VEVENT
DTSTAMP:20260419T125051Z
UID:efe03383-2cbb-437a-831a-46ec3aa0cb75
DTSTART;VALUE=DATE:20260518
DTEND;VALUE=DATE:20260519
DESCRIPTION:
LOCATION:
SUMMARY:Speech-Language Pathologist Day
END:VEVENT
BEGIN:VEVENT
DTSTAMP:20260419T125051Z
UID:b0daa049-99ac-494b-a27f-17840d7ba9f1
DTSTART;VALUE=DATE:20260520
DTEND;VALUE=DATE:20260521
DESCRIPTION:
LOCATION:
SUMMARY:LISD Memorial Day Ceremony
END:VEVENT
BEGIN:VEVENT
DTSTAMP:20260419T125051Z
UID:16bfc348-b89b-4f7a-9158-002d1a746b29
DTSTART;VALUE=DATE:20260522
DTEND;VALUE=DATE:20260523
DESCRIPTION:
LOCATION:
SUMMARY:🎓Graduation Day~Hector J. Garcia Early College
END:VEVENT
BEGIN:VEVENT
DTSTAMP:20260419T125051Z
UID:be5196c1-f3b1-47dd-aa3b-d8509ffccf34
DTSTART;VALUE=DATE:20260522
DTEND;VALUE=DATE:20260523
DESCRIPTION:
LOCATION:
SUMMARY:Last Day Of School
END:VEVENT
BEGIN:VEVENT
DTSTAMP:20260419T125051Z
UID:d5459298-4f1b-4786-bc02-c3af6cbbcbc9
DTSTART;VALUE=DATE:20260525
DTEND;VALUE=DATE:20260526
DESCRIPTION:
LOCATION:
SUMMARY:🪖Memorial Day
END:VEVENT
BEGIN:VEVENT
DTSTAMP:20260419T125051Z
UID:59f16bfc-3ca8-4273-ab9c-cd6535cef703
DTSTART;VALUE=DATE:20260525
DTEND;VALUE=DATE:20260527
DESCRIPTION:
LOCATION:
SUMMARY:Teacher Work Day
END:VEVENT
BEGIN:VEVENT
DTSTAMP:20260419T125051Z
UID:4332acf7-f938-4895-92fa-462d806e7c97
DTSTART;VALUE=DATE:20260526
DTEND;VALUE=DATE:20260527
DESCRIPTION:
LOCATION:
SUMMARY:🎓Graduation Day-Cigarroa\, Martin\, Nixon
END:VEVENT
BEGIN:VEVENT
DTSTAMP:20260419T125051Z
UID:ccc119df-34c3-4a07-8963-6327e380a4ca
DTSTART;VALUE=DATE:20260527
DTEND;VALUE=DATE:20260529
DESCRIPTION:
LOCATION:
SUMMARY:Staff Development Day
END:VEVENT
BEGIN:VEVENT
DTSTAMP:20260419T125051Z
UID:6559dcd6-3502-4171-ad83-dff0bfb07680
DTSTART;VALUE=DATE:20260601
DTEND;VALUE=DATE:20260602
DESCRIPTION:
LOCATION:
SUMMARY:Payroll Deadline
END:VEVENT
BEGIN:VEVENT
DTSTAMP:20260419T125051Z
UID:200e8a11-f289-4092-9dbd-1f9e101912c6
DTSTART;VALUE=DATE:20260602
DTEND;VALUE=DATE:20260603
DESCRIPTION:
LOCATION:
SUMMARY:Time Card Tuesday
END:VEVENT
BEGIN:VEVENT
DTSTAMP:20260419T125051Z
UID:41571777-73f8-4fc9-aca4-9ff9550a5b38
DTSTART;VALUE=DATE:20260609
DTEND;VALUE=DATE:20260610
DESCRIPTION:
LOCATION:
SUMMARY:Time Card Tuesday
END:VEVENT
BEGIN:VEVENT
DTSTAMP:20260419T125051Z
UID:f42bd508-cce4-4b01-98aa-8ec66bb7abdd
DTSTART;VALUE=DATE:20260615
DTEND;VALUE=DATE:20260616
DESCRIPTION:
LOCATION:
SUMMARY:Pay Day
END:VEVENT
BEGIN:VEVENT
DTSTAMP:20260419T125051Z
UID:15c8b44c-9d2f-4260-86eb-32bb63e2e713
DTSTART;VALUE=DATE:20260616
DTEND;VALUE=DATE:20260620
DESCRIPTION:
LOCATION:
SUMMARY:STAAR
END:VEVENT
BEGIN:VEVENT
DTSTAMP:20260419T125051Z
UID:3a04b55a-4020-4ede-9cb8-d86b22977798
DTSTART;VALUE=DATE:20260616
DTEND;VALUE=DATE:20260617
DESCRIPTION:
LOCATION:
SUMMARY:Time Card Tuesday
END:VEVENT
BEGIN:VEVENT
DTSTAMP:20260419T125051Z
UID:382f7889-aba9-4cf0-95e9-c7ffabfe647d
DTSTART;VALUE=DATE:20260621
DTEND;VALUE=DATE:20260622
DESCRIPTION:
LOCATION:
SUMMARY:Father's Day
END:VEVENT
BEGIN:VEVENT
DTSTAMP:20260419T125051Z
UID:136dea2a-9270-469d-af93-58c91659ffb8
DTSTART;VALUE=DATE:20260621
DTEND;VALUE=DATE:20260622
DESCRIPTION:
LOCATION:
SUMMARY:Summer Begins
END:VEVENT
BEGIN:VEVENT
DTSTAMP:20260419T125051Z
UID:3b2b6081-850a-41c9-bc96-665939edd255
DTSTART;VALUE=DATE:20260622
DTEND;VALUE=DATE:20260627
DESCRIPTION:
LOCATION:
SUMMARY:STAAR
END:VEVENT
BEGIN:VEVENT
DTSTAMP:20260419T125051Z
UID:2b708051-dbd5-4eca-b545-3a58af9572f9
DTSTART;VALUE=DATE:20260623
DTEND;VALUE=DATE:20260624
DESCRIPTION:
LOCATION:
SUMMARY:Time Card Tuesday
END:VEVENT
BEGIN:VEVENT
DTSTAMP:20260419T125051Z
UID:5d07fe35-0191-4a07-b561-1eac255dbcec
DTSTART;VALUE=DATE:20260627
DTEND;VALUE=DATE:20260628
DESCRIPTION:
LOCATION:
SUMMARY:Manual Payroll Payment Requests Cutoff
END:VEVENT
BEGIN:VEVENT
DTSTAMP:20260419T125051Z
UID:8fc1b1e5-a8b2-4243-b5c4-2d541749d37b
DTSTART;VALUE=DATE:20260630
DTEND;VALUE=DATE:20260701
DESCRIPTION:
LOCATION:
SUMMARY:Time Card Tuesday
END:VEVENT
BEGIN:VEVENT
DTSTAMP:20260419T125051Z
UID:bcfce3bb-52db-41db-8067-91f1787442fd
DTSTART;VALUE=DATE:20260704
DTEND;VALUE=DATE:20260705
DESCRIPTION:
LOCATION:
SUMMARY:Happy 4th of July
END:VEVENT
END:VCALENDAR
