BEGIN:VCALENDAR
VERSION:2.0
PRODID:icalendar-ruby
CALSCALE:GREGORIAN
BEGIN:VTIMEZONE
TZID:America/Chicago
BEGIN:DAYLIGHT
DTSTART:20260308T030000
TZOFFSETFROM:-0600
TZOFFSETTO:-0500
RRULE:FREQ=YEARLY;BYDAY=2SU;BYMONTH=3
TZNAME:CDT
END:DAYLIGHT
BEGIN:STANDARD
DTSTART:20261101T010000
TZOFFSETFROM:-0500
TZOFFSETTO:-0600
RRULE:FREQ=YEARLY;BYDAY=1SU;BYMONTH=11
TZNAME:CST
END:STANDARD
END:VTIMEZONE
BEGIN:VEVENT
DTSTAMP:20260423T085330Z
UID:5bdbaf4b-2586-4762-aca8-b25e8cc934e9
DTSTART;VALUE=DATE:20260429
DTEND;VALUE=DATE:20260430
DESCRIPTION:
LOCATION:
SUMMARY:⭐Algebra STAAR Testing⭐
END:VEVENT
BEGIN:VEVENT
DTSTAMP:20260423T085330Z
UID:e05f34d1-ea1f-41bb-94b0-351a64e41c5a
DTSTART;VALUE=DATE:20260504
DTEND;VALUE=DATE:20260509
DESCRIPTION:
LOCATION:
SUMMARY:💻Advanced Placement Testing/ CTE YouScience
END:VEVENT
BEGIN:VEVENT
DTSTAMP:20260423T085330Z
UID:f9014d6c-4106-443f-ab6e-f62b96fdfeea
DTSTART;VALUE=DATE:20260504
DTEND;VALUE=DATE:20260509
DESCRIPTION:
LOCATION:
SUMMARY:💻MAP EOY - Biology Test
END:VEVENT
BEGIN:VEVENT
DTSTAMP:20260423T085330Z
UID:d744f9b4-a1de-413b-8c7a-5bbb9385d734
DTSTART;VALUE=DATE:20260511
DTEND;VALUE=DATE:20260516
DESCRIPTION:
LOCATION:
SUMMARY:💻Advanced Placement Testing/ CTE YouScience
END:VEVENT
BEGIN:VEVENT
DTSTAMP:20260423T085330Z
UID:144d6943-ad0e-44b6-9175-c804b707d3f5
DTSTART;VALUE=DATE:20260511
DTEND;VALUE=DATE:20260516
DESCRIPTION:
LOCATION:
SUMMARY:💻MAP EOY - Biology Test
END:VEVENT
BEGIN:VEVENT
DTSTAMP:20260423T085330Z
UID:415daa0a-3cf5-44b1-a9d7-20a59759b6f6
DTSTART;VALUE=DATE:20260616
DTEND;VALUE=DATE:20260620
DESCRIPTION:
LOCATION:
SUMMARY:⭐ STAAR Testing - Algebra I\, Biology\,  English I\, English II &
  U.S. History⭐
END:VEVENT
END:VCALENDAR
