BEGIN:VCALENDAR
VERSION:2.0
PRODID:icalendar-ruby
CALSCALE:GREGORIAN
BEGIN:VTIMEZONE
TZID:America/New_York
BEGIN:DAYLIGHT
DTSTART:20260308T030000
TZOFFSETFROM:-0500
TZOFFSETTO:-0400
RRULE:FREQ=YEARLY;BYDAY=2SU;BYMONTH=3
TZNAME:EDT
END:DAYLIGHT
BEGIN:STANDARD
DTSTART:20261101T010000
TZOFFSETFROM:-0400
TZOFFSETTO:-0500
RRULE:FREQ=YEARLY;BYDAY=1SU;BYMONTH=11
TZNAME:EST
END:STANDARD
END:VTIMEZONE
BEGIN:VEVENT
DTSTAMP:20260421T103034Z
UID:be7941bd-1d59-44e5-a617-782e2ce1427e
DTSTART;VALUE=DATE:20260421
DTEND;VALUE=DATE:20260422
DESCRIPTION:
LOCATION:
SUMMARY:Student/Teacher Holiday
END:VEVENT
BEGIN:VEVENT
DTSTAMP:20260421T103034Z
UID:f4686f3c-9634-4547-be24-7aeb20c02a10
DTSTART:20260427T173000
DTEND:20260427T220000
DESCRIPTION:<p><s>Work Session [No public comments at this meeting]</s></p>
 <p>THIS MEETING HAS BEEN CANCELED</p>
LOCATION:8020 River Stone Dr\, Fredericksburg\, VA 22407\, USA
SUMMARY:School Board Meeting - CANCELLED
END:VEVENT
BEGIN:VEVENT
DTSTAMP:20260421T103034Z
UID:2ca50ccc-afb8-445d-a5a2-f0a205cea7c6
DTSTART:20260511T173000
DTEND:20260511T220000
DESCRIPTION:<p>Regular Meeting</p><p></p>
LOCATION:8020 River Stone Dr\, Fredericksburg\, VA 22407\, USA
SUMMARY:School Board Meeting
END:VEVENT
BEGIN:VEVENT
DTSTAMP:20260421T103034Z
UID:03956d3d-bf18-4ca2-9943-68730861c198
DTSTART:20260518T173000
DTEND:20260518T220000
DESCRIPTION:<p>Work Session Meeting [No public comments at this meeting]</p
 >
LOCATION:8020 River Stone Dr\, Fredericksburg\, VA 22407\, USA
SUMMARY:School Board Meeting
END:VEVENT
BEGIN:VEVENT
DTSTAMP:20260421T103034Z
UID:5a5398dd-5228-4316-bf66-199d5d867096
DTSTART:20260608T173000
DTEND:20260608T220000
DESCRIPTION:<p>Regular Meeting</p>
LOCATION:8020 River Stone Dr\, Fredericksburg\, VA 22407\, USA
SUMMARY:School Board Meeting
END:VEVENT
BEGIN:VEVENT
DTSTAMP:20260421T103034Z
UID:c27d4fcc-8d17-44c8-888c-565c1c860c73
DTSTART:20260622T173000
DTEND:20260622T220000
DESCRIPTION:<p>Work Session Meeting [No public comments at this meeting]</p
 ><p></p>
LOCATION:8020 River Stone Dr\, Fredericksburg\, VA 22407\, USA
SUMMARY:School Board Meeting
END:VEVENT
BEGIN:VEVENT
DTSTAMP:20260421T103034Z
UID:fe43c47c-17e0-4b37-9f38-41f2d542c763
DTSTART:20260713T173000
DTEND:20260713T220000
DESCRIPTION:<p>Regular Meeting</p><p></p>
LOCATION:
SUMMARY:School Board Meeting
END:VEVENT
BEGIN:VEVENT
DTSTAMP:20260421T103034Z
UID:fee05ebb-ef36-459f-97a1-5f4414305986
DTSTART:20260727T173000
DTEND:20260727T220000
DESCRIPTION:<p>Work Session Meeting [No public comments at this meeting]</p
 ><p></p>
LOCATION:
SUMMARY:School Board Meeting
END:VEVENT
BEGIN:VEVENT
DTSTAMP:20260421T103034Z
UID:6964ce90-7792-4ec2-9463-a31b67266fab
DTSTART:20260810T173000
DTEND:20260810T220000
DESCRIPTION:<p>Regular Meeting </p><p></p>
LOCATION:8020 River Stone Dr\, Fredericksburg\, VA 22407\, USA
SUMMARY:School Board Meeting
END:VEVENT
BEGIN:VEVENT
DTSTAMP:20260421T103034Z
UID:c28a8a7e-a4d6-4fa7-84b6-3b8c5875e86a
DTSTART:20260824T173000
DTEND:20260824T220000
DESCRIPTION:<p>Work Session Meeting</p><p></p>
LOCATION:8020 River Stone Dr\, Fredericksburg\, VA 22407\, USA
SUMMARY:School Board Meeting
END:VEVENT
BEGIN:VEVENT
DTSTAMP:20260421T103034Z
UID:5dc304f1-2d0f-433d-a809-8cfc52a87bb2
DTSTART:20260914T173000
DTEND:20260914T220000
DESCRIPTION:<p>Regular Meeting</p><p></p>
LOCATION:8020 River Stone Dr\, Fredericksburg\, VA 22407\, USA
SUMMARY:School Board Meeting
END:VEVENT
BEGIN:VEVENT
DTSTAMP:20260421T103034Z
UID:be0a2d31-5e3a-43fd-bbe5-2704136e079b
DTSTART:20260928T173000
DTEND:20260928T220000
DESCRIPTION:<p>Work Session Meeting [No public comments at this meeting]</p
 ><p></p>
LOCATION:8020 River Stone Dr\, Fredericksburg\, VA 22407\, USA
SUMMARY:School Board Meeting
END:VEVENT
BEGIN:VEVENT
DTSTAMP:20260421T103034Z
UID:de553217-8f83-41b4-b2af-fbe44fe00895
DTSTART:20261012T173000
DTEND:20261012T220000
DESCRIPTION:<p>Regular Meeting</p><p></p>
LOCATION:8020 River Stone Dr\, Fredericksburg\, VA 22407\, USA
SUMMARY:School Board Meeting
END:VEVENT
BEGIN:VEVENT
DTSTAMP:20260421T103034Z
UID:459ba54d-f60b-4e44-87e6-6394c4eac87f
DTSTART:20261026T173000
DTEND:20261026T220000
DESCRIPTION:<p>Work Session Meeting - 2028-2032 Capital Improvement Plan (C
 IP) </p><p>[No public comments at this meeting]</p>
LOCATION:8020 River Stone Dr\, Fredericksburg\, VA 22407\, USA
SUMMARY:School Board Meeting
END:VEVENT
BEGIN:VEVENT
DTSTAMP:20260421T103034Z
UID:4fe1f471-7ccf-4ce1-a302-88a65b554a62
DTSTART:20261109T173000
DTEND:20261109T220000
DESCRIPTION:<p>Regular Meeting</p><p></p>
LOCATION:
SUMMARY:School Board Meeting
END:VEVENT
BEGIN:VEVENT
DTSTAMP:20260421T103034Z
UID:b3918ebd-69a8-4d50-a572-90ed6d5448e2
DTSTART:20261116T170000
DTEND:20261116T220000
DESCRIPTION:<p>Work Session Meeting - FY 2028 Pre-budget Work Session </p><
 p>[No public comments at this meeting]</p>
LOCATION:8020 River Stone Dr\, Fredericksburg\, VA 22407\, USA
SUMMARY:School Board Meeting
END:VEVENT
BEGIN:VEVENT
DTSTAMP:20260421T103034Z
UID:d48820b6-04e0-4b3d-b5a9-f55c97d8fc19
DTSTART:20261214T173000
DTEND:20261214T220000
DESCRIPTION:<p>Regular Meeting</p><p></p>
LOCATION:8020 River Stone Dr\, Fredericksburg\, VA 22407\, USA
SUMMARY:School Board Meeting
END:VEVENT
BEGIN:VEVENT
DTSTAMP:20260421T103034Z
UID:bf2a4192-e28a-4c56-9d9a-1e2f2a4bf60a
DTSTART:20270111T170000
DTEND:20270111T220000
DESCRIPTION:<p>Regular Meeting - Reorganization of the School Board</p><p><
 /p>
LOCATION:8020 River Stone Dr\, Fredericksburg\, VA 22407\, USA
SUMMARY:School Board Meeting
END:VEVENT
BEGIN:VEVENT
DTSTAMP:20260421T103034Z
UID:4aa4c9d1-813e-4161-908c-04d3f0a386bb
DTSTART:20270119T173000
DTEND:20270119T220000
DESCRIPTION:<p>Special Meeting - Superintendent Presents Recommended 2028 B
 udget to School Board</p><p>[No public comments at this meeting]</p><p></p
 >
LOCATION:8020 River Stone Dr\, Fredericksburg\, VA 22407\, USA
SUMMARY:School Board Meeting
END:VEVENT
BEGIN:VEVENT
DTSTAMP:20260421T103034Z
UID:5a350b6e-63bd-4be7-add8-a36f9ee0e6e4
DTSTART:20270125T173000
DTEND:20270125T220000
DESCRIPTION:<p>Work Session Meeting [No public comments at this meeting]</p
 ><p></p>
LOCATION:8020 River Stone Dr\, Fredericksburg\, VA 22407\, USA
SUMMARY:School Board Meeting
END:VEVENT
END:VCALENDAR
