BEGIN:VCALENDAR
VERSION:2.0
PRODID:icalendar-ruby
CALSCALE:GREGORIAN
BEGIN:VTIMEZONE
TZID:America/Chicago
BEGIN:DAYLIGHT
DTSTART:20260308T030000
TZOFFSETFROM:-0600
TZOFFSETTO:-0500
RRULE:FREQ=YEARLY;BYDAY=2SU;BYMONTH=3
TZNAME:CDT
END:DAYLIGHT
BEGIN:STANDARD
DTSTART:20261101T010000
TZOFFSETFROM:-0500
TZOFFSETTO:-0600
RRULE:FREQ=YEARLY;BYDAY=1SU;BYMONTH=11
TZNAME:CST
END:STANDARD
END:VTIMEZONE
BEGIN:VEVENT
DTSTAMP:20260420T002028Z
UID:d8be79a4-7044-472a-919b-3449bed7875d
DTSTART:20260419T080000
DTEND:20260419T090000
DESCRIPTION:<p>April 20th - 24th National Library Week</p>
LOCATION:
SUMMARY:April 20th - 24th National Library Week
END:VEVENT
BEGIN:VEVENT
DTSTAMP:20260420T002028Z
UID:21b34b69-6d37-46f2-b10b-2123205135b7
DTSTART:20260422T080000
DTEND:20260422T090000
DESCRIPTION:<p>Earth Day</p>
LOCATION:
SUMMARY:Earth Day
END:VEVENT
BEGIN:VEVENT
DTSTAMP:20260420T002028Z
UID:1b39ff29-29c8-4d7d-a8de-155fb8138a5d
DTSTART:20260425T080000
DTEND:20260425T090000
DESCRIPTION:<p>National Poetry Month</p>
LOCATION:
SUMMARY:National Poetry Month
END:VEVENT
BEGIN:VEVENT
DTSTAMP:20260420T002028Z
UID:c4358de2-9fdb-469f-8bed-deb1f903352f
DTSTART:20260501T080000
DTEND:20260501T090000
DESCRIPTION:<p>Happy Principal Appreciation Day</p>
LOCATION:
SUMMARY:Happy Principal Appreciation Day
END:VEVENT
BEGIN:VEVENT
DTSTAMP:20260420T002028Z
UID:77070bd5-84cd-4159-aa6b-42ff6ff59e21
DTSTART:20260503T080000
DTEND:20260503T090000
DESCRIPTION:<p>Happy Teacher Appreciation Week (May 4th - 8th)</p>
LOCATION:
SUMMARY:Happy Teacher Appreciation Week (May 4th - 8th)
END:VEVENT
BEGIN:VEVENT
DTSTAMP:20260420T002028Z
UID:78f4279d-9e9a-4210-ab6a-c2e7adc4981f
DTSTART:20260509T080000
DTEND:20260509T090000
DESCRIPTION:<p>Happy Teacher Appreciation Week (May 4th - 8th)</p>
LOCATION:
SUMMARY:Happy Teacher Appreciation Week (May 4th - 8th)
END:VEVENT
BEGIN:VEVENT
DTSTAMP:20260420T002028Z
UID:98e56bd7-4a3e-4094-805f-875efa24ed4f
DTSTART:20260510T080000
DTEND:20260510T090000
DESCRIPTION:<p>May 4th -  9th - National Nurses Week</p>
LOCATION:
SUMMARY:May 4th -  9th - National Nurses Week
END:VEVENT
BEGIN:VEVENT
DTSTAMP:20260420T002028Z
UID:84b18742-91d7-4500-ad21-9be2c3cc60e4
DTSTART:20260518T080000
DTEND:20260518T090000
DESCRIPTION:<p>Child Nutrition Employee Appreciation Week</p><p></p>
LOCATION:
SUMMARY:Child Nutrition Employee Appreciation Week
END:VEVENT
BEGIN:VEVENT
DTSTAMP:20260420T002028Z
UID:03029145-aba4-4c70-b493-c7759411a453
DTSTART:20260522T080000
DTEND:20260522T090000
DESCRIPTION:<p>Last Day of School</p>
LOCATION:
SUMMARY:Last Day of School
END:VEVENT
BEGIN:VEVENT
DTSTAMP:20260420T002028Z
UID:8026997f-90e4-41c3-8d24-84e6c02ed80c
DTSTART:20260525T080000
DTEND:20260525T090000
DESCRIPTION:<p>Teacher Work Day</p>
LOCATION:
SUMMARY:Teacher Work Day
END:VEVENT
BEGIN:VEVENT
DTSTAMP:20260420T002028Z
UID:446842d1-cea9-4c3a-89ed-3439397ee614
DTSTART:20260526T080000
DTEND:20260526T090000
DESCRIPTION:<p>Teacher Work Day</p>
LOCATION:
SUMMARY:Teacher Work Day
END:VEVENT
BEGIN:VEVENT
DTSTAMP:20260420T002028Z
UID:72b549b4-0b58-40e4-996c-7041407a64c2
DTSTART:20260527T080000
DTEND:20260527T090000
DESCRIPTION:<p>Staff Development Day</p>
LOCATION:
SUMMARY:Staff Development Day
END:VEVENT
BEGIN:VEVENT
DTSTAMP:20260420T002028Z
UID:8ff51002-0fb3-4faf-b3e7-0dbd5347cf4d
DTSTART:20260528T080000
DTEND:20260528T090000
DESCRIPTION:<p>Staff Development Day</p>
LOCATION:
SUMMARY:Staff Development Day
END:VEVENT
END:VCALENDAR
