BEGIN:VCALENDAR
VERSION:2.0
PRODID:icalendar-ruby
CALSCALE:GREGORIAN
BEGIN:VTIMEZONE
TZID:America/Chicago
BEGIN:DAYLIGHT
DTSTART:20260308T030000
TZOFFSETFROM:-0600
TZOFFSETTO:-0500
RRULE:FREQ=YEARLY;BYDAY=2SU;BYMONTH=3
TZNAME:CDT
END:DAYLIGHT
BEGIN:STANDARD
DTSTART:20261101T010000
TZOFFSETFROM:-0500
TZOFFSETTO:-0600
RRULE:FREQ=YEARLY;BYDAY=1SU;BYMONTH=11
TZNAME:CST
END:STANDARD
END:VTIMEZONE
BEGIN:VEVENT
DTSTAMP:20260419T215846Z
UID:15719721-dd46-47eb-ac56-d6623c28d6f3
DTSTART;VALUE=DATE:20260422
DTEND;VALUE=DATE:20260423
DESCRIPTION:
LOCATION:
SUMMARY:School Improvement Day - Early Dismissal
END:VEVENT
BEGIN:VEVENT
DTSTAMP:20260419T215846Z
UID:a34dbaf9-7a12-4c8f-b35e-69a912585635
DTSTART;VALUE=DATE:20260517
DTEND;VALUE=DATE:20260518
DESCRIPTION:
LOCATION:
SUMMARY:Tentative date for graduation
END:VEVENT
BEGIN:VEVENT
DTSTAMP:20260419T215846Z
UID:f152d739-d1e2-443b-8d93-089e5bca19d3
DTSTART;VALUE=DATE:20260522
DTEND;VALUE=DATE:20260523
DESCRIPTION:
LOCATION:
SUMMARY:School Improvement - Early Dismissal
END:VEVENT
BEGIN:VEVENT
DTSTAMP:20260419T215846Z
UID:dfc3bc7b-d844-46cc-81b2-b50a409e9713
DTSTART;VALUE=DATE:20260525
DTEND;VALUE=DATE:20260526
DESCRIPTION:
LOCATION:
SUMMARY:Memorial Day
END:VEVENT
BEGIN:VEVENT
DTSTAMP:20260419T215846Z
UID:848d4eed-9281-47d4-b447-6729cbbf3df3
DTSTART;VALUE=DATE:20260529
DTEND;VALUE=DATE:20260530
DESCRIPTION:
LOCATION:
SUMMARY:Last Day of Student Attendance- if no snow days used
END:VEVENT
END:VCALENDAR
