BEGIN:VCALENDAR
VERSION:2.0
PRODID:icalendar-ruby
CALSCALE:GREGORIAN
BEGIN:VTIMEZONE
TZID:America/New_York
BEGIN:DAYLIGHT
DTSTART:20260308T030000
TZOFFSETFROM:-0500
TZOFFSETTO:-0400
RRULE:FREQ=YEARLY;BYDAY=2SU;BYMONTH=3
TZNAME:EDT
END:DAYLIGHT
BEGIN:STANDARD
DTSTART:20261101T010000
TZOFFSETFROM:-0400
TZOFFSETTO:-0500
RRULE:FREQ=YEARLY;BYDAY=1SU;BYMONTH=11
TZNAME:EST
END:STANDARD
END:VTIMEZONE
BEGIN:VEVENT
DTSTAMP:20260420T120331Z
UID:ddadcee0-0c67-4fac-8376-36edcf922d92
DTSTART:20260420T190000
DTEND:20260420T200000
DESCRIPTION:
LOCATION:
SUMMARY:School Board Meeting
END:VEVENT
BEGIN:VEVENT
DTSTAMP:20260420T120331Z
UID:9c172fb1-0c23-43dd-ad6b-336bb67e8ecf
DTSTART:20260422T190000
DTEND:20260422T193000
DESCRIPTION:
LOCATION:Shelbyville High School\, 2003 S Miller St\, Shelbyville\, IN 4617
 6\, USA
SUMMARY:Spring Band Festival & Art Show
END:VEVENT
BEGIN:VEVENT
DTSTAMP:20260420T120331Z
UID:d9d274e0-3bb6-4ce2-86f7-aa38fb2304f9
DTSTART:20260429T180000
DTEND:20260429T190000
DESCRIPTION:
LOCATION:Shelbyville High School\, 2003 S Miller St\, Shelbyville\, IN 4617
 6\, USA
SUMMARY:SHS Underclass Awards Program
END:VEVENT
BEGIN:VEVENT
DTSTAMP:20260420T120331Z
UID:49c91976-c3e8-4c73-bc3f-1a442e1105e9
DTSTART:20260430T190000
DTEND:20260430T200000
DESCRIPTION:
LOCATION:Shelbyville High School\, 2003 S Miller St\, Shelbyville\, IN 4617
 6\, USA
SUMMARY:Jazz Band Concert
END:VEVENT
BEGIN:VEVENT
DTSTAMP:20260420T120331Z
UID:3bde6d23-caac-4c6f-9577-3683cef8fd55
DTSTART:20260502T160000
DTEND:20260502T170000
DESCRIPTION:
LOCATION:Shelbyville High School\, 2003 S Miller St\, Shelbyville\, IN 4617
 6\, USA
SUMMARY:Promenade
END:VEVENT
BEGIN:VEVENT
DTSTAMP:20260420T120331Z
UID:e9bc3e76-90e2-43a5-a436-c065042953de
DTSTART:20260502T190000
DTEND:20260502T200000
DESCRIPTION:
LOCATION:
SUMMARY:Prom
END:VEVENT
BEGIN:VEVENT
DTSTAMP:20260420T120331Z
UID:b549e32d-d07e-47a7-8be8-13b19ba97055
DTSTART:20260518T190000
DTEND:20260518T200000
DESCRIPTION:
LOCATION:
SUMMARY:School Board Meeting 
END:VEVENT
BEGIN:VEVENT
DTSTAMP:20260420T120331Z
UID:aa76afde-2cb4-4353-a881-c7b6859850a1
DTSTART;VALUE=DATE:20260522
DTEND;VALUE=DATE:20260523
DESCRIPTION:
LOCATION:
SUMMARY:End of Fourth Grading Period
END:VEVENT
BEGIN:VEVENT
DTSTAMP:20260420T120331Z
UID:6fde784b-d616-4a92-9037-670327fac23b
DTSTART;VALUE=DATE:20260522
DTEND;VALUE=DATE:20260523
DESCRIPTION:
LOCATION:
SUMMARY:Students Last Day
END:VEVENT
BEGIN:VEVENT
DTSTAMP:20260420T120331Z
UID:6604a0cd-d4ea-4cc5-8021-df06e90ef609
DTSTART:20260522T190000
DTEND:20260522T200000
DESCRIPTION:
LOCATION:
SUMMARY:SHS Graduation
END:VEVENT
BEGIN:VEVENT
DTSTAMP:20260420T120331Z
UID:55938d19-a123-4ac9-b2a9-218d2e8b44ee
DTSTART;VALUE=DATE:20260525
DTEND;VALUE=DATE:20260526
DESCRIPTION:
LOCATION:
SUMMARY:Memorial Day
END:VEVENT
BEGIN:VEVENT
DTSTAMP:20260420T120331Z
UID:beaec171-93b9-4c1e-aa09-8f3ab81fe8bb
DTSTART:20260615T190000
DTEND:20260615T200000
DESCRIPTION:
LOCATION:
SUMMARY:School Board Meeting
END:VEVENT
BEGIN:VEVENT
DTSTAMP:20260420T120331Z
UID:293e6be6-a7e8-4ffa-af33-3f7a202f4321
DTSTART:20260720T190000
DTEND:20260720T200000
DESCRIPTION:
LOCATION:
SUMMARY:School Board Meeting
END:VEVENT
BEGIN:VEVENT
DTSTAMP:20260420T120331Z
UID:c967c0b1-3a08-42af-91bf-3e6b57a35dd6
DTSTART;VALUE=DATE:20260805
DTEND;VALUE=DATE:20260806
DESCRIPTION:
LOCATION:
SUMMARY:Students First Day - No Preschool
END:VEVENT
BEGIN:VEVENT
DTSTAMP:20260420T120331Z
UID:1c22cc3f-497a-4c26-b724-6ce91d2dc448
DTSTART;VALUE=DATE:20260806
DTEND;VALUE=DATE:20260807
DESCRIPTION:
LOCATION:
SUMMARY:Preschool Full Day Students Start
END:VEVENT
BEGIN:VEVENT
DTSTAMP:20260420T120331Z
UID:1c41ae30-82a2-4779-9c62-137d4b0cdbff
DTSTART;VALUE=DATE:20260810
DTEND;VALUE=DATE:20260811
DESCRIPTION:
LOCATION:
SUMMARY:Preschool Half Day Students Start
END:VEVENT
BEGIN:VEVENT
DTSTAMP:20260420T120331Z
UID:b59593a6-db1f-4c6b-a9ff-a45ae0d54ca7
DTSTART:20260817T190000
DTEND:20260817T200000
DESCRIPTION:
LOCATION:
SUMMARY:School Board Meeting
END:VEVENT
BEGIN:VEVENT
DTSTAMP:20260420T120331Z
UID:4cd8ce1f-0923-4781-b5e4-cff438e73868
DTSTART;VALUE=DATE:20260907
DTEND;VALUE=DATE:20260908
DESCRIPTION:
LOCATION:
SUMMARY:Labor Day - No School 
END:VEVENT
BEGIN:VEVENT
DTSTAMP:20260420T120331Z
UID:77fa5270-dff3-4893-8b9b-e3be827ad91e
DTSTART:20260921T190000
DTEND:20260921T200000
DESCRIPTION:
LOCATION:
SUMMARY:School Board Meeting
END:VEVENT
BEGIN:VEVENT
DTSTAMP:20260420T120331Z
UID:17d41b82-aeca-4af5-90b9-967e8c21dc79
DTSTART;VALUE=DATE:20261001
DTEND;VALUE=DATE:20261002
DESCRIPTION:
LOCATION:
SUMMARY:End of First Grading Period 
END:VEVENT
BEGIN:VEVENT
DTSTAMP:20260420T120331Z
UID:0caa20f4-2970-4ebc-84e4-8098341da282
DTSTART:20261001T163000
DTEND:20261001T200000
DESCRIPTION:
LOCATION:
SUMMARY:Parent/Teacher Conferences
END:VEVENT
BEGIN:VEVENT
DTSTAMP:20260420T120331Z
UID:e16baabf-c56b-4f85-a00a-7e7e22638c9d
DTSTART:20261002T080000
DTEND:20261002T120000
DESCRIPTION:
LOCATION:
SUMMARY:Parent/Teacher Conferences - No Students
END:VEVENT
BEGIN:VEVENT
DTSTAMP:20260420T120331Z
UID:a573d16f-656e-4c01-a299-281dd13d2d62
DTSTART;VALUE=DATE:20261005
DTEND;VALUE=DATE:20261010
DESCRIPTION:
LOCATION:
SUMMARY:Fall Break - No School
END:VEVENT
BEGIN:VEVENT
DTSTAMP:20260420T120331Z
UID:5bf44ab9-d1e4-46e0-b613-b68ecda04c2c
DTSTART:20261019T190000
DTEND:20261019T200000
DESCRIPTION:
LOCATION:
SUMMARY:School Board Meeting
END:VEVENT
BEGIN:VEVENT
DTSTAMP:20260420T120331Z
UID:f159e08b-72f3-407d-bc14-5c18e986401a
DTSTART:20261116T190000
DTEND:20261116T200000
DESCRIPTION:
LOCATION:
SUMMARY:School Board Meeting
END:VEVENT
BEGIN:VEVENT
DTSTAMP:20260420T120331Z
UID:2364076c-dc1e-4b66-8570-16d5c97c1ba2
DTSTART;VALUE=DATE:20261125
DTEND;VALUE=DATE:20261128
DESCRIPTION:
LOCATION:
SUMMARY:Thanksgiving Break - No School 
END:VEVENT
BEGIN:VEVENT
DTSTAMP:20260420T120331Z
UID:bc9ecf0c-749b-45ce-8bd2-ce93b46e1936
DTSTART:20261214T190000
DTEND:20261214T200000
DESCRIPTION:
LOCATION:
SUMMARY:School Board Meeting
END:VEVENT
BEGIN:VEVENT
DTSTAMP:20260420T120331Z
UID:999ae3ec-eccf-4021-94f7-b0674cc91f00
DTSTART;VALUE=DATE:20261218
DTEND;VALUE=DATE:20261219
DESCRIPTION:
LOCATION:
SUMMARY:End of Second Grading Period
END:VEVENT
BEGIN:VEVENT
DTSTAMP:20260420T120331Z
UID:8be97c3d-34aa-49b9-b817-9e43f1ee6867
DTSTART;VALUE=DATE:20261221
DTEND;VALUE=DATE:20270105
DESCRIPTION:
LOCATION:
SUMMARY:Winter Break - No School
END:VEVENT
BEGIN:VEVENT
DTSTAMP:20260420T120331Z
UID:abbc7b7c-efba-4d8b-97f1-ad98f4db0b21
DTSTART;VALUE=DATE:20270105
DTEND;VALUE=DATE:20270106
DESCRIPTION:
LOCATION:
SUMMARY:School Resumes
END:VEVENT
BEGIN:VEVENT
DTSTAMP:20260420T120331Z
UID:255357a3-9a96-4796-ba34-ed34208c6a52
DTSTART:20270111T190000
DTEND:20270111T200000
DESCRIPTION:
LOCATION:
SUMMARY:School Board Meeting 
END:VEVENT
BEGIN:VEVENT
DTSTAMP:20260420T120331Z
UID:42cb5c74-c5cc-4fe2-ba2c-1965524dccd0
DTSTART;VALUE=DATE:20270118
DTEND;VALUE=DATE:20270119
DESCRIPTION:
LOCATION:
SUMMARY:Martin Luther King Day - No School * Possible Make-up Day*
END:VEVENT
BEGIN:VEVENT
DTSTAMP:20260420T120331Z
UID:8007bc78-3206-4530-924d-48a2eac0ed50
DTSTART;VALUE=DATE:20270305
DTEND;VALUE=DATE:20270306
DESCRIPTION:
LOCATION:
SUMMARY:End of Third Grading Period
END:VEVENT
BEGIN:VEVENT
DTSTAMP:20260420T120331Z
UID:f3c22762-2ab7-47f2-8832-52a74f3e4bbf
DTSTART;VALUE=DATE:20270312
DTEND;VALUE=DATE:20270313
DESCRIPTION:
LOCATION:
SUMMARY:No School - Possible Make-up Day 
END:VEVENT
BEGIN:VEVENT
DTSTAMP:20260420T120331Z
UID:2999ac6a-a6a3-4814-850c-031bf1a87765
DTSTART;VALUE=DATE:20270315
DTEND;VALUE=DATE:20270320
DESCRIPTION:
LOCATION:
SUMMARY:Spring Break - No School
END:VEVENT
END:VCALENDAR
